BEGIN:VCALENDAR
VERSION:2.0
PRODID:-//Ticketshop TIK Figuren- und Marionettentheater | Ensemble Schlösschen Borghees - ECPv6.15.20//NONSGML v1.0//EN
CALSCALE:GREGORIAN
METHOD:PUBLISH
X-WR-CALNAME:Ticketshop TIK Figuren- und Marionettentheater | Ensemble Schlösschen Borghees
X-ORIGINAL-URL:https://tik-emmerich.de
X-WR-CALDESC:Veranstaltungen für Ticketshop TIK Figuren- und Marionettentheater | Ensemble Schlösschen Borghees
REFRESH-INTERVAL;VALUE=DURATION:PT1H
X-Robots-Tag:noindex
X-PUBLISHED-TTL:PT1H
BEGIN:VTIMEZONE
TZID:Europe/Berlin
BEGIN:DAYLIGHT
TZOFFSETFROM:+0100
TZOFFSETTO:+0200
TZNAME:CEST
DTSTART:20250330T010000
END:DAYLIGHT
BEGIN:STANDARD
TZOFFSETFROM:+0200
TZOFFSETTO:+0100
TZNAME:CET
DTSTART:20251026T010000
END:STANDARD
BEGIN:DAYLIGHT
TZOFFSETFROM:+0100
TZOFFSETTO:+0200
TZNAME:CEST
DTSTART:20260329T010000
END:DAYLIGHT
BEGIN:STANDARD
TZOFFSETFROM:+0200
TZOFFSETTO:+0100
TZNAME:CET
DTSTART:20261025T010000
END:STANDARD
BEGIN:DAYLIGHT
TZOFFSETFROM:+0100
TZOFFSETTO:+0200
TZNAME:CEST
DTSTART:20270328T010000
END:DAYLIGHT
BEGIN:STANDARD
TZOFFSETFROM:+0200
TZOFFSETTO:+0100
TZNAME:CET
DTSTART:20271031T010000
END:STANDARD
END:VTIMEZONE
BEGIN:VEVENT
DTSTART;TZID=Europe/Berlin:20260424T160000
DTEND;TZID=Europe/Berlin:20260424T173000
DTSTAMP:20260424T132548
CREATED:20260305T182911Z
LAST-MODIFIED:20260305T182911Z
UID:10002061-1777046400-1777051800@tik-emmerich.de
SUMMARY:Brotbacken im Brotbackofen
DESCRIPTION:Brotbacken im Brotbackofen am Ensemble Schlösschen Borghees \nTaucht mit uns ein in die althergebrachte Kunst des Brotbackens und lasst euch von dem Duft frisch gebackener Brote verzaubern. In der malerischen Umgebung des Ensembles Schlösschen Borghees laden wir euch ein\, eure eigenen Brotkreationen im 2023 errichteten Brotbackofen zu backen. \nNeben dem besonderen Erlebnis des Brotbackens dürfen sich die Teilnehmenden vor Ort auf Kaltgetränke und nette Begegnungen freuen. \nUnd so funktioniert’s: \nDie Bäckerinnen und Bäcker bringen ihren vorbereiteten Teig (nicht mehr als 500 g) mit und backen ihn unter fachkundiger Anleitung von Stefan Hinderschied und Stefan Hoymann im Brotbackofen. Außer Schwarzbrot (andere Temperaturen und Garzeiten) sind alle Sorten Brot willkommen. \nWer kein eigenes Brotrezept kennt\, kann bei der Anmeldung per E-Mail ein Rezept für ein französisches Landbrot beim Ensemble-Team anfordern. \nFür diejenigen\, die nicht selber Brot backen möchten\, werden einige Brote zum Preis von 5\,00 € zum Verkauf angeboten. Pro „Backrunde“ können max. 12 Brote verarbeitet werden.\nTeilnahmebeitrag: auf Spendenbasis \nAnmeldung: bitte per E-Mail an info@tik-emmerich.de \nWir freuen uns auf euch! \nPS: An den Backtagen kann auch immer die Boulbahn genutzt werden
URL:https://tik-emmerich.de/event/brotbacken-im-brotbackofen-10/2026-04-24/
LOCATION:Ensemble Schlösschen Borghees\, Hüthumer Straße 180\, Emmerich am Rhein\, NRW\, 46446\, Deutschland
CATEGORIES:Veranstaltung (sonstige)
ATTACH;FMTTYPE=image/png:https://tik-emmerich.de/wp-content/uploads/2023/07/tik_va-brotbackofen-e1754052390247.png
ORGANIZER;CN="TIK am Ensemble Schl%C3%B6sschen Borghees":MAILTO:info@tik-emmerich.de
END:VEVENT
BEGIN:VEVENT
DTSTART;TZID=Europe/Berlin:20260424T190000
DTEND;TZID=Europe/Berlin:20260426T130000
DTSTAMP:20260424T132548
CREATED:20260113T092644Z
LAST-MODIFIED:20260113T134501Z
UID:10001257-1777057200-1777208400@tik-emmerich.de
SUMMARY:5 Killersongs in 3 Tagen  Gitarrenworkshop mit Peter Autschbach
DESCRIPTION:Gitarrenworkshop „5 Killersongs in 3 Tagen“ in Emmerich 24.04. bis 26.04.2026\n\nSpieler aller Stilistiken sind zu diesem Gitarren-Workshop ausdrücklich willkommen\, denn an diesem Wochenende steht der Spaß im Vordergrund! \n\nIn Emmerich am Rhein kommt das Thema „5 Killersongs in 3 Tagen“ an die Reihe! \nIm Workshop kommt das beliebte Thema „5 Killer-Songs in 3 Tagen“ an die Reihe. Jeder Hobby-Gitarrist sollte mindestens fünf bekannte Songs im Schlaf beherrschen. Es geht darum\, in einer Situation wie „hier ist eine Gitarre\, du kannst doch spielen\, also spiel mal was!“ nicht inhaltlich bankrott zu sein.\nWir werden an diesem Wochenende fünf Songs in verschiedenen Schwierigkeitsgraden so ins Langzeitgedächtnis einbrennen\, dass jeder Teilnehmer dieses Kurses auf seinem Spielniveau in der Lage sein wird\, mit diesen fünf Songs zu jeder Tages- oder Nachtzeit die Zuhörer zu begeistern. Fragen wie folgende werden dabei beantwortet: \n\nWas tun\, wenn ich selbst nicht singen kann oder mag?\nWie geht man mit einem Kapodaster um und wie findet man „seine Tonart“?\nWie lässt sich ein Song vereinfachen\, ohne ihn inhaltlich zu verarmen?\nWie kann ich Songs besonders interessant begleiten?\nWie gehen die Songs ganz genau\, wenn ich Wert auf Details lege?\nWie zum Kuckuck versetze ich mich in die Lage\, die Songs auch noch über die Rampe zu bringen\, wenn ich aufgeregt bin\, weil alle mich anstarren?\n\nDie fünf Songs werden erst verraten\, wenn der Workshop beginnt\, denn wir werden die Killer-Songs gemeinsam einstudieren und nach dem Wochenende entweder dauerhaft und sicher parat haben oder zumindest genau wissen\, was wir üben müssen\, um dahin zu kommen. Jede Menge Spaß ist dabei garantiert!\nVeranstaltungsort: Kulturscheune am Schlößchen Borghees\, Hüthumer Str. 180\, 46446 Emmerich \nTeilnahmebeitrag (ca. 16 Teilnehmer) für drei Tage Workshop (Fr 19 Uhr bis Sonntag 13 Uhr): EUR 200\,00. Angesprochen werden Teilnehmer jeglichen Kenntnisstands. Zeitplan der Veranstaltung: Freitag 19 Uhr bis 21.30\, Samstag 10.00 Uhr bis 13.00 Uhr und 15.00 bis 17.00 Uhr\, 18:00 Konzert mit Peter Autschbach\, Sonntag 10.00 bis 12:30 Uhr.\nMitbringen: E-Gitarre mit Übungsamp oder Akustikgitarre\, Plektren\, Ersatzsaiten\, Gitarrenständer\, Notenständer\, Schreibzeug. \nAnmelden kann man sich direkt bei Peter Autschbach peter@autschbach.de Tel.: 0171-5260260
URL:https://tik-emmerich.de/event/peter-autschbach-virtuose-gitarrenmusik-mit-fingerstyle-und-gesang/
LOCATION:Ensemble Schlösschen Borghees (Kulturscheune)\, Hüthumer Straße 180\, Emmerich am Rhein\, NRW\, 46446\, Deutschland
CATEGORIES:Veranstaltung (sonstige),Workshop
ATTACH;FMTTYPE=image/jpeg:https://tik-emmerich.de/wp-content/uploads/2025/01/Killersongs_800px.jpg
ORGANIZER;CN="TIK am Ensemble Schl%C3%B6sschen Borghees":MAILTO:info@tik-emmerich.de
END:VEVENT
END:VCALENDAR