BEGIN:VCALENDAR
VERSION:2.0
PRODID:-//Ticketshop TIK Figuren- und Marionettentheater | Ensemble Schlösschen Borghees - ECPv6.15.20//NONSGML v1.0//EN
CALSCALE:GREGORIAN
METHOD:PUBLISH
X-ORIGINAL-URL:https://tik-emmerich.de
X-WR-CALDESC:Veranstaltungen für Ticketshop TIK Figuren- und Marionettentheater | Ensemble Schlösschen Borghees
REFRESH-INTERVAL;VALUE=DURATION:PT1H
X-Robots-Tag:noindex
X-PUBLISHED-TTL:PT1H
BEGIN:VTIMEZONE
TZID:Europe/Berlin
BEGIN:DAYLIGHT
TZOFFSETFROM:+0100
TZOFFSETTO:+0200
TZNAME:CEST
DTSTART:20210328T010000
END:DAYLIGHT
BEGIN:STANDARD
TZOFFSETFROM:+0200
TZOFFSETTO:+0100
TZNAME:CET
DTSTART:20211031T010000
END:STANDARD
BEGIN:DAYLIGHT
TZOFFSETFROM:+0100
TZOFFSETTO:+0200
TZNAME:CEST
DTSTART:20220327T010000
END:DAYLIGHT
BEGIN:STANDARD
TZOFFSETFROM:+0200
TZOFFSETTO:+0100
TZNAME:CET
DTSTART:20221030T010000
END:STANDARD
BEGIN:DAYLIGHT
TZOFFSETFROM:+0100
TZOFFSETTO:+0200
TZNAME:CEST
DTSTART:20230326T010000
END:DAYLIGHT
BEGIN:STANDARD
TZOFFSETFROM:+0200
TZOFFSETTO:+0100
TZNAME:CET
DTSTART:20231029T010000
END:STANDARD
END:VTIMEZONE
BEGIN:VEVENT
DTSTART;TZID=Europe/Berlin:20220702T100000
DTEND;TZID=Europe/Berlin:20220702T160000
DTSTAMP:20260423T114501
CREATED:20211231T075507Z
LAST-MODIFIED:20220210T124303Z
UID:10000268-1656756000-1656777600@tik-emmerich.de
SUMMARY:FREIzeit schreiben
DESCRIPTION:Endlich wieder Sommer im WortgARTen! \nWörterspuren legen\, sich frei schreiben\, freie Zeit zum Schreiben nutzen. \nTagesworkshop (Sommerferien 2022) für alle \nTeilnahmebeitrag: 50\,00 € \nAuf Anfrage gibt es ein kleines Kontingent von Solidaritätsplätzen mit Zahlung nach Selbsteinschätzung. \nKeine Karten mehr verfügbar?\nBitte schicken Sie uns eine E-Mail an schmitz-gebel@zuwortkommen.com\, damit wir Ihnen einen Zusatztermin anbieten.
URL:https://tik-emmerich.de/event/freizeit-schreiben/
LOCATION:Ensemble Schlösschen Borghees\, Hüthumer Straße 180\, Emmerich am Rhein\, NRW\, 46446\, Deutschland
CATEGORIES:Workshop
ATTACH;FMTTYPE=image/jpeg:https://tik-emmerich.de/wp-content/uploads/2021/12/freizeitschreiben.jpg
ORGANIZER;CN="TIK am Ensemble Schl%C3%B6sschen Borghees":MAILTO:info@tik-emmerich.de
END:VEVENT
BEGIN:VEVENT
DTSTART;TZID=Europe/Berlin:20220703T100000
DTEND;TZID=Europe/Berlin:20220703T160000
DTSTAMP:20260423T114501
CREATED:20220511T063403Z
LAST-MODIFIED:20220511T063403Z
UID:10000293-1656842400-1656864000@tik-emmerich.de
SUMMARY:FREIzeit schreiben | Zusatztermin
DESCRIPTION:Endlich wieder Sommer im WortgARTen! \nWörterspuren legen\, sich frei schreiben\, freie Zeit zum Schreiben nutzen. \nTagesworkshop (Sommerferien 2022) für alle \nTeilnahmebeitrag: 50\,00 € \nAuf Anfrage gibt es ein kleines Kontingent von Solidaritätsplätzen mit Zahlung nach Selbsteinschätzung. \nKeine Karten mehr verfügbar?\nBitte schicken Sie uns eine E-Mail an schmitz-gebel@zuwortkommen.com\, damit wir Ihnen einen Zusatztermin anbieten.
URL:https://tik-emmerich.de/event/freizeit-schreiben-zusatztermin/
LOCATION:Ensemble Schlösschen Borghees\, Hüthumer Straße 180\, Emmerich am Rhein\, NRW\, 46446\, Deutschland
CATEGORIES:Workshop
ATTACH;FMTTYPE=image/jpeg:https://tik-emmerich.de/wp-content/uploads/2021/12/freizeitschreiben.jpg
ORGANIZER;CN="TIK am Ensemble Schl%C3%B6sschen Borghees":MAILTO:info@tik-emmerich.de
END:VEVENT
END:VCALENDAR