BEGIN:VCALENDAR
VERSION:2.0
PRODID:-//Ticketshop TIK Figuren- und Marionettentheater | Ensemble Schlösschen Borghees - ECPv6.15.20//NONSGML v1.0//EN
CALSCALE:GREGORIAN
METHOD:PUBLISH
X-WR-CALNAME:Ticketshop TIK Figuren- und Marionettentheater | Ensemble Schlösschen Borghees
X-ORIGINAL-URL:https://tik-emmerich.de
X-WR-CALDESC:Veranstaltungen für Ticketshop TIK Figuren- und Marionettentheater | Ensemble Schlösschen Borghees
REFRESH-INTERVAL;VALUE=DURATION:PT1H
X-Robots-Tag:noindex
X-PUBLISHED-TTL:PT1H
BEGIN:VTIMEZONE
TZID:Europe/Berlin
BEGIN:DAYLIGHT
TZOFFSETFROM:+0100
TZOFFSETTO:+0200
TZNAME:CEST
DTSTART:20210328T010000
END:DAYLIGHT
BEGIN:STANDARD
TZOFFSETFROM:+0200
TZOFFSETTO:+0100
TZNAME:CET
DTSTART:20211031T010000
END:STANDARD
BEGIN:DAYLIGHT
TZOFFSETFROM:+0100
TZOFFSETTO:+0200
TZNAME:CEST
DTSTART:20220327T010000
END:DAYLIGHT
BEGIN:STANDARD
TZOFFSETFROM:+0200
TZOFFSETTO:+0100
TZNAME:CET
DTSTART:20221030T010000
END:STANDARD
BEGIN:DAYLIGHT
TZOFFSETFROM:+0100
TZOFFSETTO:+0200
TZNAME:CEST
DTSTART:20230326T010000
END:DAYLIGHT
BEGIN:STANDARD
TZOFFSETFROM:+0200
TZOFFSETTO:+0100
TZNAME:CET
DTSTART:20231029T010000
END:STANDARD
END:VTIMEZONE
BEGIN:VEVENT
DTSTART;TZID=Europe/Berlin:20220902T193000
DTEND;TZID=Europe/Berlin:20220902T193000
DTSTAMP:20260421T110015
CREATED:20220716T141204Z
LAST-MODIFIED:20220825T151616Z
UID:10000299-1662147000-1662147000@tik-emmerich.de
SUMMARY:Karaoke für Stimmung & gute Laune
DESCRIPTION:Das TIK Theater Emmerich lädt bis zu 70 Besucherinnen und Besucher zu einer Karaoke-Party in die Kulturscheune am Ensemble Schlösschen Borghees ein. \nMotto des Abends: Man muss nicht singen können\, nur singen wollen! \nEine Karaoke-Party ist ein wahrer „Icebreaker“. Dabei kommt es nicht so sehr darauf an\, alle Töne richtig zu treffen. Im Vordergrund steht vielmehr die Freude daran\, einmal selbst im Rampenlicht zu stehen und das Publikum mit dem eigenen Lieblingssong zu begeistern. Ob als Star des Abends oder als Zuschauer Gast in geselliger Runde – hier kommt jeder auf seine Kosten. \nDabei ist das musikalische Repertoire groß – von Oldies bis hin zu den aktuellen Charts ist alles vertreten. Musikwünsche werden gerne erfüllt! \nDer Eintritt ist frei. Jugendliche bis 18 Jahren zahlen den halben Getränkepreis. \nHinweis: Am Schlösschen Borghees besteht die Möglichkeit\, auf der großen Wiese gegenüber der Reitanlage des Reitervereins van Lützow zu parken. Bitte Beschilderung beachten. Unser Tipp: Viele Wege führen zum Ensemble Schlösschen Borghees – die schönsten davon zu Fuß oder per Rad!
URL:https://tik-emmerich.de/event/karaoke-fuer-stimmung-gute-laune/
LOCATION:Ensemble Schlösschen Borghees (Kulturscheune)\, Hüthumer Straße 180\, Emmerich am Rhein\, NRW\, 46446\, Deutschland
CATEGORIES:Veranstaltung (sonstige)
ATTACH;FMTTYPE=image/png:https://tik-emmerich.de/wp-content/uploads/2022/07/tik_va_karaoke.png
ORGANIZER;CN="TIK am Ensemble Schl%C3%B6sschen Borghees":MAILTO:info@tik-emmerich.de
END:VEVENT
BEGIN:VEVENT
DTSTART;TZID=Europe/Berlin:20220908T173000
DTEND;TZID=Europe/Berlin:20220908T200000
DTSTAMP:20260421T110015
CREATED:20220717T114411Z
LAST-MODIFIED:20220801T134136Z
UID:10000318-1662658200-1662667200@tik-emmerich.de
SUMMARY:Pottpourri - Kräuterküche der Kulturen
DESCRIPTION:Kulinarischer Austausch \nWas kann ein Küchenkraut von der eigenen Kultur erzählen? Oder das Gemüse über die Geschichte einer Region? Wie schmeckt eigentlich Heimat? \nJede Region dieser Erde hat ihre typischen Zubereitungsweisen\, Gewürze und Zutaten. Sie sind geprägt durch klimatische und landschaftliche Besonderheiten\, durch kulturgeschichtliche Hintergründe\, wie auch ganz persönlichen Erfahrungen – die Festspeise an bestimmten Feiertagen\, die Fruchtzubereitung zu besonderen Anlässen\, oder auch die Zutat die zu keiner Speise fehlen darf. So steckt in jedem traditionellem Kochtopf immer auch ein Stück Heimat. \nJeder ‚Pottpourri-Abend‘ bereist eine bestimmte Region. Wir bereiten gemeinsam eine typische Speise einer Region\, eines Landes\, eines Kontinents\, tauschen uns aus\, und lauschen den Geschichten rund ums ‚Gemüse‘. Diesmal führt unsere Reise in die traditionelle Küche Pakistans. \nTeilnahmebeitrag: Spende nach Selbsteinschätzung\nmaximal 10 Teilnehmer \nAnmeldung: per E-Mail an buchung@ensemble-schloesschen-borghees.de \nWeitere Informationen: \nBirga Meyer\, Heilpraktikerin\nT: 02822-9767777\nE: info@naturheilpraxis-birgameyer.de
URL:https://tik-emmerich.de/event/pottpourri-kraeuterkueche-der-kulturen-2/
LOCATION:Ensemble Schlösschen Borghees\, Hüthumer Straße 180\, Emmerich am Rhein\, NRW\, 46446\, Deutschland
CATEGORIES:Workshop
ATTACH;FMTTYPE=image/jpeg:https://tik-emmerich.de/wp-content/uploads/2022/07/pottpourri-0809.jpg
ORGANIZER;CN="TIK am Ensemble Schl%C3%B6sschen Borghees":MAILTO:info@tik-emmerich.de
END:VEVENT
BEGIN:VEVENT
DTSTART;TZID=Europe/Berlin:20220910T200000
DTEND;TZID=Europe/Berlin:20220910T200000
DTSTAMP:20260421T110015
CREATED:20220716T142002Z
LAST-MODIFIED:20220830T141926Z
UID:10000300-1662840000-1662840000@tik-emmerich.de
SUMMARY:Birds on Strings
DESCRIPTION:Figurentheater für Erwachsene \n„Birds on Strings“ verbindet Figurentheater und Musik\, Literatur und bildende Kunst: eine Suite aus Begegnungen zwischen Vogelgestalten und einem Cello – halb szenisches Spiel\, halb musikalisch-rhythmische Improvisation. \nSkurrile Vogelfiguren aus dem Atelier von Stephan Wunsch treffen auf das anarchische Cello von Soraya Ansari. Die Figur wird zum Instrument\, das Cello wird zum Wesen und animiert die Vögel: lockt\, irritiert und scheucht sie\, bis sie sich auf gemeinsame Improvisationen einlassen; die Vögel aber behandeln das seltsame Geschöpf wie ihresgleichen und lassen das Cello seine animalische Seite ausleben. \nMitwirkende\nCello und Stimme: Soraya Ansari\nFigurenbau & -spiel: Stephan Wunsch\noeil extérieur: Annalisa Derossi\nBühnenbild: Céline Leuchter\nKostüme: Petra Kather\nKonzeption: Stephan und Vera Wunsch \nFörderung & Unterstützung:\nFonds Darstellende Künste \, Berlin\nKulturbetrieb der Stadt Aachen\nSTAWAG Stadtwerke Aachen \ntheater rosenfisch macht Theater mit Figuren – für Kinder und für Erwachsene.\nDie Kunst des Figurentheaters ist in allen Kulturen der Welt verwurzelt und doch immer neu und überraschend. Schauspiel\, Musik\, Bildende Künste: Figurentheater geht an alle Grenzen.\nIm Zentrum unserer Inszenierungen steht jedoch immer die animierte Figur. \nStephan Wunsch\nPuppenspieler\, Figurenbildner\, Regisseur\, studierte Philosophie und Germanistik in Aachen. Er belegte Seminare in Figurenspiel und Figurenbau auf Hof Lebherz. 2003 gründete er die Bühne theater rosenfisch. Seitdem zahlreiche Inszenierungen für Kinder und Erwachsene; außerdem Regiearbeiten\, Figurenbau und Bühnenmusik für andere Bühnen.\nMitarbeit in der Redaktion von ‚Das andere Theater‘. Kurator in der Jury des Fonds Darstellende Künste (Berlin).
URL:https://tik-emmerich.de/event/birds-on-strings/
LOCATION:Ensemble Schlösschen Borghees (Kulturscheune)\, Hüthumer Straße 180\, Emmerich am Rhein\, NRW\, 46446\, Deutschland
CATEGORIES:Figurentheater (Erwachsene)
ATTACH;FMTTYPE=image/jpeg:https://tik-emmerich.de/wp-content/uploads/2022/07/archaeopteryx_Soraya_GretaArntz-145.jpg
ORGANIZER;CN="TIK am Ensemble Schl%C3%B6sschen Borghees":MAILTO:info@tik-emmerich.de
END:VEVENT
BEGIN:VEVENT
DTSTART;TZID=Europe/Berlin:20220911T110000
DTEND;TZID=Europe/Berlin:20220911T130000
DTSTAMP:20260421T110015
CREATED:20220903T161608Z
LAST-MODIFIED:20220903T161608Z
UID:10000334-1662894000-1662901200@tik-emmerich.de
SUMMARY:German People
DESCRIPTION:Der Fotograf und Rezitator Oliver Steller zeigt in der Kulturscheune und im Café am Ensemble Schlösschen Borghees Porträts und andere Arbeiten. Die Ausstellung „German People“ startet mit einer Vernissage am Sonntag\, 11. September 2022 von 11.00 bis 13.00 Uhr. \nDer erste Porträtierte innerhalb der „German People“-Reihe war sein Sohn Leander. Die Reaktion: „Ah\, ein Mexikaner“. Wenige Tage später fotografiert Oliver Steller die Krankenschwester Julie. Einstimmige Reaktion: „Klar\, Afrikanerin!“. Stimmt aber nicht: Julie kommt aus Waldsee bei Speyer. \nWie sehen deutsche Menschen aus? Und: Spielt das überhaupt eine Rolle? Oliver Stellers Porträts gehen über die Frage hinaus. Sie zeigen Künstler:innen\, Jugendliche\, Lehrer:innen\, Krankenschwestern\, Fotograf:innen und Arbeitslose. Seine Portraits zeichnen sich aus durch hochgradige technische Präzision und ausgewogene Kompositionen. \nAm Tag der Vernissage portraitiert Oliver Steller jede und jeden\, der Lust hat\, sich fotografieren zu lassen. \nDer Eintritt ist frei.\nUm Anmeldung für die Porträt-Termine (jeweils zur vollen und zu halben Stunde) wird gebeten\, gerne per E-Mail an buchung@ensemble-schloesschen-borghees.de \nDie Ausstellung „German People“ kann bis Ende Oktober besichtigt werden\, jeweils zu den Veranstaltungen in der Kulturscheune am Ensemble Schlösschen Borghees oder auf Anfrage. \nHinweis: Am Schlösschen Borghees besteht die Möglichkeit\, auf der großen Wiese gegenüber der Reitanlage des Reitervereins van Lützow zu parken. Bitte Beschilderung beachten. Unser Tipp: Viele Wege führen zum Ensemble Schlösschen Borghees – die schönsten davon zu Fuß oder per Rad! 
URL:https://tik-emmerich.de/event/german-people/
LOCATION:Ensemble Schlösschen Borghees\, Hüthumer Straße 180\, Emmerich am Rhein\, NRW\, 46446\, Deutschland
CATEGORIES:Veranstaltung (sonstige)
ATTACH;FMTTYPE=image/jpeg:https://tik-emmerich.de/wp-content/uploads/2022/09/germanpeople.jpg
ORGANIZER;CN="TIK am Ensemble Schl%C3%B6sschen Borghees":MAILTO:info@tik-emmerich.de
END:VEVENT
BEGIN:VEVENT
DTSTART;TZID=Europe/Berlin:20220911T150000
DTEND;TZID=Europe/Berlin:20220911T170000
DTSTAMP:20260421T110015
CREATED:20220716T143103Z
LAST-MODIFIED:20220716T143112Z
UID:10000301-1662908400-1662915600@tik-emmerich.de
SUMMARY:Utz\, der Unglücksritter
DESCRIPTION:Figurentheater für Kinder (Tearticolo) \nEine echte Rittergeschichte mit Marionetten\, Musik\, Metall und viel Geschepper\, gespielt auf einer alten Nähmaschine. \nEin kleiner Ausflug ins Mittelalter\, in die Zeit der starken\, mutigen Ritter\, die in prunkvollen Burgen wohnten\, an festlichen Tafeln speisten\, Drachen besiegten\, Prinzessinnen befreiten und aus jedem Kampf siegreich hervorgingen. \nUtz war anders: Ein kleiner armer Ritter in einer viel zu großen Rüstung\, der nichts besaß außer seiner Hängematte und seinem treuen Pferd Rosswitha. Eines Tages beschließt er in die Welt zu ziehen\, um vielleicht doch irgendwo ein wenig Glück zu finden. Aber das Pech scheint ihm an den Füßen zu kleben. Selbst als er es schafft\, einen prächtigen Goldschatz zu finden\, währt seine Freude nur kurz\, denn damals waren die Wälder voll mit gefährlichen Raubrittern und gefräßigen Drachen … \nUnd obwohl für Utz alles schiefgeht\, stürzt er sich immer wieder\, trotzig und unbeirrbar\, in das nächste Abenteuer – in das nächste Unglück. Wie er trotzdem alles erreicht\, wovon er geträumt hat\, und wie er lernt\, dass das Glück manchmal ganz anders aussieht\, als man es erwartet\, davon handelt diese Geschichte. \nFigurentheater mit einfachsten Mitteln \nLustvoll wird hier nicht nur mit Marionetten gespielt\, sondern auch mit allerhand Küchengeräten. Da werden Teesiebe und Kuchengabeln zu Riesenmücken\, Trichter zu Fanfaren und eine  Kartoffelpresse zum gefährlichen Drachen Güldenzahn. \nAuch der alte Nähmaschinentisch hat es in sich. Er knarzt und ächzt wenn sich die Rückwände als Burgtor öffnen\, sich zum Schlossturm ausklappen oder wenn Utz und Rosswitha klappernd im mechanischen Hufschlagtakt zu reiten beginnen. \nLive untermalt wird das Ganze mit den unterschiedlichsten Instrumenten\, wie Kazoo\, Mundharmonika\, Schellen\, Rasseln\, Lockpfeifen\, Kastagnetten und einem Dudelsack. \nEin Spaß für die ganze Familie. \nGefördert durch:\n \n»Teatro«\, »Arte«\, »Piccolo«\, absurde »Articoli« und ein kleiner »tic«\nEin Figurentheater\, eigentlich aus Bremen\, aber auch aus der Toskana und jetzt in Klotten an der Mosel. Theaterstücke für Kinder und für alle\, die mal Kinder waren und das noch nicht vergessen haben. Ein mobiles »Ein-Personen-viele-Figuren-Theater« mit einem vielfältigen Repertoire von Kinderstücken für die ganz Kleinen und die etwas Größeren. \nDahinter verbirgt sich Matthias Träger\, freiberuflicher Puppenspieler und Figurenbildner seit 1985\, über Bremen\, Paris\, Perugia jetzt in der alten HIFA-Strickwarenfabrik in Klotten/Mosel gelandet und mit seiner mobilen Bühne überall unterwegs\, wo es eine Steckdose und ein Publikum gibt.
URL:https://tik-emmerich.de/event/utz-der-ungluecksritter/
LOCATION:Ensemble Schlösschen Borghees (Kulturscheune)\, Hüthumer Straße 180\, Emmerich am Rhein\, NRW\, 46446\, Deutschland
CATEGORIES:Figurentheater (Kinder)
ATTACH;FMTTYPE=image/jpeg:https://tik-emmerich.de/wp-content/uploads/2022/07/tearticolo_utz_03.jpg
ORGANIZER;CN="TIK am Ensemble Schl%C3%B6sschen Borghees":MAILTO:info@tik-emmerich.de
END:VEVENT
BEGIN:VEVENT
DTSTART;TZID=Europe/Berlin:20220915T093000
DTEND;TZID=Europe/Berlin:20220915T123000
DTSTAMP:20260421T110015
CREATED:20220717T115132Z
LAST-MODIFIED:20220911T091439Z
UID:10000320-1663234200-1663245000@tik-emmerich.de
SUMMARY:Happy Painting – Kreativworkshop
DESCRIPTION:In vier Schritten zu deinem Kunstwerk! \nMit Happy Painting! entdeckst du auf spielerische Art deine Kreativität (wieder) neu.\nIn diesem Grundlagen-Workshop zeige ich dir\, wie du mit der Happy Painting! Methode mit viel Leichtigkeit verschiedenste Motive aufs Blatt zauberst. \nLass dich überraschen\, welche Ideen\, Formen und Kunstwerke dabei mit Aquarellfarben\, Farbstiften\, Finelinern und mehr entstehen dürfen! \nDas bekommst du:\n– eine kreative Auszeit von ca. 2\,5-3 Stunden in entspannter Atmosphäre\n– sämtliches benötigtes Material (das bringe ich mit) \nDas bringst du mit:\n– Spaß daran\, mit Leichtigkeit etwas völlig Neues auszuprobieren\n– Lust auf Farbe 🙂 \nDieser ca. 2\,5- bis 3-stündige Kurs ist für 4-6 Teilnehmer:innen ausgelegt. \nKosten: 59\,00 € pro Person (inkl. aller Materialkosten) \nWeitere Informationen unter happypainting-niederrhein.de
URL:https://tik-emmerich.de/event/happy-painting-kreativworkshop/
LOCATION:Ensemble Schlösschen Borghees (Café)\, Hüthumer Straße 180\, Emmerich am Rhein\, NRW\, 46446\, Deutschland
CATEGORIES:Workshop
ATTACH;FMTTYPE=image/png:https://tik-emmerich.de/wp-content/uploads/2021/12/happy-basics-ohne-datum1.png
ORGANIZER;CN="TIK am Ensemble Schl%C3%B6sschen Borghees":MAILTO:info@tik-emmerich.de
END:VEVENT
BEGIN:VEVENT
DTSTART;TZID=Europe/Berlin:20220916T193000
DTEND;TZID=Europe/Berlin:20220916T193000
DTSTAMP:20260421T110015
CREATED:20220716T143528Z
LAST-MODIFIED:20220716T143540Z
UID:10000302-1663356600-1663356600@tik-emmerich.de
SUMMARY:Fiktion\, Funktion\, Fuck ... es reicht nie!
DESCRIPTION:Die Schauspielgruppe „Junges Theater – Grenztheater“ zeigt ihr aktuelles Stück in der Kulturscheune am Ensemble Schlösschen Borghees. \nUnser Leben mit mir und den anderen: Da sind die Gesellschaft\, die digitalen Herausforderungen. Unser Leben mit uns: Wer sind wir? Was macht unser Leben bunt\, reich\, lustig\, lebendig und wertvoll? Wie sehr muss ich mich verbiegen\, um dazuzugehören? Muss ich das überhaupt? Gibt unsere Social-Media-Welt den „echten“ Menschen wieder? Wie stelle ich mich dem immerwährenden Druck? Entsteht er durch andere – oder sorge ich selbst dafür? \nWir haben uns Fragen gestellt: Wie weit würde ich gehen\, um einem Idol zu gefallen oder – noch besser – bemerkt zu werden? Darf ich aus dieser Gesellschaft ein Stück heraustreten\, ohne selbst getreten zu werden? Hilft uns professionelle Hilfe auf unserer Reise zu uns selbst weiter? \nEntstanden ist eine Collage aus verschiedenen Szenen\, die spannende Fragen aufwerfen – oder Antworten bieten. \nDie Schauspielgruppe „Junges Theater – Grenztheater“ besteht seit 2015. Jugendliche im Alter von 16-23 Jahren erarbeiten jährlich unter der Leitung von Judith Hoymann und Sandra Heinzel ein Theaterstück. Die aktuell elf jungen Menschen bringen mit ihrer Szenen-Collage einmal mehr ein außergewöhnliches Werk auf die Bühne der Kulturscheune am Ensemble Schlösschen Borghees.
URL:https://tik-emmerich.de/event/fiktion-funktion-fuck-es-reicht-nie/
LOCATION:Ensemble Schlösschen Borghees (Kulturscheune)\, Hüthumer Straße 180\, Emmerich am Rhein\, NRW\, 46446\, Deutschland
CATEGORIES:Grenztheater "Junge Erwachsene"
ATTACH;FMTTYPE=image/jpeg:https://tik-emmerich.de/wp-content/uploads/2021/12/WhatsApp-Image-2022-03-03-at-22.34.20.jpeg
ORGANIZER;CN="TIK am Ensemble Schl%C3%B6sschen Borghees":MAILTO:info@tik-emmerich.de
END:VEVENT
BEGIN:VEVENT
DTSTART;TZID=Europe/Berlin:20220924T110000
DTEND;TZID=Europe/Berlin:20220924T140000
DTSTAMP:20260421T110015
CREATED:20220717T114845Z
LAST-MODIFIED:20220923T152506Z
UID:10000319-1664017200-1664028000@tik-emmerich.de
SUMMARY:Heilpflanzen zur Erkältungszeit
DESCRIPTION:Kräuterwerkstatt \nWinterzeit ist Erkältungszeit. Wie können wir vorbeugen oder bei einem Infekt unser Immunsystem wirksam unterstützen? In diesem Workshop werden pflanzliche Heilmittel wie eine Teerezeptur\, Tinktur oder Hustensirup hergestellt\, die unsere Hausapotheke bereichern können. Dabei werden Heilpflanzen und ihre jeweilige Wirkung und Anwendung vorgestellt. Bei einem Rundgang durch Catharinas Garten lernen wir beliebte Heilkräuter zur Erkältungszeit kennen die direkt vor unserer Haustüre wachsen. Bitte 2 kleine Schraubgläser mitbringen. \nTeilnahmebeitrag:\nErwachsene: 25\,- / Jugendliche: 12\,- (inkl. Materialkosten)\nAuf Anfrage steht ein kleines Kontingent für einen ermäßigten Beitrag nach Selbsteinschätzung zur Verfügung. \nmax. 10 TN \nWeitere Informationen:\nBirga Meyer\, Heilpraktikerin\nT: 02822-9767777\nE: info@naturheilpraxis-birgameyer.de
URL:https://tik-emmerich.de/event/heilpflanzen-zur-erkaeltungszeit/
LOCATION:Ensemble Schlösschen Borghees\, Hüthumer Straße 180\, Emmerich am Rhein\, NRW\, 46446\, Deutschland
CATEGORIES:Workshop
ATTACH;FMTTYPE=image/jpeg:https://tik-emmerich.de/wp-content/uploads/2021/05/heilpflanzen.jpg
ORGANIZER;CN="TIK am Ensemble Schl%C3%B6sschen Borghees":MAILTO:info@tik-emmerich.de
END:VEVENT
BEGIN:VEVENT
DTSTART;TZID=Europe/Berlin:20220924T190000
DTEND;TZID=Europe/Berlin:20220924T190000
DTSTAMP:20260421T110015
CREATED:20220716T144437Z
LAST-MODIFIED:20220916T114107Z
UID:10000303-1664046000-1664046000@tik-emmerich.de
SUMMARY:Kulinarik trifft Gesang
DESCRIPTION:Musikalischer Tapas-Abend \nEs erwartet sie ein Abend mit köstlichem Fingerfood und zwei jungen Sängerinnen\, die ein buntes Potpourri im Gepäck haben \nBirte Schumann und Julia (JJ) Josten\, zwei kraftvolle Sängerinnen\, führen mit ihrem Programm durch die besten Songs der letzten Jahrzehnte. „Musik hat mich auf allen Wegen meines Lebens begleitet“\, sagt Julia Josten. „Von klein an ist sie meine größte Liebe.“ Und Birte Schumann ergänzt: „Musik verstärkt Emotionen\, verbindet Menschen\, hilft durch schlechte Zeiten und macht die guten noch besser.“ Ob als Solosängerinnen oder im Duett – lassen Sie sich von diesen besonderen Stimmen beeindrucken. \nNeben dem musikalischen Programm serviert das TIK Theater an diesem Abend ausgewählte Tapas-Spezialitäten. Diese „Mini-Gerichte“ werden gerne zu Wein oder Bier serviert und dürfen in keiner spanischen Bar fehlen. Tapas sind in unzähligen Variationen erhältlich\, eines jedoch haben sie alle gemeinsam: Sie werden stets mit frischen Zutaten zubereitet. \nEintritt: 30\,00 €/Person (inkl. Tapas\, zzgl. Getränke)
URL:https://tik-emmerich.de/event/kulinarik-trifft-gesang/
LOCATION:Ensemble Schlösschen Borghees (Kulturscheune)\, Hüthumer Straße 180\, Emmerich am Rhein\, NRW\, 46446\, Deutschland
CATEGORIES:Veranstaltung (sonstige)
ATTACH;FMTTYPE=image/png:https://tik-emmerich.de/wp-content/uploads/2022/07/tik_va_ktg.png
ORGANIZER;CN="TIK am Ensemble Schl%C3%B6sschen Borghees":MAILTO:info@tik-emmerich.de
END:VEVENT
BEGIN:VEVENT
DTSTART;TZID=Europe/Berlin:20220925T140000
DTEND;TZID=Europe/Berlin:20220925T190000
DTSTAMP:20260421T110015
CREATED:20220716T144918Z
LAST-MODIFIED:20220921T090525Z
UID:10000304-1664114400-1664132400@tik-emmerich.de
SUMMARY:Tag für den Frieden – Day for Peace 2022
DESCRIPTION:Von 14.00–19.00 Uhr treffen sich zum bereits fünften Mal kleine und große Menschen verschiedenster Kulturen zum Festival „Tag für den Frieden – Day for Peace“ am Ensemble Schlösschen Borghees. Erstmals dürfen wir auch die Integrationsräte der Städte Emmerich am Rhein und Kleve bei unserem beliebten Festival für den Frieden begrüßen. Wir freuen uns auf die Begegnung mit „alten Bekannten“ und neuen Gesichtern! \nAuch der Tag für den Frieden 2022 hat wieder einiges zu bieten: Neben Köstlichkeiten aus aller Herren Länder und der Musik unterschiedlicher Kulturen warten Angebote für Klein und Groß auf euch – zum Mitmachen\, Selbermachen\, Ausprobieren\, aktiv sein! \nWir setzen Zeichen für den Frieden\nUnter Anleitung der Literaturwissenschaftlerin Renate Schmitz-Gebel werden um 15.00 Uhr und 16.00 Uhr „Herzelfchen“ zum Thema Frieden geschrieben. Darin könnt ihr eure Wünsche\, euren Beitrag usw. zum Frieden  zum Ausdruck bringen und anschließend in einem der Bäume rund ums Ensemble Schlösschen Borghees aufhängen. \nWaldbaden Emmerich: Waldbaden + Achtsamkeit\nDie zertifizierte Kursleiterin Rita Hübers bietet „Waldbaden“ im Borgheeser Wald an. Um 14.30 Uhr ermöglicht sie euch das Eintauchen in die Waldatmosphäre und das achtsame Wahrnehmen mit allen Sinnen. Eine Naturerfahrung auf besondere und erlebnisreiche Art. Aus den Naturmaterialien\, die dabei eingesammelt werden\, entstehen anschließend unter Anleitung von Sandra Heinzel vom TIK Theater kleine Windspiele. \nMitmachangebot: Glassteine hinterkleben\nChristiane Kirch freut sich darauf\, gemeinsam mit euch Glassteine mit kleinen Bildern (z. B. Comic-Motive) zu hinterkleben. Die Steine werden anschließend mit Magneten versehen und können so zum Beispiel am Kühlschrank oder am Memoboard angebracht werden. \nMit Qi Gong die Lebensenergie aktivieren\nQi Gong (Chi Gong) bedeutet so viel wie Arbeit am Qi – der Lebensenergie – und zählt zu den vier großen Teilgebieten der Traditionellen Chinesischen Medizin. Gemeinsam mit Sofie Sengers könnt ihr um 16.45 Uhr im Garten hinter dem Schlösschen Borghees diese Jahrtausende alte Tradition selbst kennenlernen. \nWIEDER DABEI: Chinesische Kalligrafie\n2021 hat es leider zeitlich nicht geklappt. Umso schöner\, dass Xing Xie in diesem Jahr wieder dabei ist! Mit ihrer chinesischen Kalligrafiekunst zauberte sie sich schon 2019 in die Herzen der Teilnehmerinnen und Teilnehmer. Nutzt die wunderbare Gelegenheit und freut euch auf euren Namen oder euer Lieblingswort\, kunstvoll in chinesischen Schriftzeichen dargestellt! \nNEU beim Day for Peace: Flauschalarm!\nClaudia und Uwe Duesing leben mit ihren Alpakas\, Hunden und Pferden auf einem Bauernhof im beschaulichen Anholt. Seit 2012 widmen sie sich der Alpakazucht – die Herde ist inzwischen auf mehr als 50 Tiere angewachsen. Beim Tag für den Frieden 2022 sorgt Uwe Duesing mit einigen seiner Alpakas für den Flauschfaktor … natürlich könnt ihr auch verschiedene Produkte aus Alpaka-Wolle kaufen. \nImagine …\nEin „Tag für den Frieden“ wäre ohne Musik gar nicht vorstellbar. Im musikalischen Bühnenprogramm ist für jeden Geschmack etwas dabei: Das Akustik-Gitarrenduo ZENDO eröffnet das Programm auf der Open Air-Bühne. Ulrich Kremer und Wolfgang Lohmüller spielen Bekanntes und Vergessenes von John Lennon über Pink Floyd bis hin zu Fury in The Slaughterhouse. Die Castle Singers entführen euch auf eine musikalische Reise von moderner englischer Chormusik bis hin zu Poparrangements für vierstimmigen Chor. Mit Katrin Elsmann (Schlager)\, Birte Schumann (Musical) und JJ (moderne Popsongs) begeistern drei Sängerinnen mit einem Querschnitt ihres musikalischen Könnens. Gespannt dürft ihr auch einmal mehr darauf sein\, mit welchem musikalischen Beitrag Thomas Ruffmann das diesjährige Friedens-Festival bereichern wird. So viel sei verraten: Neben Thomas‘ Geige wird auch die Oud\, eine arabische Kurzhalslaute\, gespielt von Mohamad AlTenawi\, erklingen. Zusammen sind die beiden das Duo Morgenland. Das musikalische Bühnenprogramm wird von einem Sing-along unter Leitung von Cornelia Burgers abgerundet. \nChill-out mit Kräuterrätsel\nIn Catharinas KulturgARTen am Ensemble Schlösschen Borghees bietet Heilpraktikerin Birga Meyer eine Chill-out-Lounge im neu gestalteten Kräutergarten an. Hier könnt ihr bei ruhiger Loungemusik verweilen\, entspannen und euer Wissen rund um die Welt der Kräuter bei einem Kräuterrätsel auf die Probe stellen. \nMit allen Sinnen genießen\nAm 25. September bleibt die Küche zu Hause kalt: Ihr mögt exotische Gewürze und außergewöhnliche Gerichte\, probiert gerne Neues aus und habt Lust darauf\, euch einmal um die Welt zu futtern? Dann seid ihr beim Tag für den Frieden goldrichtig aufgehoben. An den Marktständen der Bioland-Gärtnerei Voorthuysen bietet das Team um Walli und Anne Boß Köstlichkeiten aus aller Welt an. Gemeinsam mit geflüchteten Frauen wird hier im Form von „Live Cooking“ Köstlichkeiten aus deren Heimatländern\, vom nördlichen Afrika bis in den Mittleren Osten\, gereicht. Der Förderverein Schlösschen Borghees bietet darüber hinaus Getränke und selbst gebackene Kuchenspezialitäten zum Verkauf an. \nGemeinsam mit allen Aktiven\, den Sponsoren Sparkasse Rhein-Maas\, AV Medienwerkstatt und co-works sowie dem Förderverein Schlösschen Borghees e.V. als Ausrichter freut sich das Projektteam „Tag für den Frieden – Day for Peace“ auf Ideen\, Klänge\, Gespräche und Begegnungen\, die uns gemeinsam ein Stück weiterbringen. Ein kleines Stück weiter auf dem Weg zum Frieden. \n           
URL:https://tik-emmerich.de/event/tag-fuer-den-frieden-day-for-peace-2022/
LOCATION:Ensemble Schlösschen Borghees\, Hüthumer Straße 180\, Emmerich am Rhein\, NRW\, 46446\, Deutschland
CATEGORIES:Veranstaltung (sonstige)
ATTACH;FMTTYPE=image/jpeg:https://tik-emmerich.de/wp-content/uploads/2022/07/day-for-peace_2022_plakat_v2-scaled-e1663751101456.jpg
ORGANIZER;CN="TIK am Ensemble Schl%C3%B6sschen Borghees":MAILTO:info@tik-emmerich.de
END:VEVENT
END:VCALENDAR