BEGIN:VCALENDAR
VERSION:2.0
PRODID:-//Ticketshop TIK Figuren- und Marionettentheater | Ensemble Schlösschen Borghees - ECPv6.15.20//NONSGML v1.0//EN
CALSCALE:GREGORIAN
METHOD:PUBLISH
X-ORIGINAL-URL:https://tik-emmerich.de
X-WR-CALDESC:Veranstaltungen für Ticketshop TIK Figuren- und Marionettentheater | Ensemble Schlösschen Borghees
REFRESH-INTERVAL;VALUE=DURATION:PT1H
X-Robots-Tag:noindex
X-PUBLISHED-TTL:PT1H
BEGIN:VTIMEZONE
TZID:Europe/Berlin
BEGIN:DAYLIGHT
TZOFFSETFROM:+0100
TZOFFSETTO:+0200
TZNAME:CEST
DTSTART:20210328T010000
END:DAYLIGHT
BEGIN:STANDARD
TZOFFSETFROM:+0200
TZOFFSETTO:+0100
TZNAME:CET
DTSTART:20211031T010000
END:STANDARD
BEGIN:DAYLIGHT
TZOFFSETFROM:+0100
TZOFFSETTO:+0200
TZNAME:CEST
DTSTART:20220327T010000
END:DAYLIGHT
BEGIN:STANDARD
TZOFFSETFROM:+0200
TZOFFSETTO:+0100
TZNAME:CET
DTSTART:20221030T010000
END:STANDARD
BEGIN:DAYLIGHT
TZOFFSETFROM:+0100
TZOFFSETTO:+0200
TZNAME:CEST
DTSTART:20230326T010000
END:DAYLIGHT
BEGIN:STANDARD
TZOFFSETFROM:+0200
TZOFFSETTO:+0100
TZNAME:CET
DTSTART:20231029T010000
END:STANDARD
END:VTIMEZONE
BEGIN:VEVENT
DTSTART;TZID=Europe/Berlin:20220517T160000
DTEND;TZID=Europe/Berlin:20220517T180000
DTSTAMP:20260425T150528
CREATED:20211230T080923Z
LAST-MODIFIED:20220512T212415Z
UID:10000260-1652803200-1652810400@tik-emmerich.de
SUMMARY:Heilpflanzen in Catharinas Kulturgarten: Baumriesen & Wildsträucher
DESCRIPTION:Heilpflanzenspaziergang \nDer eindrucksvolle alte Baumbestand in Catharinas Kulturgarten wartet darauf erkundet zu werden! Hier stehen stehen Baumriesen und Wildsträucher\, die auch in der Heilkunde fest verwurzelt sind. \nBeeren\, Blätter\, Blüten\, Rinde – bei einem Spaziergang durch den Garten rund ums Schlösschen wird ihre Verwendung in der traditionellen und modernen Heilkunde besprochen. Aber auch in der Mythologie spielen Bäume und Sträucher eine besondere\, wenn auch fast vergessene Rolle. Zur Bestimmung der Pflanzen werden besondere Merkmale gemeinsam erkundet und vertieft. \nTeilnahmebeitrag:\nErwachsene: 12\,- Euro\nJugendliche: 6\,- Euro \nWeitere Informationen: \nBirga Meyer\, Heilpraktikerin\nT: 02822-9767777\nE: info@naturheilpraxis-birgameyer.de
URL:https://tik-emmerich.de/event/heilpflanzen-in-catharinas-kulturgarten-baumriesen-wildstraeucher/
LOCATION:Ensemble Schlösschen Borghees (Kulturscheune)\, Hüthumer Straße 180\, Emmerich am Rhein\, NRW\, 46446\, Deutschland
CATEGORIES:Workshop
ATTACH;FMTTYPE=image/jpeg:https://tik-emmerich.de/wp-content/uploads/2021/12/heilpflanzen.jpg
ORGANIZER;CN="TIK am Ensemble Schl%C3%B6sschen Borghees":MAILTO:info@tik-emmerich.de
END:VEVENT
BEGIN:VEVENT
DTSTART;TZID=Europe/Berlin:20220522T170000
DTEND;TZID=Europe/Berlin:20220522T170000
DTSTAMP:20260425T150528
CREATED:20220328T081331Z
LAST-MODIFIED:20220328T081331Z
UID:10000292-1653238800-1653238800@tik-emmerich.de
SUMMARY:Sichtbar 1
DESCRIPTION:Eine bespielte Lesung \nVier KünstlerInnen nähern sich dem Thema „Älter werden“ an. \n„Forever young\, wollen wir das?“ Dieser Frage gehen vier Frauen musikalisch\, spielerisch\, mit Figuren\, Wortkunst und Schauspiel auf den Grund. \nSilke Geyer (Figurenspielerin)\, Jean Lennox (Musikerin und Malerin)\, Dorothea Theurer (Musikerin und Wortkünstlerin) und Patricia Foigt (Schauspielerin) haben für ihr Publikum eine abwechslungsreiche Textsammlung für die  Bühne bearbeitet. \nGeschichten aus der Literatur\, wie z. B. „Zwei alte Frauen“ von Selma Wallis\, kollagierte Textfragmente\, Gedichte\, Erfundenes\, Wissenswertes\, Komisches und Erstaunliches zum Thema werden auf ungewöhnliche Weise vorgetragen. Es betrifft euch alle\, das Älter werden\, denn: „Älter werden ist immer noch die einzige Möglichkeit\, lange zu leben“. \nAlso\, packen wir es an! \nEin kurzweiliger tiefgründiger Abend nicht nur für Frauen. \nEintritt: 12\,00 € (VVK)/17\,00 € (AK)
URL:https://tik-emmerich.de/event/sichtbar-1/
LOCATION:Ensemble Schlösschen Borghees (Kulturscheune)\, Hüthumer Straße 180\, Emmerich am Rhein\, NRW\, 46446\, Deutschland
CATEGORIES:Veranstaltung (sonstige)
ATTACH;FMTTYPE=image/png:https://tik-emmerich.de/wp-content/uploads/2022/03/flyer-front.png
ORGANIZER;CN="TIK am Ensemble Schl%C3%B6sschen Borghees":MAILTO:info@tik-emmerich.de
END:VEVENT
END:VCALENDAR