BEGIN:VCALENDAR
VERSION:2.0
PRODID:-//Ticketshop TIK Figuren- und Marionettentheater | Ensemble Schlösschen Borghees - ECPv6.15.20//NONSGML v1.0//EN
CALSCALE:GREGORIAN
METHOD:PUBLISH
X-WR-CALNAME:Ticketshop TIK Figuren- und Marionettentheater | Ensemble Schlösschen Borghees
X-ORIGINAL-URL:https://tik-emmerich.de
X-WR-CALDESC:Veranstaltungen für Ticketshop TIK Figuren- und Marionettentheater | Ensemble Schlösschen Borghees
REFRESH-INTERVAL;VALUE=DURATION:PT1H
X-Robots-Tag:noindex
X-PUBLISHED-TTL:PT1H
BEGIN:VTIMEZONE
TZID:Europe/Berlin
BEGIN:DAYLIGHT
TZOFFSETFROM:+0100
TZOFFSETTO:+0200
TZNAME:CEST
DTSTART:20210328T010000
END:DAYLIGHT
BEGIN:STANDARD
TZOFFSETFROM:+0200
TZOFFSETTO:+0100
TZNAME:CET
DTSTART:20211031T010000
END:STANDARD
BEGIN:DAYLIGHT
TZOFFSETFROM:+0100
TZOFFSETTO:+0200
TZNAME:CEST
DTSTART:20220327T010000
END:DAYLIGHT
BEGIN:STANDARD
TZOFFSETFROM:+0200
TZOFFSETTO:+0100
TZNAME:CET
DTSTART:20221030T010000
END:STANDARD
BEGIN:DAYLIGHT
TZOFFSETFROM:+0100
TZOFFSETTO:+0200
TZNAME:CEST
DTSTART:20230326T010000
END:DAYLIGHT
BEGIN:STANDARD
TZOFFSETFROM:+0200
TZOFFSETTO:+0100
TZNAME:CET
DTSTART:20231029T010000
END:STANDARD
END:VTIMEZONE
BEGIN:VEVENT
DTSTART;TZID=Europe/Berlin:20220610T120000
DTEND;TZID=Europe/Berlin:20220610T120000
DTSTAMP:20260423T174714
CREATED:20220205T152910Z
LAST-MODIFIED:20220302T125109Z
UID:10000288-1654862400-1654862400@tik-emmerich.de
SUMMARY:Das andere Ich bin auch Ich
DESCRIPTION:Grenztheater Kids – Theaterstück für Schulen \n– weitere Infos folgen! – \nEintritt frei
URL:https://tik-emmerich.de/event/das-andere-ich-bin-auch-ich/
LOCATION:Ensemble Schlösschen Borghees (Kulturscheune)\, Hüthumer Straße 180\, Emmerich am Rhein\, NRW\, 46446\, Deutschland
CATEGORIES:Grenztheater "Kulturrucksack"
ATTACH;FMTTYPE=image/jpeg:https://tik-emmerich.de/wp-content/uploads/2022/02/Grenzis-2021.jpg
ORGANIZER;CN="TIK am Ensemble Schl%C3%B6sschen Borghees":MAILTO:info@tik-emmerich.de
END:VEVENT
BEGIN:VEVENT
DTSTART;TZID=Europe/Berlin:20220610T180000
DTEND;TZID=Europe/Berlin:20220610T180000
DTSTAMP:20260423T174714
CREATED:20220205T153206Z
LAST-MODIFIED:20220302T125217Z
UID:10000289-1654884000-1654884000@tik-emmerich.de
SUMMARY:Das andere Ich bin auch Ich
DESCRIPTION:Grenztheater Kids – Theaterstück für die Öffentlichkeit \n– weitere Infos folgen! – \nEintritt:\nVorverkauf: 5\,00 € (Kinder)/8\,00 € (Erwachsene)\nAbendkasse: 8\,00 € (Kinder)/11\,00 € (Erwachsene
URL:https://tik-emmerich.de/event/das-andere-ich-bin-auch-ich-2/
LOCATION:Ensemble Schlösschen Borghees (Kulturscheune)\, Hüthumer Straße 180\, Emmerich am Rhein\, NRW\, 46446\, Deutschland
CATEGORIES:Grenztheater "Kulturrucksack"
ATTACH;FMTTYPE=image/jpeg:https://tik-emmerich.de/wp-content/uploads/2022/02/Grenzis-2021.jpg
ORGANIZER;CN="TIK am Ensemble Schl%C3%B6sschen Borghees":MAILTO:info@tik-emmerich.de
END:VEVENT
BEGIN:VEVENT
DTSTART;TZID=Europe/Berlin:20220612T110000
DTEND;TZID=Europe/Berlin:20220612T130000
DTSTAMP:20260423T174714
CREATED:20211231T074727Z
LAST-MODIFIED:20220511T062918Z
UID:10000266-1655031600-1655038800@tik-emmerich.de
SUMMARY:Aus Würfel-Wörtern Gedichte zaubern
DESCRIPTION:Poesie im Quadrat \nZweistündiger Workshop für alle \nTeilnahmebeitrag: 10\,00 € \nAuf Anfrage gibt es ein kleines Kontingent von Solidaritätsplätzen mit Zahlung nach Selbsteinschätzung. \nKeine Karten mehr verfügbar?\nBitte schicken Sie uns eine E-Mail an schmitz-gebel@zuwortkommen.com\, damit wir Ihnen einen Zusatztermin anbieten.
URL:https://tik-emmerich.de/event/aus-wuerfel-woertern-gedichte-zaubern/
LOCATION:Ensemble Schlösschen Borghees\, Hüthumer Straße 180\, Emmerich am Rhein\, NRW\, 46446\, Deutschland
CATEGORIES:Workshop
ATTACH;FMTTYPE=image/jpeg:https://tik-emmerich.de/wp-content/uploads/2021/12/wuerfel-frieden.jpg
ORGANIZER;CN="TIK am Ensemble Schl%C3%B6sschen Borghees":MAILTO:info@tik-emmerich.de
END:VEVENT
BEGIN:VEVENT
DTSTART;TZID=Europe/Berlin:20220612T150000
DTEND;TZID=Europe/Berlin:20220612T170000
DTSTAMP:20260423T174714
CREATED:20211231T074934Z
LAST-MODIFIED:20220519T090841Z
UID:10000267-1655046000-1655053200@tik-emmerich.de
SUMMARY:Aus Würfel-Wörtern Gedichte zaubern
DESCRIPTION:Poesie im Quadrat \nZweistündiger Workshop für alle \nTeilnahmebeitrag: 10\,00 € \nAuf Anfrage gibt es ein kleines Kontingent von Solidaritätsplätzen mit Zahlung nach Selbsteinschätzung. \nKeine Karten mehr verfügbar?\nBitte schicken Sie uns eine E-Mail an schmitz-gebel@zuwortkommen.com\, damit wir Ihnen einen Zusatztermin anbieten.
URL:https://tik-emmerich.de/event/aus-wuerfel-woertern-gedichte-zaubern-2/
LOCATION:Ensemble Schlösschen Borghees\, Hüthumer Straße 180\, Emmerich am Rhein\, NRW\, 46446\, Deutschland
CATEGORIES:Workshop
ATTACH;FMTTYPE=image/jpeg:https://tik-emmerich.de/wp-content/uploads/2021/12/wuerfel-frieden.jpg
ORGANIZER;CN="TIK am Ensemble Schl%C3%B6sschen Borghees":MAILTO:info@tik-emmerich.de
END:VEVENT
END:VCALENDAR