BEGIN:VCALENDAR
VERSION:2.0
PRODID:-//Ticketshop TIK Figuren- und Marionettentheater | Ensemble Schlösschen Borghees - ECPv6.15.20//NONSGML v1.0//EN
CALSCALE:GREGORIAN
METHOD:PUBLISH
X-WR-CALNAME:Ticketshop TIK Figuren- und Marionettentheater | Ensemble Schlösschen Borghees
X-ORIGINAL-URL:https://tik-emmerich.de
X-WR-CALDESC:Veranstaltungen für Ticketshop TIK Figuren- und Marionettentheater | Ensemble Schlösschen Borghees
REFRESH-INTERVAL;VALUE=DURATION:PT1H
X-Robots-Tag:noindex
X-PUBLISHED-TTL:PT1H
BEGIN:VTIMEZONE
TZID:Europe/Berlin
BEGIN:DAYLIGHT
TZOFFSETFROM:+0100
TZOFFSETTO:+0200
TZNAME:CEST
DTSTART:20210328T010000
END:DAYLIGHT
BEGIN:STANDARD
TZOFFSETFROM:+0200
TZOFFSETTO:+0100
TZNAME:CET
DTSTART:20211031T010000
END:STANDARD
BEGIN:DAYLIGHT
TZOFFSETFROM:+0100
TZOFFSETTO:+0200
TZNAME:CEST
DTSTART:20220327T010000
END:DAYLIGHT
BEGIN:STANDARD
TZOFFSETFROM:+0200
TZOFFSETTO:+0100
TZNAME:CET
DTSTART:20221030T010000
END:STANDARD
BEGIN:DAYLIGHT
TZOFFSETFROM:+0100
TZOFFSETTO:+0200
TZNAME:CEST
DTSTART:20230326T010000
END:DAYLIGHT
BEGIN:STANDARD
TZOFFSETFROM:+0200
TZOFFSETTO:+0100
TZNAME:CET
DTSTART:20231029T010000
END:STANDARD
END:VTIMEZONE
BEGIN:VEVENT
DTSTART;TZID=Europe/Berlin:20220614T173000
DTEND;TZID=Europe/Berlin:20220614T203000
DTSTAMP:20260423T161355
CREATED:20211230T074439Z
LAST-MODIFIED:20211230T075115Z
UID:10000258-1655227800-1655238600@tik-emmerich.de
SUMMARY:Happy Summer
DESCRIPTION:Sonne\, Strand\, Meer … und mehr! \nMit der ganzen Leichtigkeit der Happy Painting!-Methode zaubern wir verschiedene Motive rund um das Thema „Sommer“ aufs Blatt. \nEine Sommernacht unter Sternen\, ein fröhlicher Krebs oder ein duftender Lavendelkranz: Lass dich überraschen\, welche Kunstwerke dabei mit Aquarellfarben\, Farbstiften\, Finelinern und mehr entstehen dürfen! \nDas bekommst du:\n– eine kreative Auszeit von ca. 2\,5–3 Stunden in entspannter Atmosphäre\n– sämtliches benötigtes Material (das bringe ich mit) \nDas bringst du mit:\n– Spaß daran\, mit Leichtigkeit etwas völlig Neues auszuprobieren\n– Lust auf Farbe 🙂 \nDieser ca. 2\,5- bis 3-stündige Kurs ist für 4-6 Teilnehmer:innen ausgelegt. \nKosten: 59\,00 € pro Person (inkl. aller Materialkosten) \nWeitere Informationen: happypainting-niederrhein.de \n 
URL:https://tik-emmerich.de/event/happy-summer/
LOCATION:Ensemble Schlösschen Borghees (Café)\, Hüthumer Straße 180\, Emmerich am Rhein\, NRW\, 46446\, Deutschland
CATEGORIES:Workshop
ATTACH;FMTTYPE=image/png:https://tik-emmerich.de/wp-content/uploads/2021/12/happy-summer-ohne-datum.png
ORGANIZER;CN="TIK am Ensemble Schl%C3%B6sschen Borghees":MAILTO:info@tik-emmerich.de
END:VEVENT
END:VCALENDAR