BEGIN:VCALENDAR
VERSION:2.0
PRODID:-//Ticketshop TIK Figuren- und Marionettentheater | Ensemble Schlösschen Borghees - ECPv6.15.20//NONSGML v1.0//EN
CALSCALE:GREGORIAN
METHOD:PUBLISH
X-ORIGINAL-URL:https://tik-emmerich.de
X-WR-CALDESC:Veranstaltungen für Ticketshop TIK Figuren- und Marionettentheater | Ensemble Schlösschen Borghees
REFRESH-INTERVAL;VALUE=DURATION:PT1H
X-Robots-Tag:noindex
X-PUBLISHED-TTL:PT1H
BEGIN:VTIMEZONE
TZID:Europe/Berlin
BEGIN:DAYLIGHT
TZOFFSETFROM:+0100
TZOFFSETTO:+0200
TZNAME:CEST
DTSTART:20250330T010000
END:DAYLIGHT
BEGIN:STANDARD
TZOFFSETFROM:+0200
TZOFFSETTO:+0100
TZNAME:CET
DTSTART:20251026T010000
END:STANDARD
BEGIN:DAYLIGHT
TZOFFSETFROM:+0100
TZOFFSETTO:+0200
TZNAME:CEST
DTSTART:20260329T010000
END:DAYLIGHT
BEGIN:STANDARD
TZOFFSETFROM:+0200
TZOFFSETTO:+0100
TZNAME:CET
DTSTART:20261025T010000
END:STANDARD
BEGIN:DAYLIGHT
TZOFFSETFROM:+0100
TZOFFSETTO:+0200
TZNAME:CEST
DTSTART:20270328T010000
END:DAYLIGHT
BEGIN:STANDARD
TZOFFSETFROM:+0200
TZOFFSETTO:+0100
TZNAME:CET
DTSTART:20271031T010000
END:STANDARD
END:VTIMEZONE
BEGIN:VEVENT
DTSTART;TZID=Europe/Berlin:20260223T160000
DTEND;TZID=Europe/Berlin:20260223T180000
DTSTAMP:20260424T163953
CREATED:20251231T122519Z
LAST-MODIFIED:20251231T122519Z
UID:10002003-1771862400-1771869600@tik-emmerich.de
SUMMARY:Forscher Abenteuer für Kinder mit Judith Hoymann - Wir gehen raus!
DESCRIPTION:Richtig angezogen und mit großer Neugierde\, was man in jeder Jahreszeit draußen alles machen kann. Wie ein Forscher werden wir die Natur beobachten und auf Entdeckungsreise gehen. Wisst ihr\, wie die Abdrücke von Rehen in Laub oder Schnee aussehen? Wisst ihr\, wie man Tiere in der Natur anlocken kann? Kann man draußen übernachten? Wie haben das die Menschen früher gemacht\, als es noch kein warmes Wasser und Heizungen gab? Wir bauen Hütten\, machen Feuer\, kochen etwas aus dem Gemüse und den Kräutern des Gartens. Allen Fragen gehen wir nach und werden spielend die winterliche Natur erobern. \n Für Kinder ab 9 – 11 Jahren \nInfo und Anmeldung: Judith Hoymann (Theaterpädagogin) mobil: 0049 1628 601612 \noder info@tik-emmerich.de \nTeilnahmebeitrag pro Teilnahme 10\,- €
URL:https://tik-emmerich.de/event/forscher-abenteuer-fuer-kinder-mit-judith-hoymann-wir-gehen-raus-2/2026-02-23/
LOCATION:Ensemble Schlösschen Borghees\, Hüthumer Straße 180\, Emmerich am Rhein\, NRW\, 46446\, Deutschland
CATEGORIES:Workshop
ATTACH;FMTTYPE=image/jpeg:https://tik-emmerich.de/wp-content/uploads/2022/02/Maerchenwald.jpg
ORGANIZER;CN="Judith Hoymann (Theaterp%C3%A4dagogin)":MAILTO:info@tik-emmerich.de
END:VEVENT
BEGIN:VEVENT
DTSTART;TZID=Europe/Berlin:20260224T160000
DTEND;TZID=Europe/Berlin:20260224T173000
DTSTAMP:20260424T163953
CREATED:20250327T122827Z
LAST-MODIFIED:20250327T122827Z
UID:10001641-1771948800-1771954200@tik-emmerich.de
SUMMARY:Theater Grenzenlos - Grenzi Kids
DESCRIPTION:Grenzi Kids \nTheater spielen\, schon für die ganz „Kleinen“ \n\nvon 8 – 14 Jahren\nimmer Dienstags\, nicht in den Schulferien\nvon 16.00 Uhr bis 17.30 Uhr\nmonat. Beitrag\, 15\,- Euro\nteilweise Projektgefördert über den Kulturrucksack\n\nAnsprechpartner\nJanis Krebbers\nHandy 0157 35584877 \nKontakt info@tik-emmerich.de\noder janiskrebbers@gmx.de
URL:https://tik-emmerich.de/event/theater-grenzenlos-grenzi-kids/2026-02-24/
LOCATION:Ensemble Schlösschen Borghees\, Hüthumer Straße 180\, Emmerich am Rhein\, NRW\, 46446\, Deutschland
CATEGORIES:Theater (Kinder),Workshop
ATTACH;FMTTYPE=image/png:https://tik-emmerich.de/wp-content/uploads/2023/12/tik_va-theater-grenzenlos.png
ORGANIZER;CN="Janis Krebbers":MAILTO:janiskrebbers@gmx.de
END:VEVENT
BEGIN:VEVENT
DTSTART;TZID=Europe/Berlin:20260226T183000
DTEND;TZID=Europe/Berlin:20260226T200000
DTSTAMP:20260424T163953
CREATED:20250221T163112Z
LAST-MODIFIED:20250221T165608Z
UID:10001327-1772130600-1772136000@tik-emmerich.de
SUMMARY:Junge Erwachsene - Raus aus dem Schulalltag...rein ins Vergnügen!
DESCRIPTION:Die Theaterbühne ist ein magischer Raum\, wo Dinge geschehen\, die nicht vorhersehbar sind. Sie entstehen spontan aus der Lebendigkeit der Spieler und Spielerrinnen. Die Gefühle\, als Teil unserer Lebendigkeit\, können sich in diesem Raum\, voll entfalten. Auf der Bühne sind sämtliche Gefühle willkommen – auch solche\, die wir in unserem Alltag gar nicht wahrnehmen oder lieber unterdrücken\, dürfen sich hier zeigen und erlebt werden. \n Theater spielen\, kann (manchmal) erlösend sein. Man kann mit Gleichgesinnten darüber nachdenken\, was man an dieser Welt nicht versteht. Man kann sich bis zur Besinnungslosigkeit verschwenden\, verlieben\, schreien\, kaputt machen ….und das alles ohne Konsequenzen. \n Ihr seid neugierig? Kommt einfach zum „schnuppern“ vorbei. \n Ort: Kulturscheune am „Ensemble Schlösschen Borghees“ \nZeit: Donnerstags von 18.30 Uhr bis 20.00 Uhr \nZielgruppe: „Junge Erwachsene“ ab 14 Jahren
URL:https://tik-emmerich.de/event/junge-erwachsene-raus-aus-dem-schulalltag-rein-ins-vergnuegen/2026-02-26/
LOCATION:Ensemble Schlösschen Borghees (Kulturscheune)\, Hüthumer Straße 180\, Emmerich am Rhein\, NRW\, 46446\, Deutschland
CATEGORIES:Grenztheater "Junge Erwachsene",Gruppenveranstaltung,Workshop
ATTACH;FMTTYPE=image/png:https://tik-emmerich.de/wp-content/uploads/2023/12/tik_va_gt-jungeerwachsene-e1724145947579.png
ORGANIZER;CN="TIK am Ensemble Schl%C3%B6sschen Borghees":MAILTO:info@tik-emmerich.de
END:VEVENT
BEGIN:VEVENT
DTSTART;TZID=Europe/Berlin:20260228T090000
DTEND;TZID=Europe/Berlin:20260302T120000
DTSTAMP:20260424T163953
CREATED:20260218T130040Z
LAST-MODIFIED:20260218T130040Z
UID:10002050-1772269200-1772452800@tik-emmerich.de
SUMMARY:Pinselzwerge "Dackelalarm" 28.02. und 01.03.2026
DESCRIPTION:In diesem Workshop dreht sich alles um die faszinierende Welt der Dackel! \nEin Angebot für Kinder im Alter von 4-10 Jahren. \nInfo und Anmeldung: Julia Barth  (Grundschullehrerin)\, mobil 0173 4148247 oder Mail: pinselzwerge.info@gmail.com \nTeilnahmebeitrag (inkl. Material und kl. Frühstück): 39\,90 € \n 
URL:https://tik-emmerich.de/event/pinselzwerge-dackelalarm-28-02-und-01-03-2026/2026-02-28/
LOCATION:Ensemble Schlösschen Borghees\, Hüthumer Straße 180\, Emmerich am Rhein\, NRW\, 46446\, Deutschland
CATEGORIES:Veranstaltung (sonstige),Workshop
ATTACH;FMTTYPE=image/jpeg:https://tik-emmerich.de/wp-content/uploads/2025/03/Pinselzwerge_Untitled-design.jpeg
ORGANIZER;CN="Julia Barth":MAILTO:pinselzwerge.info@gmail.com
END:VEVENT
BEGIN:VEVENT
DTSTART;TZID=Europe/Berlin:20260228T120000
DTEND;TZID=Europe/Berlin:20260228T150000
DTSTAMP:20260424T163953
CREATED:20260221T144252Z
LAST-MODIFIED:20260221T144252Z
UID:10002057-1772280000-1772290800@tik-emmerich.de
SUMMARY:Ebru-Tanz der Farben mit Saadet Bayra
DESCRIPTION:Abtauchen in eine farbenfrohe Welt \nTauche ein in die faszinierende Welt der Ebru Maltechnik – die traditionelle Kunst des Malens auf Wasser. Mit schwebenden Farben entstehen einzigartige\, marmorierte Muster\, die sich in atemberaubende Kunstwerke verwandeln. Jede Kreation ist ein Unikat – so individuell wie deine Kreativität.\nLass Farben tanzen und erschaffe Kunst\, die fließt! \nFür Erwachsene / max. 8 TN \nInfo und Anmeldung: Saadet Bayram (Künstlerin) mobil: 0162 9198838 od. Mail: saadetbayram@gmail.com \nTeilnahmebeitrag pro Person: 39\,90 € \n 
URL:https://tik-emmerich.de/event/ebru-tanz-der-farben-mit-saadet-bayra-2/2026-02-28/
LOCATION:Ensemble Schlösschen Borghees\, Hüthumer Straße 180\, Emmerich am Rhein\, NRW\, 46446\, Deutschland
CATEGORIES:Workshop
ATTACH;FMTTYPE=image/jpeg:https://tik-emmerich.de/wp-content/uploads/2025/03/IMG_9572.jpeg
ORGANIZER;CN="Saadet Bayram":MAILTO:saadetbayram@gmail.com
END:VEVENT
BEGIN:VEVENT
DTSTART;TZID=Europe/Berlin:20260228T190000
DTEND;TZID=Europe/Berlin:20260228T210000
DTSTAMP:20260424T163953
CREATED:20251210T163502Z
LAST-MODIFIED:20260301T085033Z
UID:10001943-1772305200-1772312400@tik-emmerich.de
SUMMARY:FANTA 10 mit ihrem neuen Stück "Come in and find out Balance Resort Hotel"
DESCRIPTION:In dem Wellnessresort „ Come in find out Balance Hotel“\, kommen “Figuren “  zusammen\, die sich nie zuvor begegnet sind. Hier wird gnadenlos entspannt und das Leben innerhalb von 10 Tagen komplett auf links gezogen. Den Gestressten\, Lebenslauen\, Kränkelnden\, Krisengeplagten\, wird ein vollkommen neues Leben versprochen\, sobald sie diese Mauern wieder verlassen. Doch was geschieht wirklich? Keiner ahnt\, was sich hinter der glamourösen Fassade des Resorts abspielt. \nFreuen sie sich auf einen unterhaltsamen Abend. Sie werden danach entspannter sein als je zuvor. \nTickets im VVK 8\,– und an der Abendkasse 10\,–€ \nTermine: \n\n Februar Kulturscheune 19.00 Uhr (Premiere) / 01. März Kulturscheune 16.00 Uhr / 07. März Kulturscheune 16.00 Uhr / 08. März Bürgerhaus Rees 16.00 Uhr (Eintrittskarten hierzu gibt es über info@tik-emmerich.de)\n\n  \nDer Ticketshop schließt jeweils um 14.00 Uhr am Vortag einer Veranstaltung. Sie können dann Telefonisch oder per Mail noch Kontakt mit uns aufnehmen um noch Karten zu bekommen (sofern noch Kapazität besteht) \, oder auch dann an der Abendkasse.  \n  \n 
URL:https://tik-emmerich.de/event/fanta-10-mit-ihrem-neuen-stueck-come-in-and-find-out-balance-resort-hotel/
LOCATION:Ensemble Schlösschen Borghees (Kulturscheune)\, Hüthumer Straße 180\, Emmerich am Rhein\, NRW\, 46446\, Deutschland
CATEGORIES:Theater (Erwachsene),Veranstaltung (sonstige)
ATTACH;FMTTYPE=image/jpeg:https://tik-emmerich.de/wp-content/uploads/2025/12/PHOTO-2026-01-27-19-59-44.jpg
ORGANIZER;CN="TIK am Ensemble Schl%C3%B6sschen Borghees":MAILTO:info@tik-emmerich.de
END:VEVENT
BEGIN:VEVENT
DTSTART;TZID=Europe/Berlin:20260301T090000
DTEND;TZID=Europe/Berlin:20260301T120000
DTSTAMP:20260424T163953
CREATED:20260218T130040Z
LAST-MODIFIED:20260218T130040Z
UID:10002051-1772355600-1772366400@tik-emmerich.de
SUMMARY:Pinselzwerge "Dackelalarm" 28.02. und 01.03.2026
DESCRIPTION:In diesem Workshop dreht sich alles um die faszinierende Welt der Dackel! \nEin Angebot für Kinder im Alter von 4-10 Jahren. \nInfo und Anmeldung: Julia Barth  (Grundschullehrerin)\, mobil 0173 4148247 oder Mail: pinselzwerge.info@gmail.com \nTeilnahmebeitrag (inkl. Material und kl. Frühstück): 39\,90 € \n 
URL:https://tik-emmerich.de/event/pinselzwerge-dackelalarm-28-02-und-01-03-2026/2026-03-01/
LOCATION:Ensemble Schlösschen Borghees\, Hüthumer Straße 180\, Emmerich am Rhein\, NRW\, 46446\, Deutschland
CATEGORIES:Veranstaltung (sonstige),Workshop
ATTACH;FMTTYPE=image/jpeg:https://tik-emmerich.de/wp-content/uploads/2025/03/Pinselzwerge_Untitled-design.jpeg
ORGANIZER;CN="Julia Barth":MAILTO:pinselzwerge.info@gmail.com
END:VEVENT
BEGIN:VEVENT
DTSTART;TZID=Europe/Berlin:20260301T160000
DTEND;TZID=Europe/Berlin:20260301T180000
DTSTAMP:20260424T163953
CREATED:20251210T164120Z
LAST-MODIFIED:20260218T125223Z
UID:10001946-1772380800-1772388000@tik-emmerich.de
SUMMARY:FANTA 10 mit ihrem neuen Stück "Come in and find out Balance Resort Hotel"
DESCRIPTION:In dem Wellnessresort „ Come in find out Balance Hotel“\, kommen “Figuren “  zusammen\, die sich nie zuvor begegnet sind. Hier wird gnadenlos entspannt und das Leben innerhalb von 10 Tagen komplett auf links gezogen. Den Gestressten\, Lebenslauen\, Kränkelnden\, Krisengeplagten\, wird ein vollkommen neues Leben versprochen\, sobald sie diese Mauern wieder verlassen. Doch was geschieht wirklich? Keiner ahnt\, was sich hinter der glamourösen Fassade des Resorts abspielt. \nFreuen sie sich auf einen unterhaltsamen Abend. Sie werden danach entspannter sein als je zuvor \nTickets im VVK : 8\,– Euro und an der Abendkasse 10\,–€ \nTermine: \n01. März  / 07. März / 08. März \n  \n  \n 
URL:https://tik-emmerich.de/event/fanta-10-mit-ihrem-neuen-stueck-come-in-and-find-out-balance-resort-hotel-2/
LOCATION:Ensemble Schlösschen Borghees (Kulturscheune)\, Hüthumer Straße 180\, Emmerich am Rhein\, NRW\, 46446\, Deutschland
CATEGORIES:Theater (Erwachsene),Veranstaltung (sonstige)
ATTACH;FMTTYPE=image/jpeg:https://tik-emmerich.de/wp-content/uploads/2025/12/PHOTO-2026-01-27-19-59-44.jpg
ORGANIZER;CN="TIK am Ensemble Schl%C3%B6sschen Borghees":MAILTO:info@tik-emmerich.de
END:VEVENT
END:VCALENDAR