BEGIN:VCALENDAR
VERSION:2.0
PRODID:-//Ticketshop TIK Figuren- und Marionettentheater | Ensemble Schlösschen Borghees - ECPv6.15.20//NONSGML v1.0//EN
CALSCALE:GREGORIAN
METHOD:PUBLISH
X-WR-CALNAME:Ticketshop TIK Figuren- und Marionettentheater | Ensemble Schlösschen Borghees
X-ORIGINAL-URL:https://tik-emmerich.de
X-WR-CALDESC:Veranstaltungen für Ticketshop TIK Figuren- und Marionettentheater | Ensemble Schlösschen Borghees
REFRESH-INTERVAL;VALUE=DURATION:PT1H
X-Robots-Tag:noindex
X-PUBLISHED-TTL:PT1H
BEGIN:VTIMEZONE
TZID:Europe/Berlin
BEGIN:DAYLIGHT
TZOFFSETFROM:+0100
TZOFFSETTO:+0200
TZNAME:CEST
DTSTART:20250330T010000
END:DAYLIGHT
BEGIN:STANDARD
TZOFFSETFROM:+0200
TZOFFSETTO:+0100
TZNAME:CET
DTSTART:20251026T010000
END:STANDARD
BEGIN:DAYLIGHT
TZOFFSETFROM:+0100
TZOFFSETTO:+0200
TZNAME:CEST
DTSTART:20260329T010000
END:DAYLIGHT
BEGIN:STANDARD
TZOFFSETFROM:+0200
TZOFFSETTO:+0100
TZNAME:CET
DTSTART:20261025T010000
END:STANDARD
BEGIN:DAYLIGHT
TZOFFSETFROM:+0100
TZOFFSETTO:+0200
TZNAME:CEST
DTSTART:20270328T010000
END:DAYLIGHT
BEGIN:STANDARD
TZOFFSETFROM:+0200
TZOFFSETTO:+0100
TZNAME:CET
DTSTART:20271031T010000
END:STANDARD
END:VTIMEZONE
BEGIN:VEVENT
DTSTART;TZID=Europe/Berlin:20260228T090000
DTEND;TZID=Europe/Berlin:20260302T120000
DTSTAMP:20260424T181229
CREATED:20260218T130040Z
LAST-MODIFIED:20260218T130040Z
UID:10002050-1772269200-1772452800@tik-emmerich.de
SUMMARY:Pinselzwerge "Dackelalarm" 28.02. und 01.03.2026
DESCRIPTION:In diesem Workshop dreht sich alles um die faszinierende Welt der Dackel! \nEin Angebot für Kinder im Alter von 4-10 Jahren. \nInfo und Anmeldung: Julia Barth  (Grundschullehrerin)\, mobil 0173 4148247 oder Mail: pinselzwerge.info@gmail.com \nTeilnahmebeitrag (inkl. Material und kl. Frühstück): 39\,90 € \n 
URL:https://tik-emmerich.de/event/pinselzwerge-dackelalarm-28-02-und-01-03-2026/2026-02-28/
LOCATION:Ensemble Schlösschen Borghees\, Hüthumer Straße 180\, Emmerich am Rhein\, NRW\, 46446\, Deutschland
CATEGORIES:Veranstaltung (sonstige),Workshop
ATTACH;FMTTYPE=image/jpeg:https://tik-emmerich.de/wp-content/uploads/2025/03/Pinselzwerge_Untitled-design.jpeg
ORGANIZER;CN="Julia Barth":MAILTO:pinselzwerge.info@gmail.com
END:VEVENT
BEGIN:VEVENT
DTSTART;TZID=Europe/Berlin:20260303T160000
DTEND;TZID=Europe/Berlin:20260303T173000
DTSTAMP:20260424T181229
CREATED:20250327T122827Z
LAST-MODIFIED:20250327T122827Z
UID:10001642-1772553600-1772559000@tik-emmerich.de
SUMMARY:Theater Grenzenlos - Grenzi Kids
DESCRIPTION:Grenzi Kids \nTheater spielen\, schon für die ganz „Kleinen“ \n\nvon 8 – 14 Jahren\nimmer Dienstags\, nicht in den Schulferien\nvon 16.00 Uhr bis 17.30 Uhr\nmonat. Beitrag\, 15\,- Euro\nteilweise Projektgefördert über den Kulturrucksack\n\nAnsprechpartner\nJanis Krebbers\nHandy 0157 35584877 \nKontakt info@tik-emmerich.de\noder janiskrebbers@gmx.de
URL:https://tik-emmerich.de/event/theater-grenzenlos-grenzi-kids/2026-03-03/
LOCATION:Ensemble Schlösschen Borghees\, Hüthumer Straße 180\, Emmerich am Rhein\, NRW\, 46446\, Deutschland
CATEGORIES:Theater (Kinder),Workshop
ATTACH;FMTTYPE=image/png:https://tik-emmerich.de/wp-content/uploads/2023/12/tik_va-theater-grenzenlos.png
ORGANIZER;CN="Janis Krebbers":MAILTO:janiskrebbers@gmx.de
END:VEVENT
BEGIN:VEVENT
DTSTART;TZID=Europe/Berlin:20260305T183000
DTEND;TZID=Europe/Berlin:20260305T200000
DTSTAMP:20260424T181229
CREATED:20250221T163112Z
LAST-MODIFIED:20250221T165608Z
UID:10001328-1772735400-1772740800@tik-emmerich.de
SUMMARY:Junge Erwachsene - Raus aus dem Schulalltag...rein ins Vergnügen!
DESCRIPTION:Die Theaterbühne ist ein magischer Raum\, wo Dinge geschehen\, die nicht vorhersehbar sind. Sie entstehen spontan aus der Lebendigkeit der Spieler und Spielerrinnen. Die Gefühle\, als Teil unserer Lebendigkeit\, können sich in diesem Raum\, voll entfalten. Auf der Bühne sind sämtliche Gefühle willkommen – auch solche\, die wir in unserem Alltag gar nicht wahrnehmen oder lieber unterdrücken\, dürfen sich hier zeigen und erlebt werden. \n Theater spielen\, kann (manchmal) erlösend sein. Man kann mit Gleichgesinnten darüber nachdenken\, was man an dieser Welt nicht versteht. Man kann sich bis zur Besinnungslosigkeit verschwenden\, verlieben\, schreien\, kaputt machen ….und das alles ohne Konsequenzen. \n Ihr seid neugierig? Kommt einfach zum „schnuppern“ vorbei. \n Ort: Kulturscheune am „Ensemble Schlösschen Borghees“ \nZeit: Donnerstags von 18.30 Uhr bis 20.00 Uhr \nZielgruppe: „Junge Erwachsene“ ab 14 Jahren
URL:https://tik-emmerich.de/event/junge-erwachsene-raus-aus-dem-schulalltag-rein-ins-vergnuegen/2026-03-05/
LOCATION:Ensemble Schlösschen Borghees (Kulturscheune)\, Hüthumer Straße 180\, Emmerich am Rhein\, NRW\, 46446\, Deutschland
CATEGORIES:Grenztheater "Junge Erwachsene",Gruppenveranstaltung,Workshop
ATTACH;FMTTYPE=image/png:https://tik-emmerich.de/wp-content/uploads/2023/12/tik_va_gt-jungeerwachsene-e1724145947579.png
ORGANIZER;CN="TIK am Ensemble Schl%C3%B6sschen Borghees":MAILTO:info@tik-emmerich.de
END:VEVENT
BEGIN:VEVENT
DTSTART;TZID=Europe/Berlin:20260307T160000
DTEND;TZID=Europe/Berlin:20260307T180000
DTSTAMP:20260424T181229
CREATED:20251210T164834Z
LAST-MODIFIED:20260218T125418Z
UID:10001947-1772899200-1772906400@tik-emmerich.de
SUMMARY:FANTA 10 mit ihrem neuen Stück "Come in and find out Balance Resort Hotel"
DESCRIPTION:In dem Wellnessresort „ Come in find out Balance Hotel“\, kommen “Figuren “  zusammen\, die sich nie zuvor begegnet sind. Hier wird gnadenlos entspannt und das Leben innerhalb von 10 Tagen komplett auf links gezogen. Den Gestressten\, Lebenslauen\, Kränkelnden\, Krisengeplagten\, wird ein vollkommen neues Leben versprochen\, sobald sie diese Mauern wieder verlassen. Doch was geschieht wirklich? Keiner ahnt\, was sich hinter der glamourösen Fassade des Resorts abspielt. \nFreuen sie sich auf einen unterhaltsamen Abend. Sie werden danach entspannter sein als je zuvor \nTickets im VVK 8\,–€ und an der Abendkasse 10\,–€ \nWeitere Termine: \n08. März Bürgerhaus Rees \n  \n  \n  \n 
URL:https://tik-emmerich.de/event/fanta-10-mit-ihrem-neuen-stueck-come-in-and-find-out-balance-resort-hotel-3/
LOCATION:Ensemble Schlösschen Borghees (Kulturscheune)\, Hüthumer Straße 180\, Emmerich am Rhein\, NRW\, 46446\, Deutschland
CATEGORIES:Theater (Erwachsene),Veranstaltung (sonstige)
ATTACH;FMTTYPE=image/jpeg:https://tik-emmerich.de/wp-content/uploads/2025/12/PHOTO-2026-01-27-19-59-44.jpg
ORGANIZER;CN="TIK am Ensemble Schl%C3%B6sschen Borghees":MAILTO:info@tik-emmerich.de
END:VEVENT
BEGIN:VEVENT
DTSTART;TZID=Europe/Berlin:20260308T160000
DTEND;TZID=Europe/Berlin:20260308T180000
DTSTAMP:20260424T181229
CREATED:20251210T164935Z
LAST-MODIFIED:20260128T132903Z
UID:10001948-1772985600-1772992800@tik-emmerich.de
SUMMARY:Bürgerhaus Rees FANTA 10 mit ihrem neuen Stück "Come in and find out Balance Resort Hotel"
DESCRIPTION:In dem Wellnessresort „ Come in find out Balance Hotel“\, kommen “Figuren “  zusammen\, die sich nie zuvor begegnet sind. Hier wird gnadenlos entspannt und das Leben innerhalb von 10 Tagen komplett auf links gezogen. Den Gestressten\, Lebenslauen\, Kränkelnden\, Krisengeplagten\, wird ein vollkommen neues Leben versprochen\, sobald sie diese Mauern wieder verlassen. Doch was geschieht wirklich? Keiner ahnt\, was sich hinter der glamourösen Fassade des Resorts abspielt. \nFreuen sie sich auf einen unterhaltsamen Abend. Sie werden danach entspannter sein als je zuvor \n  \n  \n  \n  \n 
URL:https://tik-emmerich.de/event/buergerhaus-rees-fanta-10-mit-ihrem-neuen-stueck-come-in-and-find-out-balance-resort-hotel/
LOCATION:Bürgerhaus Rees\, Markt 1\, Rees\, NRW\, 46459\, Deutschland
CATEGORIES:Theater (Erwachsene),Veranstaltung (sonstige)
ATTACH;FMTTYPE=image/jpeg:https://tik-emmerich.de/wp-content/uploads/2025/12/PHOTO-2026-01-27-19-59-44.jpg
ORGANIZER;CN="TIK am Ensemble Schl%C3%B6sschen Borghees":MAILTO:info@tik-emmerich.de
END:VEVENT
END:VCALENDAR