BEGIN:VCALENDAR
VERSION:2.0
PRODID:-//Ticketshop TIK Figuren- und Marionettentheater | Ensemble Schlösschen Borghees - ECPv6.15.20//NONSGML v1.0//EN
CALSCALE:GREGORIAN
METHOD:PUBLISH
X-ORIGINAL-URL:https://tik-emmerich.de
X-WR-CALDESC:Veranstaltungen für Ticketshop TIK Figuren- und Marionettentheater | Ensemble Schlösschen Borghees
REFRESH-INTERVAL;VALUE=DURATION:PT1H
X-Robots-Tag:noindex
X-PUBLISHED-TTL:PT1H
BEGIN:VTIMEZONE
TZID:Europe/Berlin
BEGIN:DAYLIGHT
TZOFFSETFROM:+0100
TZOFFSETTO:+0200
TZNAME:CEST
DTSTART:20250330T010000
END:DAYLIGHT
BEGIN:STANDARD
TZOFFSETFROM:+0200
TZOFFSETTO:+0100
TZNAME:CET
DTSTART:20251026T010000
END:STANDARD
BEGIN:DAYLIGHT
TZOFFSETFROM:+0100
TZOFFSETTO:+0200
TZNAME:CEST
DTSTART:20260329T010000
END:DAYLIGHT
BEGIN:STANDARD
TZOFFSETFROM:+0200
TZOFFSETTO:+0100
TZNAME:CET
DTSTART:20261025T010000
END:STANDARD
BEGIN:DAYLIGHT
TZOFFSETFROM:+0100
TZOFFSETTO:+0200
TZNAME:CEST
DTSTART:20270328T010000
END:DAYLIGHT
BEGIN:STANDARD
TZOFFSETFROM:+0200
TZOFFSETTO:+0100
TZNAME:CET
DTSTART:20271031T010000
END:STANDARD
END:VTIMEZONE
BEGIN:VEVENT
DTSTART;TZID=Europe/Berlin:20260316T160000
DTEND;TZID=Europe/Berlin:20260316T180000
DTSTAMP:20260424T181411
CREATED:20251231T122519Z
LAST-MODIFIED:20251231T122519Z
UID:10002004-1773676800-1773684000@tik-emmerich.de
SUMMARY:Forscher Abenteuer für Kinder mit Judith Hoymann - Wir gehen raus!
DESCRIPTION:Richtig angezogen und mit großer Neugierde\, was man in jeder Jahreszeit draußen alles machen kann. Wie ein Forscher werden wir die Natur beobachten und auf Entdeckungsreise gehen. Wisst ihr\, wie die Abdrücke von Rehen in Laub oder Schnee aussehen? Wisst ihr\, wie man Tiere in der Natur anlocken kann? Kann man draußen übernachten? Wie haben das die Menschen früher gemacht\, als es noch kein warmes Wasser und Heizungen gab? Wir bauen Hütten\, machen Feuer\, kochen etwas aus dem Gemüse und den Kräutern des Gartens. Allen Fragen gehen wir nach und werden spielend die winterliche Natur erobern. \n Für Kinder ab 9 – 11 Jahren \nInfo und Anmeldung: Judith Hoymann (Theaterpädagogin) mobil: 0049 1628 601612 \noder info@tik-emmerich.de \nTeilnahmebeitrag pro Teilnahme 10\,- €
URL:https://tik-emmerich.de/event/forscher-abenteuer-fuer-kinder-mit-judith-hoymann-wir-gehen-raus-2/2026-03-16/
LOCATION:Ensemble Schlösschen Borghees\, Hüthumer Straße 180\, Emmerich am Rhein\, NRW\, 46446\, Deutschland
CATEGORIES:Workshop
ATTACH;FMTTYPE=image/jpeg:https://tik-emmerich.de/wp-content/uploads/2022/02/Maerchenwald.jpg
ORGANIZER;CN="Judith Hoymann (Theaterp%C3%A4dagogin)":MAILTO:info@tik-emmerich.de
END:VEVENT
BEGIN:VEVENT
DTSTART;TZID=Europe/Berlin:20260316T180000
DTEND;TZID=Europe/Berlin:20260316T200000
DTSTAMP:20260424T181411
CREATED:20250327T123640Z
LAST-MODIFIED:20260123T165031Z
UID:10001866-1773684000-1773691200@tik-emmerich.de
SUMMARY:Wollverliebt - Stricken macht süchtig
DESCRIPTION:Gemütlich mit gemeinsamer Handarbeit im Cafe des Schlösschens \n\n\n\nGenerationsübergreifend\nan jedem 3. Montag im Monat\, nicht in den Schulferien\nvon 18.00 Uhr bis 20.00 Uhr\nmonatl. Beitrag 5\,-€\, bei Mitgliedschaft im Verein kostenfrei\n\n\n\nAnsprechpartnerin\nAnke Neubauer\nKontakt: ankeneu23@web.de
URL:https://tik-emmerich.de/event/wollverliebt-stricken-macht-suechtig-4/2026-03-16/
LOCATION:Ensemble Schlösschen Borghees\, Hüthumer Straße 180\, Emmerich am Rhein\, NRW\, 46446\, Deutschland
CATEGORIES:Veranstaltung (sonstige),Workshop
ATTACH;FMTTYPE=image/jpeg:https://tik-emmerich.de/wp-content/uploads/2025/03/threads-8621150_640.jpg
ORGANIZER;CN="Anke Neubauer":MAILTO:ankeneu23@web.de
END:VEVENT
BEGIN:VEVENT
DTSTART;TZID=Europe/Berlin:20260317T160000
DTEND;TZID=Europe/Berlin:20260317T173000
DTSTAMP:20260424T181411
CREATED:20250327T122827Z
LAST-MODIFIED:20250327T122827Z
UID:10001644-1773763200-1773768600@tik-emmerich.de
SUMMARY:Theater Grenzenlos - Grenzi Kids
DESCRIPTION:Grenzi Kids \nTheater spielen\, schon für die ganz „Kleinen“ \n\nvon 8 – 14 Jahren\nimmer Dienstags\, nicht in den Schulferien\nvon 16.00 Uhr bis 17.30 Uhr\nmonat. Beitrag\, 15\,- Euro\nteilweise Projektgefördert über den Kulturrucksack\n\nAnsprechpartner\nJanis Krebbers\nHandy 0157 35584877 \nKontakt info@tik-emmerich.de\noder janiskrebbers@gmx.de
URL:https://tik-emmerich.de/event/theater-grenzenlos-grenzi-kids/2026-03-17/
LOCATION:Ensemble Schlösschen Borghees\, Hüthumer Straße 180\, Emmerich am Rhein\, NRW\, 46446\, Deutschland
CATEGORIES:Theater (Kinder),Workshop
ATTACH;FMTTYPE=image/png:https://tik-emmerich.de/wp-content/uploads/2023/12/tik_va-theater-grenzenlos.png
ORGANIZER;CN="Janis Krebbers":MAILTO:janiskrebbers@gmx.de
END:VEVENT
BEGIN:VEVENT
DTSTART;TZID=Europe/Berlin:20260319T183000
DTEND;TZID=Europe/Berlin:20260319T200000
DTSTAMP:20260424T181411
CREATED:20250221T163112Z
LAST-MODIFIED:20250221T165608Z
UID:10001330-1773945000-1773950400@tik-emmerich.de
SUMMARY:Junge Erwachsene - Raus aus dem Schulalltag...rein ins Vergnügen!
DESCRIPTION:Die Theaterbühne ist ein magischer Raum\, wo Dinge geschehen\, die nicht vorhersehbar sind. Sie entstehen spontan aus der Lebendigkeit der Spieler und Spielerrinnen. Die Gefühle\, als Teil unserer Lebendigkeit\, können sich in diesem Raum\, voll entfalten. Auf der Bühne sind sämtliche Gefühle willkommen – auch solche\, die wir in unserem Alltag gar nicht wahrnehmen oder lieber unterdrücken\, dürfen sich hier zeigen und erlebt werden. \n Theater spielen\, kann (manchmal) erlösend sein. Man kann mit Gleichgesinnten darüber nachdenken\, was man an dieser Welt nicht versteht. Man kann sich bis zur Besinnungslosigkeit verschwenden\, verlieben\, schreien\, kaputt machen ….und das alles ohne Konsequenzen. \n Ihr seid neugierig? Kommt einfach zum „schnuppern“ vorbei. \n Ort: Kulturscheune am „Ensemble Schlösschen Borghees“ \nZeit: Donnerstags von 18.30 Uhr bis 20.00 Uhr \nZielgruppe: „Junge Erwachsene“ ab 14 Jahren
URL:https://tik-emmerich.de/event/junge-erwachsene-raus-aus-dem-schulalltag-rein-ins-vergnuegen/2026-03-19/
LOCATION:Ensemble Schlösschen Borghees (Kulturscheune)\, Hüthumer Straße 180\, Emmerich am Rhein\, NRW\, 46446\, Deutschland
CATEGORIES:Grenztheater "Junge Erwachsene",Gruppenveranstaltung,Workshop
ATTACH;FMTTYPE=image/png:https://tik-emmerich.de/wp-content/uploads/2023/12/tik_va_gt-jungeerwachsene-e1724145947579.png
ORGANIZER;CN="TIK am Ensemble Schl%C3%B6sschen Borghees":MAILTO:info@tik-emmerich.de
END:VEVENT
BEGIN:VEVENT
DTSTART;TZID=Europe/Berlin:20260321T200000
DTEND;TZID=Europe/Berlin:20260321T220000
DTSTAMP:20260424T181411
CREATED:20251210T162654Z
LAST-MODIFIED:20260319T063609Z
UID:10001945-1774123200-1774130400@tik-emmerich.de
SUMMARY:Eric Devries
DESCRIPTION:Eric Devries ist einer der renommiertesten und gefragtesten Musiker der niederländischen Americana-Szene. Seine dritte Solo-CD „Close to Home“ erhielt begeisterte Kritiken. Devries wurde mit Meistern wie Guy Clark und Rodney Crowell verglichen\, und das Album wird immer wieder zu den besten Americana-Songs aus den Niederlanden gezählt. In den 90er Jahren trat er erstmals als Frontmann der Amsterdamer Band The Big Easy in Erscheinung. Im Jahr 2004 wurde seine Solo-Debüt-CD „Little of a Romeo“ veröffentlicht. \n  \nFür sein zweites Album „Sweet Oblivion“ (2008) nahm er eine Reihe von Songs in Amerika auf. Devries tourt auch mit dem Singer-Songwriter-Kollektiv Songwriters United und veröffentlicht 2008 eine DVD und eine CD mit ihnen. \n  \nIm Jahr 2014 veröffentlichte er sein biografischstes Album „Close to Home“. Devries hat auf dem Woody Guthrie Festival in Oklahoma\, Oerol\, Parade\, Naked Song Festival und dem Zwarte Cross gespielt. \n  \nIm Jahr 2016 wurde „Pan Alley Fever“ von der Band Hidden Agenda Deluxe veröffentlicht. Devries wird in der Presse auch als “der Chris Hillman der Niederländer” bezeichnet. \n  \n2018 erschien „Like a Radio“ von den legendären Matthews Southern Comfort mit Devries als Sänger und Songwriter neben Iain Matthews. Es folgen Tourneen durch das Vereinigte Königreich und Deutschland. Mit Matthews Southern Comfort tritt Devries bei Festivals wie dem Great British Folk Festival und Wickham auf. Im März 2020 wurde ihr Album „The New Mine“ veröffentlicht. \nDevries’ viertes Soloalbum wurde von Janos Koolen produziert und trägt den Titel „Song & Dance Man“. \nEric Devries‘ Songsprache ist Englisch\, sein Instrument die Gitarre. Der in Utrecht lebende Musiker hat das gewisse Etwas\, das seinen Songs rundum Tiefe und Glaubwürdigkeit verleiht. Mit seiner eigenständigen Mischung aus Folk\, Country und Blues\, seinem exzellenten Finger-Picking\, seinen ehrlichen\, anspruchsvollen Texten schafft es Eric Devries immer wieder sein Publikum gleichermaßen zu berühren und zu unterhalten.” \nVVK: 15\,- / Abendkasse 18\,–€
URL:https://tik-emmerich.de/event/eric-devries/
LOCATION:Ensemble Schlösschen Borghees\, Hüthumer Straße 180\, Emmerich am Rhein\, NRW\, 46446\, Deutschland
ATTACH;FMTTYPE=image/jpeg:https://tik-emmerich.de/wp-content/uploads/2025/12/PHOTO-2026-02-26-15-27-12.jpg
ORGANIZER;CN="TIK am Ensemble Schl%C3%B6sschen Borghees":MAILTO:info@tik-emmerich.de
END:VEVENT
BEGIN:VEVENT
DTSTART;TZID=Europe/Berlin:20260322T150000
DTEND;TZID=Europe/Berlin:20260322T170000
DTSTAMP:20260424T181411
CREATED:20251210T170404Z
LAST-MODIFIED:20251210T170404Z
UID:10001949-1774191600-1774198800@tik-emmerich.de
SUMMARY:Figurentheater Wilde Hummel spielt: Vom Urwaldriesen und dem Faultier
DESCRIPTION:Eine Geschichte zum Thema Nachhaltigkeit  für Kinder ab 4 Jahren \n Das glückliche Faultier hängt den lieben langen Tag in seinem Urwaldbaum unter seinem alten Baumauge. So ist das Leben schön\, so kann es bleiben: Blätter fressen\, den Geräuschen des Urwaldes lauschen und friedlich mit den anderen Tieren zusammen leben \nAber eines Tages wird alles anders: Waldarbeiter fällen den Urwaldriesen\, und transportieren Ihn samt Faultier zum Überseehafen. \nEine lange abenteuerliche  Reise beginnt. Der Urwaldriese wird zum Stuhl verarbeitet\, verkauft und landet samt Faultier im Kinderzimmer von Marlen. Das tierliebe Mädchen versteht die Not des Faultiers und handelt. \nDie ErzählerIn und Figurenspielerin Silke Geyer erzählt die Geschichte in einem Pop Up Buch\, deren Seiten die unterschiedlichen Spielorte entblättern. Anschaulich und nachvollziehbar mit leisen Tönen anschaulich erzählt\, reisen die Kinder mit dem Faultier um den Globus. \nIn einem Nachgespäch mit der Spielerin\, können die Kinder Fragen  stellen und gemeinsam über die unterschiedlichen Aspekte des Themas sprechen. \nEintritt: \nKinder: VVK: 6 Euro / Tageskasse: 9 Euro \nErwachsene: VVK 9 Euro / Tageskasse 12 Euro \n \n 
URL:https://tik-emmerich.de/event/figurentheater-wilde-hummel-spielt-vom-urwaldriesen-und-dem-faultier/
LOCATION:Ensemble Schlösschen Borghees (Kulturscheune)\, Hüthumer Straße 180\, Emmerich am Rhein\, NRW\, 46446\, Deutschland
CATEGORIES:Figurentheater (Erwachsene),Figurentheater (Kinder),Theater (Erwachsene),Theater (Kinder),Veranstaltung (sonstige)
ATTACH;FMTTYPE=image/jpeg:https://tik-emmerich.de/wp-content/uploads/2025/12/Ok3-scaled.jpg
ORGANIZER;CN="TIK am Ensemble Schl%C3%B6sschen Borghees":MAILTO:info@tik-emmerich.de
END:VEVENT
END:VCALENDAR