BEGIN:VCALENDAR
VERSION:2.0
PRODID:-//Ticketshop TIK Figuren- und Marionettentheater | Ensemble Schlösschen Borghees - ECPv6.15.20//NONSGML v1.0//EN
CALSCALE:GREGORIAN
METHOD:PUBLISH
X-WR-CALNAME:Ticketshop TIK Figuren- und Marionettentheater | Ensemble Schlösschen Borghees
X-ORIGINAL-URL:https://tik-emmerich.de
X-WR-CALDESC:Veranstaltungen für Ticketshop TIK Figuren- und Marionettentheater | Ensemble Schlösschen Borghees
REFRESH-INTERVAL;VALUE=DURATION:PT1H
X-Robots-Tag:noindex
X-PUBLISHED-TTL:PT1H
BEGIN:VTIMEZONE
TZID:Europe/Berlin
BEGIN:DAYLIGHT
TZOFFSETFROM:+0100
TZOFFSETTO:+0200
TZNAME:CEST
DTSTART:20250330T010000
END:DAYLIGHT
BEGIN:STANDARD
TZOFFSETFROM:+0200
TZOFFSETTO:+0100
TZNAME:CET
DTSTART:20251026T010000
END:STANDARD
BEGIN:DAYLIGHT
TZOFFSETFROM:+0100
TZOFFSETTO:+0200
TZNAME:CEST
DTSTART:20260329T010000
END:DAYLIGHT
BEGIN:STANDARD
TZOFFSETFROM:+0200
TZOFFSETTO:+0100
TZNAME:CET
DTSTART:20261025T010000
END:STANDARD
BEGIN:DAYLIGHT
TZOFFSETFROM:+0100
TZOFFSETTO:+0200
TZNAME:CEST
DTSTART:20270328T010000
END:DAYLIGHT
BEGIN:STANDARD
TZOFFSETFROM:+0200
TZOFFSETTO:+0100
TZNAME:CET
DTSTART:20271031T010000
END:STANDARD
END:VTIMEZONE
BEGIN:VEVENT
DTSTART;TZID=Europe/Berlin:20260428T160000
DTEND;TZID=Europe/Berlin:20260428T173000
DTSTAMP:20260422T131228
CREATED:20250327T122827Z
LAST-MODIFIED:20250327T122827Z
UID:10001650-1777392000-1777397400@tik-emmerich.de
SUMMARY:Theater Grenzenlos - Grenzi Kids
DESCRIPTION:Grenzi Kids \nTheater spielen\, schon für die ganz „Kleinen“ \n\nvon 8 – 14 Jahren\nimmer Dienstags\, nicht in den Schulferien\nvon 16.00 Uhr bis 17.30 Uhr\nmonat. Beitrag\, 15\,- Euro\nteilweise Projektgefördert über den Kulturrucksack\n\nAnsprechpartner\nJanis Krebbers\nHandy 0157 35584877 \nKontakt info@tik-emmerich.de\noder janiskrebbers@gmx.de
URL:https://tik-emmerich.de/event/theater-grenzenlos-grenzi-kids/2026-04-28/
LOCATION:Ensemble Schlösschen Borghees\, Hüthumer Straße 180\, Emmerich am Rhein\, NRW\, 46446\, Deutschland
CATEGORIES:Theater (Kinder),Workshop
ATTACH;FMTTYPE=image/png:https://tik-emmerich.de/wp-content/uploads/2023/12/tik_va-theater-grenzenlos.png
ORGANIZER;CN="Janis Krebbers":MAILTO:janiskrebbers@gmx.de
END:VEVENT
BEGIN:VEVENT
DTSTART;TZID=Europe/Berlin:20260430T183000
DTEND;TZID=Europe/Berlin:20260430T200000
DTSTAMP:20260422T131229
CREATED:20250221T163112Z
LAST-MODIFIED:20250221T165608Z
UID:10001336-1777573800-1777579200@tik-emmerich.de
SUMMARY:Junge Erwachsene - Raus aus dem Schulalltag...rein ins Vergnügen!
DESCRIPTION:Die Theaterbühne ist ein magischer Raum\, wo Dinge geschehen\, die nicht vorhersehbar sind. Sie entstehen spontan aus der Lebendigkeit der Spieler und Spielerrinnen. Die Gefühle\, als Teil unserer Lebendigkeit\, können sich in diesem Raum\, voll entfalten. Auf der Bühne sind sämtliche Gefühle willkommen – auch solche\, die wir in unserem Alltag gar nicht wahrnehmen oder lieber unterdrücken\, dürfen sich hier zeigen und erlebt werden. \n Theater spielen\, kann (manchmal) erlösend sein. Man kann mit Gleichgesinnten darüber nachdenken\, was man an dieser Welt nicht versteht. Man kann sich bis zur Besinnungslosigkeit verschwenden\, verlieben\, schreien\, kaputt machen ….und das alles ohne Konsequenzen. \n Ihr seid neugierig? Kommt einfach zum „schnuppern“ vorbei. \n Ort: Kulturscheune am „Ensemble Schlösschen Borghees“ \nZeit: Donnerstags von 18.30 Uhr bis 20.00 Uhr \nZielgruppe: „Junge Erwachsene“ ab 14 Jahren
URL:https://tik-emmerich.de/event/junge-erwachsene-raus-aus-dem-schulalltag-rein-ins-vergnuegen/2026-04-30/
LOCATION:Ensemble Schlösschen Borghees (Kulturscheune)\, Hüthumer Straße 180\, Emmerich am Rhein\, NRW\, 46446\, Deutschland
CATEGORIES:Grenztheater "Junge Erwachsene",Gruppenveranstaltung,Workshop
ATTACH;FMTTYPE=image/png:https://tik-emmerich.de/wp-content/uploads/2023/12/tik_va_gt-jungeerwachsene-e1724145947579.png
ORGANIZER;CN="TIK am Ensemble Schl%C3%B6sschen Borghees":MAILTO:info@tik-emmerich.de
END:VEVENT
BEGIN:VEVENT
DTSTART;VALUE=DATE:20260501
DTEND;VALUE=DATE:20260503
DTSTAMP:20260422T131229
CREATED:20250331T164209Z
LAST-MODIFIED:20260123T163536Z
UID:10002032-1777593600-1777766399@tik-emmerich.de
SUMMARY:Holzverformen mit Ulrich Mekiska - Holzbildbauer
DESCRIPTION:Am 01.05.2026 von 10 Uhr bis 18 Uhr und am 02.05.2026 von 10 Uhr bis 16 Uhr \nSkulpturaler Umgang mit dem Werkstoff Holz \nDieser Kurs richtet sich an alle die sich gerne intensiver mit dem schnitzerischen \nBearbeiten von Holz beschäftigen möchten. Kleine ca. 25cm große\, abstrakte\, von allen \nSeiten durch gearbeitete Formen werden im Prozess inhaltlich\, künstlerisch sowie \nfachlich von mir begleitet. \nSie erlernen verschiedene Herangehensweisen\, Schnitztechniken und \nSchnitzwerkzeuge kennen. Mit Beil\, Schnitzeisen und Raspeln wird das Holzstück \nbeliebig verformt. Am Ende des Kurses können Sie sich über eine mit Ihren eigenen \nHänden geschaffene Holzskulptur und neuen Reichtum an skulpturalen Erfahrungen \nfreuen. \nEmpfohlene persönliche Schutzausrüstung: Gehörschutz\, Schutzbrille\, Handschuhe und festes Schuhwerk. Wer hat und möchte darf gerne sein eigenes Werkzeug und Material mitbringen. \nInfo: Ulrich Mekiska (Holzbildhauer) www.umekiska.de \nAnmeldung unter info@tik-emmerich oder mobil: 0160 94833053 \nTN – Beitrag: 155\,- € inkl. Materialkosten und Werkzeugnutzung
URL:https://tik-emmerich.de/event/holzverformen-mit-ulrich-mekiska-holzbildbauer/
LOCATION:Ensemble Schlösschen Borghees\, Hüthumer Straße 180\, Emmerich am Rhein\, NRW\, 46446\, Deutschland
CATEGORIES:Veranstaltung (sonstige),Workshop
ATTACH;FMTTYPE=image/jpeg:https://tik-emmerich.de/wp-content/uploads/2025/03/Holz-verformen-1-scaled.jpeg
ORGANIZER;CN="Ulrich Mekiska":MAILTO:info@tik-emmerich.de
END:VEVENT
END:VCALENDAR