BEGIN:VCALENDAR
VERSION:2.0
PRODID:-//Ticketshop TIK Figuren- und Marionettentheater | Ensemble Schlösschen Borghees - ECPv6.15.20//NONSGML v1.0//EN
CALSCALE:GREGORIAN
METHOD:PUBLISH
X-WR-CALNAME:Ticketshop TIK Figuren- und Marionettentheater | Ensemble Schlösschen Borghees
X-ORIGINAL-URL:https://tik-emmerich.de
X-WR-CALDESC:Veranstaltungen für Ticketshop TIK Figuren- und Marionettentheater | Ensemble Schlösschen Borghees
REFRESH-INTERVAL;VALUE=DURATION:PT1H
X-Robots-Tag:noindex
X-PUBLISHED-TTL:PT1H
BEGIN:VTIMEZONE
TZID:Europe/Berlin
BEGIN:DAYLIGHT
TZOFFSETFROM:+0100
TZOFFSETTO:+0200
TZNAME:CEST
DTSTART:20250330T010000
END:DAYLIGHT
BEGIN:STANDARD
TZOFFSETFROM:+0200
TZOFFSETTO:+0100
TZNAME:CET
DTSTART:20251026T010000
END:STANDARD
BEGIN:DAYLIGHT
TZOFFSETFROM:+0100
TZOFFSETTO:+0200
TZNAME:CEST
DTSTART:20260329T010000
END:DAYLIGHT
BEGIN:STANDARD
TZOFFSETFROM:+0200
TZOFFSETTO:+0100
TZNAME:CET
DTSTART:20261025T010000
END:STANDARD
BEGIN:DAYLIGHT
TZOFFSETFROM:+0100
TZOFFSETTO:+0200
TZNAME:CEST
DTSTART:20270328T010000
END:DAYLIGHT
BEGIN:STANDARD
TZOFFSETFROM:+0200
TZOFFSETTO:+0100
TZNAME:CET
DTSTART:20271031T010000
END:STANDARD
END:VTIMEZONE
BEGIN:VEVENT
DTSTART;TZID=Europe/Berlin:20260512T160000
DTEND;TZID=Europe/Berlin:20260512T173000
DTSTAMP:20260424T135925
CREATED:20250327T122827Z
LAST-MODIFIED:20250327T122827Z
UID:10001652-1778601600-1778607000@tik-emmerich.de
SUMMARY:Theater Grenzenlos - Grenzi Kids
DESCRIPTION:Grenzi Kids \nTheater spielen\, schon für die ganz „Kleinen“ \n\nvon 8 – 14 Jahren\nimmer Dienstags\, nicht in den Schulferien\nvon 16.00 Uhr bis 17.30 Uhr\nmonat. Beitrag\, 15\,- Euro\nteilweise Projektgefördert über den Kulturrucksack\n\nAnsprechpartner\nJanis Krebbers\nHandy 0157 35584877 \nKontakt info@tik-emmerich.de\noder janiskrebbers@gmx.de
URL:https://tik-emmerich.de/event/theater-grenzenlos-grenzi-kids/2026-05-12/
LOCATION:Ensemble Schlösschen Borghees\, Hüthumer Straße 180\, Emmerich am Rhein\, NRW\, 46446\, Deutschland
CATEGORIES:Theater (Kinder),Workshop
ATTACH;FMTTYPE=image/png:https://tik-emmerich.de/wp-content/uploads/2023/12/tik_va-theater-grenzenlos.png
ORGANIZER;CN="Janis Krebbers":MAILTO:janiskrebbers@gmx.de
END:VEVENT
BEGIN:VEVENT
DTSTART;TZID=Europe/Berlin:20260514T183000
DTEND;TZID=Europe/Berlin:20260514T200000
DTSTAMP:20260424T135925
CREATED:20250221T163112Z
LAST-MODIFIED:20250221T165608Z
UID:10001338-1778783400-1778788800@tik-emmerich.de
SUMMARY:Junge Erwachsene - Raus aus dem Schulalltag...rein ins Vergnügen!
DESCRIPTION:Die Theaterbühne ist ein magischer Raum\, wo Dinge geschehen\, die nicht vorhersehbar sind. Sie entstehen spontan aus der Lebendigkeit der Spieler und Spielerrinnen. Die Gefühle\, als Teil unserer Lebendigkeit\, können sich in diesem Raum\, voll entfalten. Auf der Bühne sind sämtliche Gefühle willkommen – auch solche\, die wir in unserem Alltag gar nicht wahrnehmen oder lieber unterdrücken\, dürfen sich hier zeigen und erlebt werden. \n Theater spielen\, kann (manchmal) erlösend sein. Man kann mit Gleichgesinnten darüber nachdenken\, was man an dieser Welt nicht versteht. Man kann sich bis zur Besinnungslosigkeit verschwenden\, verlieben\, schreien\, kaputt machen ….und das alles ohne Konsequenzen. \n Ihr seid neugierig? Kommt einfach zum „schnuppern“ vorbei. \n Ort: Kulturscheune am „Ensemble Schlösschen Borghees“ \nZeit: Donnerstags von 18.30 Uhr bis 20.00 Uhr \nZielgruppe: „Junge Erwachsene“ ab 14 Jahren
URL:https://tik-emmerich.de/event/junge-erwachsene-raus-aus-dem-schulalltag-rein-ins-vergnuegen/2026-05-14/
LOCATION:Ensemble Schlösschen Borghees (Kulturscheune)\, Hüthumer Straße 180\, Emmerich am Rhein\, NRW\, 46446\, Deutschland
CATEGORIES:Grenztheater "Junge Erwachsene",Gruppenveranstaltung,Workshop
ATTACH;FMTTYPE=image/png:https://tik-emmerich.de/wp-content/uploads/2023/12/tik_va_gt-jungeerwachsene-e1724145947579.png
ORGANIZER;CN="TIK am Ensemble Schl%C3%B6sschen Borghees":MAILTO:info@tik-emmerich.de
END:VEVENT
BEGIN:VEVENT
DTSTART;TZID=Europe/Berlin:20260516T140000
DTEND;TZID=Europe/Berlin:20260516T170000
DTSTAMP:20260424T135925
CREATED:20251229T145653Z
LAST-MODIFIED:20260212T144648Z
UID:10001998-1778940000-1778950800@tik-emmerich.de
SUMMARY:Frau Holle und der Hollerbusch - Pflanzenführung und Naturschauspiel
DESCRIPTION:Samstag 16. Mai 2026 – 14:00 Uhr \nDer Hollerbusch: Heilkraft\, Märchen & Mythen  \nPflanzenführung in Catharinas Kulturgarten \nHoller\, Holder\, Fliederbeere wird der Holunder im Volksmund genannt. Als Haus- und Hofapotheke wurde er wegen seiner vielfältigen heilenden Kraft geschätzt\, und auch in der heutigen Pflanzenheilkunde hat er seinen festen Platz als Heilmittel. Im Frühjahr beschenkt er uns mit strahlend weißen Blüten\, im Spätsommer mit tiefschwarzen Beeren. Er gilt als Strauch mit zwei Gesichtern\, die Gegensätze von Licht und Schatten begleiten Märchen und Mythen rund um den Holunder. Bei unseren Vorfahren genoss er hohes Ansehen\, man zog den Hut\, wenn man an ihm vorbeiging. Er wurde als Sitz beschützender Hausgötter geehrt\, allen voran der Göttin Holla\, die als Frau Holle noch heute im Grimm’schen Märchen\nweiterlebt. Man sagt\, wer unter einem Holunder einschläft gelangt in das Hollereich … \nBei dieser Pflanzenführung in dreht sich alles um Heilkraft und Zauber des Holunders\, im Anschluss\nverarbeiten wir frische Holunderblüten. \nInfo und Anmeldung:\nBirga Meyer\, Heilpraktikerin\, Tel. 02822 976 77 77 oder info@naturheilpraxis-birgameyer.de\nTeilnahmebeitrag: Erwachsene/Jugendliche  12 € \nAb 16.00 Uhr \nFrau Holle \nNatURschauspiel \n \nMan sagt\, wer unter einem Holunder einschläft\, gelangt in das Hollereich.  \nDort\, bei Frau Holle\, gibt es viel zu tun. Das Brot muss aus dem Ofen geholt werden und der Apfelbaum muss geschüttelt werden. Frau Holle ist tief verbunden mit der Natur. Haus und Garten machen ihr viel Arbeit. Da betreten zwei ungleiche Mädchen ihr Reich.  Frau Holle fordert sie auf zu bleiben. „Wenn du alle Arbeit im Hause ordentlich tun willst\, so soll es dir gut gehen. Du musst nur gut achtgeben\, dass du mein Bett fleißig aufschüttelst\, dass die Federn fliegen. Dann schneit es in der Welt.“ \n6\,- Euro \nInfo und Anmeldung:  \nBirga Meyer\, Heilpraktikerin\,Tel.: 02822 – 976 77 77 oder info@naturheilpraxis-birgameyer.de \nTIK Theater – S. Heinzel / J. Hoymann\, Tel.: 0160 94833053 oder info@tik-emmerich.de \n 
URL:https://tik-emmerich.de/event/der-hollerbusch-die-pflanzenfuehrung-und-frau-holle-und-der-hollerbusch-das-naturschauspiel/
LOCATION:Ensemble Schlösschen Borghees\, Hüthumer Straße 180\, Emmerich am Rhein\, NRW\, 46446\, Deutschland
ATTACH;FMTTYPE=image/jpeg:https://tik-emmerich.de/wp-content/uploads/2025/12/BMeyer_Holunder.jpeg
ORGANIZER;CN="TIK am Ensemble Schl%C3%B6sschen Borghees":MAILTO:info@tik-emmerich.de
END:VEVENT
END:VCALENDAR