BEGIN:VCALENDAR
VERSION:2.0
PRODID:-//Ticketshop TIK Figuren- und Marionettentheater | Ensemble Schlösschen Borghees - ECPv6.15.20//NONSGML v1.0//EN
CALSCALE:GREGORIAN
METHOD:PUBLISH
X-ORIGINAL-URL:https://tik-emmerich.de
X-WR-CALDESC:Veranstaltungen für Ticketshop TIK Figuren- und Marionettentheater | Ensemble Schlösschen Borghees
REFRESH-INTERVAL;VALUE=DURATION:PT1H
X-Robots-Tag:noindex
X-PUBLISHED-TTL:PT1H
BEGIN:VTIMEZONE
TZID:Europe/Berlin
BEGIN:DAYLIGHT
TZOFFSETFROM:+0100
TZOFFSETTO:+0200
TZNAME:CEST
DTSTART:20210328T010000
END:DAYLIGHT
BEGIN:STANDARD
TZOFFSETFROM:+0200
TZOFFSETTO:+0100
TZNAME:CET
DTSTART:20211031T010000
END:STANDARD
BEGIN:DAYLIGHT
TZOFFSETFROM:+0100
TZOFFSETTO:+0200
TZNAME:CEST
DTSTART:20220327T010000
END:DAYLIGHT
BEGIN:STANDARD
TZOFFSETFROM:+0200
TZOFFSETTO:+0100
TZNAME:CET
DTSTART:20221030T010000
END:STANDARD
BEGIN:DAYLIGHT
TZOFFSETFROM:+0100
TZOFFSETTO:+0200
TZNAME:CEST
DTSTART:20230326T010000
END:DAYLIGHT
BEGIN:STANDARD
TZOFFSETFROM:+0200
TZOFFSETTO:+0100
TZNAME:CET
DTSTART:20231029T010000
END:STANDARD
BEGIN:DAYLIGHT
TZOFFSETFROM:+0100
TZOFFSETTO:+0200
TZNAME:CEST
DTSTART:20240331T010000
END:DAYLIGHT
BEGIN:STANDARD
TZOFFSETFROM:+0200
TZOFFSETTO:+0100
TZNAME:CET
DTSTART:20241027T010000
END:STANDARD
END:VTIMEZONE
BEGIN:VEVENT
DTSTART;TZID=Europe/Berlin:20230910T140000
DTEND;TZID=Europe/Berlin:20230910T180000
DTSTAMP:20260425T150723
CREATED:20230713T123745Z
LAST-MODIFIED:20230824T141311Z
UID:10000807-1694354400-1694368800@tik-emmerich.de
SUMMARY:Tag für den Frieden – Day for Peace 2023
DESCRIPTION:Von 14.00–18.00 Uhr treffen sich erneut kleine und große Menschen verschiedenster Kulturen zur inzwischen 6. Ausgabe des Festivals „Tag für den Frieden – Day for Peace“ am Ensemble Schlösschen Borghees. Wir freuen uns auf die Begegnung mit „alten Bekannten“ und neuen Gesichtern! \nDer Day for Peace ist alljährlich ein Tag\, der ganz im Zeichen des Friedens und der Gemeinschaft steht. Das Festival hat auch 2023 wieder einiges zu bieten: Neben Köstlichkeiten aus aller Herren Länder und einer musikalischen Reise durch unterschiedliche Kulturen und verschiedene Jahrzehnte warten Angebote für Klein und Groß auf euch – zum Mit- und Selbermachen\, (Aus-)probieren\, Hinhören und natürlich zum Genießen! \nMusikalische Highlights: \nZendo: Akustische Cover von Lieblingssongs der 60er und 70er Jahre.\nBIOklang NRW 2023: Folkloristische Musik aus verschiedenen Ländern mit Fokus auf Lateinamerika\, Griechenland und Israel.\nMajor & Minor: Eine Mischung aus alten Hits und Jazzstandards.\nVoizeclub: Ein Kinder- & Jugendchor\, der die Freude am Singen vermittelt.\nBirte & JJ: Zwei kraftvolle Stimmen präsentieren die besten Songs der letzten Jahrzehnte.\nNik_Dance_Club: Ukrainische Tanzperformances.\nMonique Wolbert & Harald Haverkorn: Feinster Jazz zum Genießen.\nYevgen Vardovskyy: Ukrainische Popmusik zum Mitsingen.\nEd Motmor: Folk und Pop vom Feinsten. \nAngebote zum Entdecken: \n\nVorlesegeschichten im Papiertheater | Renate Schmitz-Gebel\, zuWORTkommen\nMiniszene aus „Napoleon und Finchen“ | TIK Theater Emmerich\nStickkunst | Gülcan Akuklu\nFingerfood aus aller Welt | Initiative PARADOXON\, Walli & Anne Boß zusammen mit geflüchteten Frauen\, Hafize Özden\, Ruqia und Hussein\nKuchenbuffet | Förderverein Schlösschen Borghees e.V.\nBratwürstchen vom Grill | Freimaurerloge Pax Inimica Malis Emmerich am Rhein\nKreativangebote | „Fahnen“ aus Baumwolle mit Christiane und Lisette\, „Blätterkunst“ mit Rita Hübers\, Waldbaden Emmerich\nChinesische Kalligrafie | Xing Xie\nFreundeskreis Alindao e.V.\nHeimatverein Hüthum-Borghees e.V.\n\nJedes Angebot hat seine eigene Geschichte und bereichert den Tag für den Frieden auf seine Weise. \nGemeinsam mit allen Aktiven\, den Sponsoren Sparkasse Rhein-Maas\, AV Medienwerkstatt und co-works sowie dem Förderverein Schlösschen Borghees e.V. als Ausrichter freut sich das Projektteam „Tag für den Frieden – Day for Peace“ auf Ideen\, Klänge\, Gespräche und Begegnungen\, die uns gemeinsam ein Stück weiterbringen. Ein kleines Stück weiter auf dem Weg zum Frieden. \n           
URL:https://tik-emmerich.de/event/tag-fuer-den-frieden-day-for-peace-2023/
LOCATION:Ensemble Schlösschen Borghees\, Hüthumer Straße 180\, Emmerich am Rhein\, NRW\, 46446\, Deutschland
CATEGORIES:Umsonst und draußen,Veranstaltung (sonstige)
ATTACH;FMTTYPE=image/png:https://tik-emmerich.de/wp-content/uploads/2023/07/tik_va-dayforpeace2023.png
ORGANIZER;CN="TIK am Ensemble Schl%C3%B6sschen Borghees":MAILTO:info@tik-emmerich.de
END:VEVENT
BEGIN:VEVENT
DTSTART;TZID=Europe/Berlin:20220925T140000
DTEND;TZID=Europe/Berlin:20220925T190000
DTSTAMP:20260425T150724
CREATED:20220716T144918Z
LAST-MODIFIED:20220921T090525Z
UID:10000304-1664114400-1664132400@tik-emmerich.de
SUMMARY:Tag für den Frieden – Day for Peace 2022
DESCRIPTION:Von 14.00–19.00 Uhr treffen sich zum bereits fünften Mal kleine und große Menschen verschiedenster Kulturen zum Festival „Tag für den Frieden – Day for Peace“ am Ensemble Schlösschen Borghees. Erstmals dürfen wir auch die Integrationsräte der Städte Emmerich am Rhein und Kleve bei unserem beliebten Festival für den Frieden begrüßen. Wir freuen uns auf die Begegnung mit „alten Bekannten“ und neuen Gesichtern! \nAuch der Tag für den Frieden 2022 hat wieder einiges zu bieten: Neben Köstlichkeiten aus aller Herren Länder und der Musik unterschiedlicher Kulturen warten Angebote für Klein und Groß auf euch – zum Mitmachen\, Selbermachen\, Ausprobieren\, aktiv sein! \nWir setzen Zeichen für den Frieden\nUnter Anleitung der Literaturwissenschaftlerin Renate Schmitz-Gebel werden um 15.00 Uhr und 16.00 Uhr „Herzelfchen“ zum Thema Frieden geschrieben. Darin könnt ihr eure Wünsche\, euren Beitrag usw. zum Frieden  zum Ausdruck bringen und anschließend in einem der Bäume rund ums Ensemble Schlösschen Borghees aufhängen. \nWaldbaden Emmerich: Waldbaden + Achtsamkeit\nDie zertifizierte Kursleiterin Rita Hübers bietet „Waldbaden“ im Borgheeser Wald an. Um 14.30 Uhr ermöglicht sie euch das Eintauchen in die Waldatmosphäre und das achtsame Wahrnehmen mit allen Sinnen. Eine Naturerfahrung auf besondere und erlebnisreiche Art. Aus den Naturmaterialien\, die dabei eingesammelt werden\, entstehen anschließend unter Anleitung von Sandra Heinzel vom TIK Theater kleine Windspiele. \nMitmachangebot: Glassteine hinterkleben\nChristiane Kirch freut sich darauf\, gemeinsam mit euch Glassteine mit kleinen Bildern (z. B. Comic-Motive) zu hinterkleben. Die Steine werden anschließend mit Magneten versehen und können so zum Beispiel am Kühlschrank oder am Memoboard angebracht werden. \nMit Qi Gong die Lebensenergie aktivieren\nQi Gong (Chi Gong) bedeutet so viel wie Arbeit am Qi – der Lebensenergie – und zählt zu den vier großen Teilgebieten der Traditionellen Chinesischen Medizin. Gemeinsam mit Sofie Sengers könnt ihr um 16.45 Uhr im Garten hinter dem Schlösschen Borghees diese Jahrtausende alte Tradition selbst kennenlernen. \nWIEDER DABEI: Chinesische Kalligrafie\n2021 hat es leider zeitlich nicht geklappt. Umso schöner\, dass Xing Xie in diesem Jahr wieder dabei ist! Mit ihrer chinesischen Kalligrafiekunst zauberte sie sich schon 2019 in die Herzen der Teilnehmerinnen und Teilnehmer. Nutzt die wunderbare Gelegenheit und freut euch auf euren Namen oder euer Lieblingswort\, kunstvoll in chinesischen Schriftzeichen dargestellt! \nNEU beim Day for Peace: Flauschalarm!\nClaudia und Uwe Duesing leben mit ihren Alpakas\, Hunden und Pferden auf einem Bauernhof im beschaulichen Anholt. Seit 2012 widmen sie sich der Alpakazucht – die Herde ist inzwischen auf mehr als 50 Tiere angewachsen. Beim Tag für den Frieden 2022 sorgt Uwe Duesing mit einigen seiner Alpakas für den Flauschfaktor … natürlich könnt ihr auch verschiedene Produkte aus Alpaka-Wolle kaufen. \nImagine …\nEin „Tag für den Frieden“ wäre ohne Musik gar nicht vorstellbar. Im musikalischen Bühnenprogramm ist für jeden Geschmack etwas dabei: Das Akustik-Gitarrenduo ZENDO eröffnet das Programm auf der Open Air-Bühne. Ulrich Kremer und Wolfgang Lohmüller spielen Bekanntes und Vergessenes von John Lennon über Pink Floyd bis hin zu Fury in The Slaughterhouse. Die Castle Singers entführen euch auf eine musikalische Reise von moderner englischer Chormusik bis hin zu Poparrangements für vierstimmigen Chor. Mit Katrin Elsmann (Schlager)\, Birte Schumann (Musical) und JJ (moderne Popsongs) begeistern drei Sängerinnen mit einem Querschnitt ihres musikalischen Könnens. Gespannt dürft ihr auch einmal mehr darauf sein\, mit welchem musikalischen Beitrag Thomas Ruffmann das diesjährige Friedens-Festival bereichern wird. So viel sei verraten: Neben Thomas‘ Geige wird auch die Oud\, eine arabische Kurzhalslaute\, gespielt von Mohamad AlTenawi\, erklingen. Zusammen sind die beiden das Duo Morgenland. Das musikalische Bühnenprogramm wird von einem Sing-along unter Leitung von Cornelia Burgers abgerundet. \nChill-out mit Kräuterrätsel\nIn Catharinas KulturgARTen am Ensemble Schlösschen Borghees bietet Heilpraktikerin Birga Meyer eine Chill-out-Lounge im neu gestalteten Kräutergarten an. Hier könnt ihr bei ruhiger Loungemusik verweilen\, entspannen und euer Wissen rund um die Welt der Kräuter bei einem Kräuterrätsel auf die Probe stellen. \nMit allen Sinnen genießen\nAm 25. September bleibt die Küche zu Hause kalt: Ihr mögt exotische Gewürze und außergewöhnliche Gerichte\, probiert gerne Neues aus und habt Lust darauf\, euch einmal um die Welt zu futtern? Dann seid ihr beim Tag für den Frieden goldrichtig aufgehoben. An den Marktständen der Bioland-Gärtnerei Voorthuysen bietet das Team um Walli und Anne Boß Köstlichkeiten aus aller Welt an. Gemeinsam mit geflüchteten Frauen wird hier im Form von „Live Cooking“ Köstlichkeiten aus deren Heimatländern\, vom nördlichen Afrika bis in den Mittleren Osten\, gereicht. Der Förderverein Schlösschen Borghees bietet darüber hinaus Getränke und selbst gebackene Kuchenspezialitäten zum Verkauf an. \nGemeinsam mit allen Aktiven\, den Sponsoren Sparkasse Rhein-Maas\, AV Medienwerkstatt und co-works sowie dem Förderverein Schlösschen Borghees e.V. als Ausrichter freut sich das Projektteam „Tag für den Frieden – Day for Peace“ auf Ideen\, Klänge\, Gespräche und Begegnungen\, die uns gemeinsam ein Stück weiterbringen. Ein kleines Stück weiter auf dem Weg zum Frieden. \n           
URL:https://tik-emmerich.de/event/tag-fuer-den-frieden-day-for-peace-2022/
LOCATION:Ensemble Schlösschen Borghees\, Hüthumer Straße 180\, Emmerich am Rhein\, NRW\, 46446\, Deutschland
CATEGORIES:Veranstaltung (sonstige)
ATTACH;FMTTYPE=image/jpeg:https://tik-emmerich.de/wp-content/uploads/2022/07/day-for-peace_2022_plakat_v2-scaled-e1663751101456.jpg
ORGANIZER;CN="TIK am Ensemble Schl%C3%B6sschen Borghees":MAILTO:info@tik-emmerich.de
END:VEVENT
END:VCALENDAR