BEGIN:VCALENDAR
VERSION:2.0
PRODID:-//Ticketshop TIK Figuren- und Marionettentheater | Ensemble Schlösschen Borghees - ECPv6.15.20//NONSGML v1.0//EN
CALSCALE:GREGORIAN
METHOD:PUBLISH
X-WR-CALNAME:Ticketshop TIK Figuren- und Marionettentheater | Ensemble Schlösschen Borghees
X-ORIGINAL-URL:https://tik-emmerich.de
X-WR-CALDESC:Veranstaltungen für Ticketshop TIK Figuren- und Marionettentheater | Ensemble Schlösschen Borghees
REFRESH-INTERVAL;VALUE=DURATION:PT1H
X-Robots-Tag:noindex
X-PUBLISHED-TTL:PT1H
BEGIN:VTIMEZONE
TZID:Europe/Berlin
BEGIN:DAYLIGHT
TZOFFSETFROM:+0100
TZOFFSETTO:+0200
TZNAME:CEST
DTSTART:20250330T010000
END:DAYLIGHT
BEGIN:STANDARD
TZOFFSETFROM:+0200
TZOFFSETTO:+0100
TZNAME:CET
DTSTART:20251026T010000
END:STANDARD
BEGIN:DAYLIGHT
TZOFFSETFROM:+0100
TZOFFSETTO:+0200
TZNAME:CEST
DTSTART:20260329T010000
END:DAYLIGHT
BEGIN:STANDARD
TZOFFSETFROM:+0200
TZOFFSETTO:+0100
TZNAME:CET
DTSTART:20261025T010000
END:STANDARD
BEGIN:DAYLIGHT
TZOFFSETFROM:+0100
TZOFFSETTO:+0200
TZNAME:CEST
DTSTART:20270328T010000
END:DAYLIGHT
BEGIN:STANDARD
TZOFFSETFROM:+0200
TZOFFSETTO:+0100
TZNAME:CET
DTSTART:20271031T010000
END:STANDARD
END:VTIMEZONE
BEGIN:VEVENT
DTSTART;TZID=Europe/Berlin:20260620T160000
DTEND;TZID=Europe/Berlin:20260620T220000
DTSTAMP:20260422T114224
CREATED:20250326T183639Z
LAST-MODIFIED:20251229T155221Z
UID:10001573-1781971200-1781992800@tik-emmerich.de
SUMMARY:Schlösschenwummern
DESCRIPTION:Das elektronische Musik Festival am Schlösschen Borghees geht in die Zweite Runde!\nNeben dem abwechslungsreichen Line-up mit House\,\nTechno und pulsierenden Beats\, erwarten euch eine Auswahl leckerer Köstlichkeiten\nvon Drink- und Foodwagen\, sowie dem Brotbackofen\, die ihr in den Chillout Areas\ngenießen könnt (ab 18 Jahre\, unter 18 Jahre nur in Begleitung erziehungsbeauftragter\nPerson \nAP Festival Organisator Eva Hoymann \nTickets im VVK: 12\,–€ und TK: 15\,–€ \nKontakt Tickets und Anfragen über : eva.hoymann@gmail.com \nWeitere Infos folgen
URL:https://tik-emmerich.de/event/schlosswummern/
LOCATION:Ensemble Schlösschen Borghees\, Hüthumer Straße 180\, Emmerich am Rhein\, NRW\, 46446\, Deutschland
CATEGORIES:Veranstaltung (sonstige)
ATTACH;FMTTYPE=image/jpeg:https://tik-emmerich.de/wp-content/uploads/2025/03/25342CA1-60AD-48F9-B3E2-9F8F88ABDE56_1_105_c-Plakat-neu-e1765386435824.jpeg
ORGANIZER;CN="Eva Hoymann":MAILTO:eva.hoymann@gmail.com
END:VEVENT
END:VCALENDAR