BEGIN:VCALENDAR
VERSION:2.0
PRODID:-//Ticketshop TIK Figuren- und Marionettentheater | Ensemble Schlösschen Borghees - ECPv6.15.20//NONSGML v1.0//EN
CALSCALE:GREGORIAN
METHOD:PUBLISH
X-ORIGINAL-URL:https://tik-emmerich.de
X-WR-CALDESC:Veranstaltungen für Ticketshop TIK Figuren- und Marionettentheater | Ensemble Schlösschen Borghees
REFRESH-INTERVAL;VALUE=DURATION:PT1H
X-Robots-Tag:noindex
X-PUBLISHED-TTL:PT1H
BEGIN:VTIMEZONE
TZID:Europe/Berlin
BEGIN:DAYLIGHT
TZOFFSETFROM:+0100
TZOFFSETTO:+0200
TZNAME:CEST
DTSTART:20210328T010000
END:DAYLIGHT
BEGIN:STANDARD
TZOFFSETFROM:+0200
TZOFFSETTO:+0100
TZNAME:CET
DTSTART:20211031T010000
END:STANDARD
BEGIN:DAYLIGHT
TZOFFSETFROM:+0100
TZOFFSETTO:+0200
TZNAME:CEST
DTSTART:20220327T010000
END:DAYLIGHT
BEGIN:STANDARD
TZOFFSETFROM:+0200
TZOFFSETTO:+0100
TZNAME:CET
DTSTART:20221030T010000
END:STANDARD
BEGIN:DAYLIGHT
TZOFFSETFROM:+0100
TZOFFSETTO:+0200
TZNAME:CEST
DTSTART:20230326T010000
END:DAYLIGHT
BEGIN:STANDARD
TZOFFSETFROM:+0200
TZOFFSETTO:+0100
TZNAME:CET
DTSTART:20231029T010000
END:STANDARD
BEGIN:DAYLIGHT
TZOFFSETFROM:+0100
TZOFFSETTO:+0200
TZNAME:CEST
DTSTART:20240331T010000
END:DAYLIGHT
BEGIN:STANDARD
TZOFFSETFROM:+0200
TZOFFSETTO:+0100
TZNAME:CET
DTSTART:20241027T010000
END:STANDARD
END:VTIMEZONE
BEGIN:VEVENT
DTSTART;TZID=Europe/Berlin:20231203T190000
DTEND;TZID=Europe/Berlin:20231203T190000
DTSTAMP:20260425T134054
CREATED:20230713T121712Z
LAST-MODIFIED:20231005T111026Z
UID:10000805-1701630000-1701630000@tik-emmerich.de
SUMMARY:X-Mas im TIK mit gustimusic | Zusatzveranstaltung |
DESCRIPTION:Pop Melody Acoustic Music \nZwei Gitarren\nZwei Stimmen\nPiano & Percussion \nAkustiksongs gemischt mit ausgefeiltem Gesang – das sind die Markenzeichen von gustimusic. \nDie vier Musiker unterhalten mit ausgefeilten Coverversionen jeder Art in verschiedenen Sprachen sowie mit eigenen Songs in „kurzweiliger“ Form. \nEin musikalischer Abend in weihnachtlicher Stimmung bei gemütlicher Atmosphäre sollten Sie in lockerer Runde diesen Abend nicht verpassen! \nEinlass: 17.30 Uhr\nBeginn der Veranstaltung: 19.00 Uhr \nEintritt: 15\,00 € (VVK)/18\,00 € (AK) \n\nVorverkaufsstelle: \nBisschop Immobilien\nGeistmarkt 14\n46446 Emmerich am Rhein\nTel.: 0049 2822 965 44 80 \nBarzahlung ist ausdrücklich erwünscht.\nVerkauf zu den Öffnungszeiten.
URL:https://tik-emmerich.de/event/x-mas-im-tik-mit-gustimusic-zusatzveranstaltung-2/
LOCATION:Ensemble Schlösschen Borghees\, Hüthumer Straße 180\, Emmerich am Rhein\, NRW\, 46446\, Deutschland
CATEGORIES:Konzert
ATTACH;FMTTYPE=image/jpeg:https://tik-emmerich.de/wp-content/uploads/2022/07/gustimusic-scaled.jpg
END:VEVENT
BEGIN:VEVENT
DTSTART;TZID=Europe/Berlin:20221218T190000
DTEND;TZID=Europe/Berlin:20221218T190000
DTSTAMP:20260425T134054
CREATED:20221006T145336Z
LAST-MODIFIED:20221101T161957Z
UID:10000336-1671390000-1671390000@tik-emmerich.de
SUMMARY:X-Mas im TIK mit gustimusic | Zusatzveranstaltung |
DESCRIPTION:Pop Melody Acoustic Music \nZwei Gitarren\nZwei Stimmen\nPiano & Percussion \nAkustiksongs gemischt mit ausgefeiltem Gesang – das sind die Markenzeichen von gustimusic. \nDie vier Musiker unterhalten mit ausgefeilten Coverversionen jeder Art in verschiedenen Sprachen sowie mit eigenen Songs in „kurzweiliger“ Form. \nEin musikalischer Abend in weihnachtlicher Stimmung bei gemütlicher Atmosphäre \nEinlass: 17.30 Uhr\nBeginn der Veranstaltung: 19.00 Uhr \n\n*** HINWEIS: Diese Veranstaltung ist ausverkauft! ***
URL:https://tik-emmerich.de/event/x-mas-im-tik-mit-gustimusic-zusatzveranstaltung/
LOCATION:Ensemble Schlösschen Borghees\, Hüthumer Straße 180\, Emmerich am Rhein\, NRW\, 46446\, Deutschland
CATEGORIES:Konzert
ATTACH;FMTTYPE=image/jpeg:https://tik-emmerich.de/wp-content/uploads/2022/07/gustimusic-scaled.jpg
END:VEVENT
END:VCALENDAR