BEGIN:VCALENDAR
VERSION:2.0
PRODID:-//Ticketshop TIK Figuren- und Marionettentheater | Ensemble Schlösschen Borghees - ECPv6.15.20//NONSGML v1.0//EN
CALSCALE:GREGORIAN
METHOD:PUBLISH
X-ORIGINAL-URL:https://tik-emmerich.de
X-WR-CALDESC:Veranstaltungen für Ticketshop TIK Figuren- und Marionettentheater | Ensemble Schlösschen Borghees
REFRESH-INTERVAL;VALUE=DURATION:PT1H
X-Robots-Tag:noindex
X-PUBLISHED-TTL:PT1H
BEGIN:VTIMEZONE
TZID:Europe/Berlin
BEGIN:DAYLIGHT
TZOFFSETFROM:+0100
TZOFFSETTO:+0200
TZNAME:CEST
DTSTART:20210328T010000
END:DAYLIGHT
BEGIN:STANDARD
TZOFFSETFROM:+0200
TZOFFSETTO:+0100
TZNAME:CET
DTSTART:20211031T010000
END:STANDARD
BEGIN:DAYLIGHT
TZOFFSETFROM:+0100
TZOFFSETTO:+0200
TZNAME:CEST
DTSTART:20220327T010000
END:DAYLIGHT
BEGIN:STANDARD
TZOFFSETFROM:+0200
TZOFFSETTO:+0100
TZNAME:CET
DTSTART:20221030T010000
END:STANDARD
BEGIN:DAYLIGHT
TZOFFSETFROM:+0100
TZOFFSETTO:+0200
TZNAME:CEST
DTSTART:20230326T010000
END:DAYLIGHT
BEGIN:STANDARD
TZOFFSETFROM:+0200
TZOFFSETTO:+0100
TZNAME:CET
DTSTART:20231029T010000
END:STANDARD
END:VTIMEZONE
BEGIN:VEVENT
DTSTART;TZID=Europe/Berlin:20220220T143000
DTEND;TZID=Europe/Berlin:20220220T173000
DTSTAMP:20260425T163454
CREATED:20220117T145921Z
LAST-MODIFIED:20220120T080552Z
UID:10000275-1645367400-1645378200@tik-emmerich.de
SUMMARY:Im Tal des Winters (Kinder-Workshop)
DESCRIPTION:Aquarell-Malerei Workshop mit Sofie Papadopoulou \nEs ist eisig und kalt in dieser Nacht. Eine weiße Decke aus Schnee überzieht das tiefe Tal des Winters. Viele tausend Sterne leuchten am Himmel. \nDer Mond strahlt sein warmes Licht ins All und die Bäume glitzern und funkeln in wunderschönen Schneefarben. Aus der einzigen Hütte\, die es dort gibt\, sieht man eine kleine goldene Rauchwolke. \nDieser Workshop richtet sich an Kinder. Er ist für Anfänger geeignet und für alle\, die es lieben zu malen. \nKosten: 89\,00 € pro Person (inkl. Farben & Aquarellpapier) \nKarten kaufen – Karten verfügbar. \nAnmeldung direkt bei Sofie Papadopoulou per E-Mail an info@hydorpainting.de
URL:https://tik-emmerich.de/event/botanische-kunstmalerei-kinder-workshop/
LOCATION:Ensemble Schlösschen Borghees\, Hüthumer Straße 180\, Emmerich am Rhein\, NRW\, 46446\, Deutschland
CATEGORIES:Workshop
ATTACH;FMTTYPE=image/png:https://tik-emmerich.de/wp-content/uploads/2022/01/Kinder2-Kopie.png
ORGANIZER;CN="TIK am Ensemble Schl%C3%B6sschen Borghees":MAILTO:info@tik-emmerich.de
END:VEVENT
BEGIN:VEVENT
DTSTART;TZID=Europe/Berlin:20220220T110000
DTEND;TZID=Europe/Berlin:20220220T140000
DTSTAMP:20260425T163454
CREATED:20220117T145020Z
LAST-MODIFIED:20220119T095841Z
UID:10000274-1645354800-1645365600@tik-emmerich.de
SUMMARY:Was träumt die Rose im Winter
DESCRIPTION:Aquarell-Malerei Workshop mit Sofie Papadopoulou \nJetzt\, wo der Wind wieder eisig um die Häuserecken pfeift\, machen wir es uns drinnen schön gemütlich. In einer kreativen Auszeit malen wir wunderschöne Rosenaquarelle im leichten Stil. \nDieser Workshop richtet sich an Erwachsene. Er ist für Anfänger geeignet und für alle\, die es lieben zu malen. \nKosten: 89\,00 € pro Person (inkl. Farben & Aquarellpapier) \nKarten kaufen – Karten verfügbar. \nAnmeldung direkt bei Sofie Papadopoulou per E-Mail an info@hydorpainting.de
URL:https://tik-emmerich.de/event/botanische-kunstmalerei/
LOCATION:Ensemble Schlösschen Borghees\, Hüthumer Straße 180\, Emmerich am Rhein\, NRW\, 46446\, Deutschland
CATEGORIES:Workshop
ATTACH;FMTTYPE=image/jpeg:https://tik-emmerich.de/wp-content/uploads/2021/12/rose.jpg
ORGANIZER;CN="TIK am Ensemble Schl%C3%B6sschen Borghees":MAILTO:info@tik-emmerich.de
END:VEVENT
BEGIN:VEVENT
DTSTART;TZID=Europe/Berlin:20220116T110000
DTEND;TZID=Europe/Berlin:20220116T140000
DTSTAMP:20260425T163454
CREATED:20211222T094457Z
LAST-MODIFIED:20211222T095447Z
UID:10000238-1642330800-1642341600@tik-emmerich.de
SUMMARY:Die Essenz der Rose
DESCRIPTION:Botanische Kunstmalerei mit Sofie Papadopoulou \nIn diesem Aquarell-Workshop lernen wir die Rose und ihr Wesen kennen. Wir schreiten gedanklich durch den Rosengarten\, und spüren die Kraft\, die uns diese wunderschöne Blume schenkt. \nBlüten\, Blätter und Stängel\, Vorlagen dazu werden für die Teilnehmer:innen zur Verfügung gestellt. \nWir tasten uns frei an die Essenz der Rose an. \nDieser Workshop richtet sich an Erwachsene. Er ist für Anfänger geeignet\, aber auch für solche\, die sich für das Wesen der Rose interessieren\, und natürlich für alle\, die es lieben zu malen. \nKosten: 89\,00 € pro Person (inkl. Farben & Aquarellpapier) \nAnmeldung direkt bei Sofie Papadopoulou per E-Mail an info@hydorpainting.de \nhttps://tik-emmerich.de/wp-content/uploads/2021/12/20211112_1858541.mp4\n  \n 
URL:https://tik-emmerich.de/event/die-essenz-der-rose/
LOCATION:Ensemble Schlösschen Borghees\, Hüthumer Straße 180\, Emmerich am Rhein\, NRW\, 46446\, Deutschland
CATEGORIES:Workshop
ATTACH;FMTTYPE=image/jpeg:https://tik-emmerich.de/wp-content/uploads/2021/12/rose.jpg
ORGANIZER;CN="Hydorpainting":MAILTO:info@hydorpainting.de
END:VEVENT
END:VCALENDAR