BEGIN:VCALENDAR
VERSION:2.0
PRODID:-//Ticketshop TIK Figuren- und Marionettentheater | Ensemble Schlösschen Borghees - ECPv6.15.20//NONSGML v1.0//EN
CALSCALE:GREGORIAN
METHOD:PUBLISH
X-ORIGINAL-URL:https://tik-emmerich.de
X-WR-CALDESC:Veranstaltungen für Ticketshop TIK Figuren- und Marionettentheater | Ensemble Schlösschen Borghees
REFRESH-INTERVAL;VALUE=DURATION:PT1H
X-Robots-Tag:noindex
X-PUBLISHED-TTL:PT1H
BEGIN:VTIMEZONE
TZID:Europe/Berlin
BEGIN:DAYLIGHT
TZOFFSETFROM:+0100
TZOFFSETTO:+0200
TZNAME:CEST
DTSTART:20240331T010000
END:DAYLIGHT
BEGIN:STANDARD
TZOFFSETFROM:+0200
TZOFFSETTO:+0100
TZNAME:CET
DTSTART:20241027T010000
END:STANDARD
BEGIN:DAYLIGHT
TZOFFSETFROM:+0100
TZOFFSETTO:+0200
TZNAME:CEST
DTSTART:20250330T010000
END:DAYLIGHT
BEGIN:STANDARD
TZOFFSETFROM:+0200
TZOFFSETTO:+0100
TZNAME:CET
DTSTART:20251026T010000
END:STANDARD
BEGIN:DAYLIGHT
TZOFFSETFROM:+0100
TZOFFSETTO:+0200
TZNAME:CEST
DTSTART:20260329T010000
END:DAYLIGHT
BEGIN:STANDARD
TZOFFSETFROM:+0200
TZOFFSETTO:+0100
TZNAME:CET
DTSTART:20261025T010000
END:STANDARD
END:VTIMEZONE
BEGIN:VEVENT
DTSTART;TZID=Europe/Berlin:20250816T130000
DTEND;TZID=Europe/Berlin:20250816T173000
DTSTAMP:20260425T135259
CREATED:20250327T111537Z
LAST-MODIFIED:20250327T111537Z
UID:10001579-1755349200-1755365400@tik-emmerich.de
SUMMARY:Ecoprinting auf Papier - Sommerferienangebot für Jung und alt (14-99 Jahre)
DESCRIPTION:Öko-Print mit wilden Pflanzenblättern \neröffnet eine Möglichkeit\, sich mit der Natur zu verbinden. Durch die Arbeit mit lokalen Materialien verstehen wir den Wert unserer natürlichen Welt. Du wirst in die Prinzipien dieser Drucktechnik eingeführt. Wir arbeiten mit dem\, was die Natur in diesem Moment zu bieten hat. \nGemeinsam sammeln wir das Blattmaterial\, das wir für den Tag brauchen. Nachdem wir unser Sammelsurium angeschaut und den Namen der Pflanze notiert haben (für die Enthusiasten)\, beginnen wir mit dem Ökoprinten. \nInfo und Anmeldung: Mimi van Bindsbergen (Künstlerin) Mail: mimivanbindsbergen@yahoo.co.uk \nTeilnahmebeitrag für Erwachsene 70 € /Jugendliche 50 € inkl. Material \n 
URL:https://tik-emmerich.de/event/ecoprinting-auf-papier-sommerferienangebot-fuer-jung-und-alt-14-99-jahre/2025-08-16/
LOCATION:Ensemble Schlösschen Borghees\, Hüthumer Straße 180\, Emmerich am Rhein\, NRW\, 46446\, Deutschland
CATEGORIES:Workshop
ATTACH;FMTTYPE=image/jpeg:https://tik-emmerich.de/wp-content/uploads/2025/03/Mimi_1-Ecoprint-scaled.jpg
ORGANIZER;CN="Mimi van Binsbergen (K%C3%BCnstlerin)":MAILTO:mimivanbindsbergen@yahoo.co.uk
END:VEVENT
BEGIN:VEVENT
DTSTART;TZID=Europe/Berlin:20250815T130000
DTEND;TZID=Europe/Berlin:20250815T173000
DTSTAMP:20260425T135259
CREATED:20250327T111537Z
LAST-MODIFIED:20250327T111537Z
UID:10001578-1755262800-1755279000@tik-emmerich.de
SUMMARY:Ecoprinting auf Papier - Sommerferienangebot für Jung und alt (14-99 Jahre)
DESCRIPTION:Öko-Print mit wilden Pflanzenblättern \neröffnet eine Möglichkeit\, sich mit der Natur zu verbinden. Durch die Arbeit mit lokalen Materialien verstehen wir den Wert unserer natürlichen Welt. Du wirst in die Prinzipien dieser Drucktechnik eingeführt. Wir arbeiten mit dem\, was die Natur in diesem Moment zu bieten hat. \nGemeinsam sammeln wir das Blattmaterial\, das wir für den Tag brauchen. Nachdem wir unser Sammelsurium angeschaut und den Namen der Pflanze notiert haben (für die Enthusiasten)\, beginnen wir mit dem Ökoprinten. \nInfo und Anmeldung: Mimi van Bindsbergen (Künstlerin) Mail: mimivanbindsbergen@yahoo.co.uk \nTeilnahmebeitrag für Erwachsene 70 € /Jugendliche 50 € inkl. Material \n 
URL:https://tik-emmerich.de/event/ecoprinting-auf-papier-sommerferienangebot-fuer-jung-und-alt-14-99-jahre/2025-08-15/
LOCATION:Ensemble Schlösschen Borghees\, Hüthumer Straße 180\, Emmerich am Rhein\, NRW\, 46446\, Deutschland
CATEGORIES:Workshop
ATTACH;FMTTYPE=image/jpeg:https://tik-emmerich.de/wp-content/uploads/2025/03/Mimi_1-Ecoprint-scaled.jpg
ORGANIZER;CN="Mimi van Binsbergen (K%C3%BCnstlerin)":MAILTO:mimivanbindsbergen@yahoo.co.uk
END:VEVENT
BEGIN:VEVENT
DTSTART;TZID=Europe/Berlin:20250813T130000
DTEND;TZID=Europe/Berlin:20250813T173000
DTSTAMP:20260425T135259
CREATED:20250327T111537Z
LAST-MODIFIED:20250327T111537Z
UID:10001577-1755090000-1755106200@tik-emmerich.de
SUMMARY:Ecoprinting auf Papier - Sommerferienangebot für Jung und alt (14-99 Jahre)
DESCRIPTION:Öko-Print mit wilden Pflanzenblättern \neröffnet eine Möglichkeit\, sich mit der Natur zu verbinden. Durch die Arbeit mit lokalen Materialien verstehen wir den Wert unserer natürlichen Welt. Du wirst in die Prinzipien dieser Drucktechnik eingeführt. Wir arbeiten mit dem\, was die Natur in diesem Moment zu bieten hat. \nGemeinsam sammeln wir das Blattmaterial\, das wir für den Tag brauchen. Nachdem wir unser Sammelsurium angeschaut und den Namen der Pflanze notiert haben (für die Enthusiasten)\, beginnen wir mit dem Ökoprinten. \nInfo und Anmeldung: Mimi van Bindsbergen (Künstlerin) Mail: mimivanbindsbergen@yahoo.co.uk \nTeilnahmebeitrag für Erwachsene 70 € /Jugendliche 50 € inkl. Material \n 
URL:https://tik-emmerich.de/event/ecoprinting-auf-papier-sommerferienangebot-fuer-jung-und-alt-14-99-jahre/2025-08-13/
LOCATION:Ensemble Schlösschen Borghees\, Hüthumer Straße 180\, Emmerich am Rhein\, NRW\, 46446\, Deutschland
CATEGORIES:Workshop
ATTACH;FMTTYPE=image/jpeg:https://tik-emmerich.de/wp-content/uploads/2025/03/Mimi_1-Ecoprint-scaled.jpg
ORGANIZER;CN="Mimi van Binsbergen (K%C3%BCnstlerin)":MAILTO:mimivanbindsbergen@yahoo.co.uk
END:VEVENT
BEGIN:VEVENT
DTSTART;TZID=Europe/Berlin:20250809T130000
DTEND;TZID=Europe/Berlin:20250809T173000
DTSTAMP:20260425T135259
CREATED:20250327T111537Z
LAST-MODIFIED:20250327T111537Z
UID:10001576-1754744400-1754760600@tik-emmerich.de
SUMMARY:Ecoprinting auf Papier - Sommerferienangebot für Jung und alt (14-99 Jahre)
DESCRIPTION:Öko-Print mit wilden Pflanzenblättern \neröffnet eine Möglichkeit\, sich mit der Natur zu verbinden. Durch die Arbeit mit lokalen Materialien verstehen wir den Wert unserer natürlichen Welt. Du wirst in die Prinzipien dieser Drucktechnik eingeführt. Wir arbeiten mit dem\, was die Natur in diesem Moment zu bieten hat. \nGemeinsam sammeln wir das Blattmaterial\, das wir für den Tag brauchen. Nachdem wir unser Sammelsurium angeschaut und den Namen der Pflanze notiert haben (für die Enthusiasten)\, beginnen wir mit dem Ökoprinten. \nInfo und Anmeldung: Mimi van Bindsbergen (Künstlerin) Mail: mimivanbindsbergen@yahoo.co.uk \nTeilnahmebeitrag für Erwachsene 70 € /Jugendliche 50 € inkl. Material \n 
URL:https://tik-emmerich.de/event/ecoprinting-auf-papier-sommerferienangebot-fuer-jung-und-alt-14-99-jahre/2025-08-09/
LOCATION:Ensemble Schlösschen Borghees\, Hüthumer Straße 180\, Emmerich am Rhein\, NRW\, 46446\, Deutschland
CATEGORIES:Workshop
ATTACH;FMTTYPE=image/jpeg:https://tik-emmerich.de/wp-content/uploads/2025/03/Mimi_1-Ecoprint-scaled.jpg
ORGANIZER;CN="Mimi van Binsbergen (K%C3%BCnstlerin)":MAILTO:mimivanbindsbergen@yahoo.co.uk
END:VEVENT
BEGIN:VEVENT
DTSTART;TZID=Europe/Berlin:20250808T130000
DTEND;TZID=Europe/Berlin:20250808T173000
DTSTAMP:20260425T135259
CREATED:20250327T111537Z
LAST-MODIFIED:20250327T111537Z
UID:10001575-1754658000-1754674200@tik-emmerich.de
SUMMARY:Ecoprinting auf Papier - Sommerferienangebot für Jung und alt (14-99 Jahre)
DESCRIPTION:Öko-Print mit wilden Pflanzenblättern \neröffnet eine Möglichkeit\, sich mit der Natur zu verbinden. Durch die Arbeit mit lokalen Materialien verstehen wir den Wert unserer natürlichen Welt. Du wirst in die Prinzipien dieser Drucktechnik eingeführt. Wir arbeiten mit dem\, was die Natur in diesem Moment zu bieten hat. \nGemeinsam sammeln wir das Blattmaterial\, das wir für den Tag brauchen. Nachdem wir unser Sammelsurium angeschaut und den Namen der Pflanze notiert haben (für die Enthusiasten)\, beginnen wir mit dem Ökoprinten. \nInfo und Anmeldung: Mimi van Bindsbergen (Künstlerin) Mail: mimivanbindsbergen@yahoo.co.uk \nTeilnahmebeitrag für Erwachsene 70 € /Jugendliche 50 € inkl. Material \n 
URL:https://tik-emmerich.de/event/ecoprinting-auf-papier-sommerferienangebot-fuer-jung-und-alt-14-99-jahre/2025-08-08/
LOCATION:Ensemble Schlösschen Borghees\, Hüthumer Straße 180\, Emmerich am Rhein\, NRW\, 46446\, Deutschland
CATEGORIES:Workshop
ATTACH;FMTTYPE=image/jpeg:https://tik-emmerich.de/wp-content/uploads/2025/03/Mimi_1-Ecoprint-scaled.jpg
ORGANIZER;CN="Mimi van Binsbergen (K%C3%BCnstlerin)":MAILTO:mimivanbindsbergen@yahoo.co.uk
END:VEVENT
BEGIN:VEVENT
DTSTART;TZID=Europe/Berlin:20250806T130000
DTEND;TZID=Europe/Berlin:20250806T173000
DTSTAMP:20260425T135259
CREATED:20250327T111537Z
LAST-MODIFIED:20250327T111537Z
UID:10001574-1754485200-1754501400@tik-emmerich.de
SUMMARY:Ecoprinting auf Papier - Sommerferienangebot für Jung und alt (14-99 Jahre)
DESCRIPTION:Öko-Print mit wilden Pflanzenblättern \neröffnet eine Möglichkeit\, sich mit der Natur zu verbinden. Durch die Arbeit mit lokalen Materialien verstehen wir den Wert unserer natürlichen Welt. Du wirst in die Prinzipien dieser Drucktechnik eingeführt. Wir arbeiten mit dem\, was die Natur in diesem Moment zu bieten hat. \nGemeinsam sammeln wir das Blattmaterial\, das wir für den Tag brauchen. Nachdem wir unser Sammelsurium angeschaut und den Namen der Pflanze notiert haben (für die Enthusiasten)\, beginnen wir mit dem Ökoprinten. \nInfo und Anmeldung: Mimi van Bindsbergen (Künstlerin) Mail: mimivanbindsbergen@yahoo.co.uk \nTeilnahmebeitrag für Erwachsene 70 € /Jugendliche 50 € inkl. Material \n 
URL:https://tik-emmerich.de/event/ecoprinting-auf-papier-sommerferienangebot-fuer-jung-und-alt-14-99-jahre/2025-08-06/
LOCATION:Ensemble Schlösschen Borghees\, Hüthumer Straße 180\, Emmerich am Rhein\, NRW\, 46446\, Deutschland
CATEGORIES:Workshop
ATTACH;FMTTYPE=image/jpeg:https://tik-emmerich.de/wp-content/uploads/2025/03/Mimi_1-Ecoprint-scaled.jpg
ORGANIZER;CN="Mimi van Binsbergen (K%C3%BCnstlerin)":MAILTO:mimivanbindsbergen@yahoo.co.uk
END:VEVENT
END:VCALENDAR