BEGIN:VCALENDAR
VERSION:2.0
PRODID:-//Ticketshop TIK Figuren- und Marionettentheater | Ensemble Schlösschen Borghees - ECPv6.15.20//NONSGML v1.0//EN
CALSCALE:GREGORIAN
METHOD:PUBLISH
X-ORIGINAL-URL:https://tik-emmerich.de
X-WR-CALDESC:Veranstaltungen für Ticketshop TIK Figuren- und Marionettentheater | Ensemble Schlösschen Borghees
REFRESH-INTERVAL;VALUE=DURATION:PT1H
X-Robots-Tag:noindex
X-PUBLISHED-TTL:PT1H
BEGIN:VTIMEZONE
TZID:Europe/Berlin
BEGIN:DAYLIGHT
TZOFFSETFROM:+0100
TZOFFSETTO:+0200
TZNAME:CEST
DTSTART:20240331T010000
END:DAYLIGHT
BEGIN:STANDARD
TZOFFSETFROM:+0200
TZOFFSETTO:+0100
TZNAME:CET
DTSTART:20241027T010000
END:STANDARD
BEGIN:DAYLIGHT
TZOFFSETFROM:+0100
TZOFFSETTO:+0200
TZNAME:CEST
DTSTART:20250330T010000
END:DAYLIGHT
BEGIN:STANDARD
TZOFFSETFROM:+0200
TZOFFSETTO:+0100
TZNAME:CET
DTSTART:20251026T010000
END:STANDARD
BEGIN:DAYLIGHT
TZOFFSETFROM:+0100
TZOFFSETTO:+0200
TZNAME:CEST
DTSTART:20260329T010000
END:DAYLIGHT
BEGIN:STANDARD
TZOFFSETFROM:+0200
TZOFFSETTO:+0100
TZNAME:CET
DTSTART:20261025T010000
END:STANDARD
BEGIN:DAYLIGHT
TZOFFSETFROM:+0100
TZOFFSETTO:+0200
TZNAME:CEST
DTSTART:20270328T010000
END:DAYLIGHT
BEGIN:STANDARD
TZOFFSETFROM:+0200
TZOFFSETTO:+0100
TZNAME:CET
DTSTART:20271031T010000
END:STANDARD
END:VTIMEZONE
BEGIN:VEVENT
DTSTART;TZID=Europe/Berlin:20260328T120000
DTEND;TZID=Europe/Berlin:20260328T150000
DTSTAMP:20260422T101417
CREATED:20260221T144252Z
LAST-MODIFIED:20260221T144252Z
UID:10002058-1774699200-1774710000@tik-emmerich.de
SUMMARY:Ebru-Tanz der Farben mit Saadet Bayra
DESCRIPTION:Abtauchen in eine farbenfrohe Welt \nTauche ein in die faszinierende Welt der Ebru Maltechnik – die traditionelle Kunst des Malens auf Wasser. Mit schwebenden Farben entstehen einzigartige\, marmorierte Muster\, die sich in atemberaubende Kunstwerke verwandeln. Jede Kreation ist ein Unikat – so individuell wie deine Kreativität.\nLass Farben tanzen und erschaffe Kunst\, die fließt! \nFür Erwachsene / max. 8 TN \nInfo und Anmeldung: Saadet Bayram (Künstlerin) mobil: 0162 9198838 od. Mail: saadetbayram@gmail.com \nTeilnahmebeitrag pro Person: 39\,90 € \n 
URL:https://tik-emmerich.de/event/ebru-tanz-der-farben-mit-saadet-bayra-2/2026-03-28/
LOCATION:Ensemble Schlösschen Borghees\, Hüthumer Straße 180\, Emmerich am Rhein\, NRW\, 46446\, Deutschland
CATEGORIES:Workshop
ATTACH;FMTTYPE=image/jpeg:https://tik-emmerich.de/wp-content/uploads/2025/03/IMG_9572.jpeg
ORGANIZER;CN="Saadet Bayram":MAILTO:saadetbayram@gmail.com
END:VEVENT
BEGIN:VEVENT
DTSTART;TZID=Europe/Berlin:20260228T120000
DTEND;TZID=Europe/Berlin:20260228T150000
DTSTAMP:20260422T101417
CREATED:20260221T144252Z
LAST-MODIFIED:20260221T144252Z
UID:10002057-1772280000-1772290800@tik-emmerich.de
SUMMARY:Ebru-Tanz der Farben mit Saadet Bayra
DESCRIPTION:Abtauchen in eine farbenfrohe Welt \nTauche ein in die faszinierende Welt der Ebru Maltechnik – die traditionelle Kunst des Malens auf Wasser. Mit schwebenden Farben entstehen einzigartige\, marmorierte Muster\, die sich in atemberaubende Kunstwerke verwandeln. Jede Kreation ist ein Unikat – so individuell wie deine Kreativität.\nLass Farben tanzen und erschaffe Kunst\, die fließt! \nFür Erwachsene / max. 8 TN \nInfo und Anmeldung: Saadet Bayram (Künstlerin) mobil: 0162 9198838 od. Mail: saadetbayram@gmail.com \nTeilnahmebeitrag pro Person: 39\,90 € \n 
URL:https://tik-emmerich.de/event/ebru-tanz-der-farben-mit-saadet-bayra-2/2026-02-28/
LOCATION:Ensemble Schlösschen Borghees\, Hüthumer Straße 180\, Emmerich am Rhein\, NRW\, 46446\, Deutschland
CATEGORIES:Workshop
ATTACH;FMTTYPE=image/jpeg:https://tik-emmerich.de/wp-content/uploads/2025/03/IMG_9572.jpeg
ORGANIZER;CN="Saadet Bayram":MAILTO:saadetbayram@gmail.com
END:VEVENT
BEGIN:VEVENT
DTSTART;TZID=Europe/Berlin:20250820T130000
DTEND;TZID=Europe/Berlin:20250820T160000
DTSTAMP:20260422T101417
CREATED:20250327T122007Z
LAST-MODIFIED:20250812T171717Z
UID:10001592-1755694800-1755705600@tik-emmerich.de
SUMMARY:Ebru - Tanz der Farben - Sommerferienangebot in eine farbenfrohe Welt
DESCRIPTION:Tauche ein in die faszinierende Welt der Ebru Maltechnik – die traditionelle Kunst des Malens auf Wasser. Mit schwebenden Farben entstehen einzigartige\, marmorierte Muster\, die sich in atemberaubende Kunstwerke verwandeln. Jede Kreation ist ein Unikat – so individuell wie deine Kreativität.\nLass Farben tanzen und erschaffe Kunst\, die fließt! \nFür Kinder ab 10 Jahren / max. 10 TN \nInfo und Anmeldung: Saadet Bayram (Künstlerin) mobil: 0162 9198838 od. \nMail:  saadetbayram@gmail.com \nTeilnahmebeitrag inkl. Materialkosten: 30\,- € \n 
URL:https://tik-emmerich.de/event/ebru-tanz-der-farben-sommerferienangebot-in-eine-farbenfrohe-welt/
LOCATION:Ensemble Schlösschen Borghees\, Hüthumer Straße 180\, Emmerich am Rhein\, NRW\, 46446\, Deutschland
CATEGORIES:Veranstaltung (sonstige),Workshop
ATTACH;FMTTYPE=image/jpeg:https://tik-emmerich.de/wp-content/uploads/2025/03/Saadet_1-Ebru_Kinder.jpg
ORGANIZER;CN="Saadet Bayram":MAILTO:saadetbayram@gmail.com
END:VEVENT
END:VCALENDAR