BEGIN:VCALENDAR
VERSION:2.0
PRODID:-//Ticketshop TIK Figuren- und Marionettentheater | Ensemble Schlösschen Borghees - ECPv6.15.20//NONSGML v1.0//EN
CALSCALE:GREGORIAN
METHOD:PUBLISH
X-ORIGINAL-URL:https://tik-emmerich.de
X-WR-CALDESC:Veranstaltungen für Ticketshop TIK Figuren- und Marionettentheater | Ensemble Schlösschen Borghees
REFRESH-INTERVAL;VALUE=DURATION:PT1H
X-Robots-Tag:noindex
X-PUBLISHED-TTL:PT1H
BEGIN:VTIMEZONE
TZID:Europe/Berlin
BEGIN:DAYLIGHT
TZOFFSETFROM:+0100
TZOFFSETTO:+0200
TZNAME:CEST
DTSTART:20250330T010000
END:DAYLIGHT
BEGIN:STANDARD
TZOFFSETFROM:+0200
TZOFFSETTO:+0100
TZNAME:CET
DTSTART:20251026T010000
END:STANDARD
BEGIN:DAYLIGHT
TZOFFSETFROM:+0100
TZOFFSETTO:+0200
TZNAME:CEST
DTSTART:20260329T010000
END:DAYLIGHT
BEGIN:STANDARD
TZOFFSETFROM:+0200
TZOFFSETTO:+0100
TZNAME:CET
DTSTART:20261025T010000
END:STANDARD
BEGIN:DAYLIGHT
TZOFFSETFROM:+0100
TZOFFSETTO:+0200
TZNAME:CEST
DTSTART:20270328T010000
END:DAYLIGHT
BEGIN:STANDARD
TZOFFSETFROM:+0200
TZOFFSETTO:+0100
TZNAME:CET
DTSTART:20271031T010000
END:STANDARD
END:VTIMEZONE
BEGIN:VEVENT
DTSTART;TZID=Europe/Berlin:20260508T100000
DTEND;TZID=Europe/Berlin:20260508T160000
DTSTAMP:20260422T131535
CREATED:20260112T172239Z
LAST-MODIFIED:20260113T135352Z
UID:10002023-1778234400-1778256000@tik-emmerich.de
SUMMARY:Am Ende ist es Kunst - Kreative Köpfe - Gemeinsam gestalten
DESCRIPTION:Um einen Einstieg ins gemeinsame Tun zu finden\, möchte ich folgendes anbieten; \nTonarbeit „Kopf“\, (selbst mitzubringen Ton-Werkzeug\, alter Lappen\, Behälter für Wasser) \n+ Materialkosten Ton (ohne Brand) 10 €  \nScherenschnitt (freies Motiv) (selbst mitbringen Nagelscheren\, gebogen und gerade\, Cutter) \n+ Materialkosten individuell nach Absprache \nWer aber schon eine eigene Idee oder eigenes Objekt in Arbeit hat\, kann es mitbringen und daran in der Gemeinschaft „Kreativer Köpfe“ weiterarbeiten. \nGemeinsam kreativ sein. Arbeiten an unseren individuellen Objekten. Ob Malen\, Bildhauen\, Basteln… die Richtung ist fast egal\, allerdings ist manche Kunstaktion auch von äußeren Gegebenheiten abhängig. \nWir haben nur sehr begrenzte Lagermöglichkeiten. Noch gibt es keine ausgestattete Werkstatt. \nABER – Wir haben einen wunderbaren Garten. Hier gibt es Plätze\, die sind Wettergeschützt. Es gibt immer lauschige Eckchen\, wo man sich zurückziehen kann\, wenn man dem Input einer KreativGruppe mal ausweichen will. \nIn dieser Gruppe geht es um Austausch\, die Ideenvielfalt\, die Vorgehensweise\, die Möglichkeiten der Kooperation… Darum würde ich mich freuen dich\, oder dich kennenzulernen\, um mit dir gemeinsam zu gestalten\, zu bauen und zu kreieren… \n Für Erwachsenen und Jugendliche  \n Info und Anmeldung: Sandra Heinzel (Vieles – Schwerpunkt Kunst und Figurenbau und spiel) mobil: 0160 94833053 oder info@tik-emmerich.de \nKosten pro Teilnahme 20 €
URL:https://tik-emmerich.de/event/am-ende-ist-es-kunst-kreative-koepfe-gemeinsam-gestalten/2026-05-08/
LOCATION:Ensemble Schlösschen Borghees\, Hüthumer Straße 180\, Emmerich am Rhein\, NRW\, 46446\, Deutschland
CATEGORIES:Workshop
ATTACH;FMTTYPE=image/jpeg:https://tik-emmerich.de/wp-content/uploads/2025/03/1_Sandra_Koepfe-scaled.jpeg
ORGANIZER;CN="Sandra Heinzel - Schwerpunkt Kunst / Figurenbau und Spiel":MAILTO:info@tik-emmerich.de
END:VEVENT
BEGIN:VEVENT
DTSTART;TZID=Europe/Berlin:20260612T100000
DTEND;TZID=Europe/Berlin:20260612T160000
DTSTAMP:20260422T131535
CREATED:20260112T172239Z
LAST-MODIFIED:20260113T135352Z
UID:10002024-1781258400-1781280000@tik-emmerich.de
SUMMARY:Am Ende ist es Kunst - Kreative Köpfe - Gemeinsam gestalten
DESCRIPTION:Um einen Einstieg ins gemeinsame Tun zu finden\, möchte ich folgendes anbieten; \nTonarbeit „Kopf“\, (selbst mitzubringen Ton-Werkzeug\, alter Lappen\, Behälter für Wasser) \n+ Materialkosten Ton (ohne Brand) 10 €  \nScherenschnitt (freies Motiv) (selbst mitbringen Nagelscheren\, gebogen und gerade\, Cutter) \n+ Materialkosten individuell nach Absprache \nWer aber schon eine eigene Idee oder eigenes Objekt in Arbeit hat\, kann es mitbringen und daran in der Gemeinschaft „Kreativer Köpfe“ weiterarbeiten. \nGemeinsam kreativ sein. Arbeiten an unseren individuellen Objekten. Ob Malen\, Bildhauen\, Basteln… die Richtung ist fast egal\, allerdings ist manche Kunstaktion auch von äußeren Gegebenheiten abhängig. \nWir haben nur sehr begrenzte Lagermöglichkeiten. Noch gibt es keine ausgestattete Werkstatt. \nABER – Wir haben einen wunderbaren Garten. Hier gibt es Plätze\, die sind Wettergeschützt. Es gibt immer lauschige Eckchen\, wo man sich zurückziehen kann\, wenn man dem Input einer KreativGruppe mal ausweichen will. \nIn dieser Gruppe geht es um Austausch\, die Ideenvielfalt\, die Vorgehensweise\, die Möglichkeiten der Kooperation… Darum würde ich mich freuen dich\, oder dich kennenzulernen\, um mit dir gemeinsam zu gestalten\, zu bauen und zu kreieren… \n Für Erwachsenen und Jugendliche  \n Info und Anmeldung: Sandra Heinzel (Vieles – Schwerpunkt Kunst und Figurenbau und spiel) mobil: 0160 94833053 oder info@tik-emmerich.de \nKosten pro Teilnahme 20 €
URL:https://tik-emmerich.de/event/am-ende-ist-es-kunst-kreative-koepfe-gemeinsam-gestalten/2026-06-12/
LOCATION:Ensemble Schlösschen Borghees\, Hüthumer Straße 180\, Emmerich am Rhein\, NRW\, 46446\, Deutschland
CATEGORIES:Workshop
ATTACH;FMTTYPE=image/jpeg:https://tik-emmerich.de/wp-content/uploads/2025/03/1_Sandra_Koepfe-scaled.jpeg
ORGANIZER;CN="Sandra Heinzel - Schwerpunkt Kunst / Figurenbau und Spiel":MAILTO:info@tik-emmerich.de
END:VEVENT
BEGIN:VEVENT
DTSTART;TZID=Europe/Berlin:20260626T100000
DTEND;TZID=Europe/Berlin:20260626T160000
DTSTAMP:20260422T131535
CREATED:20260112T172239Z
LAST-MODIFIED:20260113T135352Z
UID:10002025-1782468000-1782489600@tik-emmerich.de
SUMMARY:Am Ende ist es Kunst - Kreative Köpfe - Gemeinsam gestalten
DESCRIPTION:Um einen Einstieg ins gemeinsame Tun zu finden\, möchte ich folgendes anbieten; \nTonarbeit „Kopf“\, (selbst mitzubringen Ton-Werkzeug\, alter Lappen\, Behälter für Wasser) \n+ Materialkosten Ton (ohne Brand) 10 €  \nScherenschnitt (freies Motiv) (selbst mitbringen Nagelscheren\, gebogen und gerade\, Cutter) \n+ Materialkosten individuell nach Absprache \nWer aber schon eine eigene Idee oder eigenes Objekt in Arbeit hat\, kann es mitbringen und daran in der Gemeinschaft „Kreativer Köpfe“ weiterarbeiten. \nGemeinsam kreativ sein. Arbeiten an unseren individuellen Objekten. Ob Malen\, Bildhauen\, Basteln… die Richtung ist fast egal\, allerdings ist manche Kunstaktion auch von äußeren Gegebenheiten abhängig. \nWir haben nur sehr begrenzte Lagermöglichkeiten. Noch gibt es keine ausgestattete Werkstatt. \nABER – Wir haben einen wunderbaren Garten. Hier gibt es Plätze\, die sind Wettergeschützt. Es gibt immer lauschige Eckchen\, wo man sich zurückziehen kann\, wenn man dem Input einer KreativGruppe mal ausweichen will. \nIn dieser Gruppe geht es um Austausch\, die Ideenvielfalt\, die Vorgehensweise\, die Möglichkeiten der Kooperation… Darum würde ich mich freuen dich\, oder dich kennenzulernen\, um mit dir gemeinsam zu gestalten\, zu bauen und zu kreieren… \n Für Erwachsenen und Jugendliche  \n Info und Anmeldung: Sandra Heinzel (Vieles – Schwerpunkt Kunst und Figurenbau und spiel) mobil: 0160 94833053 oder info@tik-emmerich.de \nKosten pro Teilnahme 20 €
URL:https://tik-emmerich.de/event/am-ende-ist-es-kunst-kreative-koepfe-gemeinsam-gestalten/2026-06-26/
LOCATION:Ensemble Schlösschen Borghees\, Hüthumer Straße 180\, Emmerich am Rhein\, NRW\, 46446\, Deutschland
CATEGORIES:Workshop
ATTACH;FMTTYPE=image/jpeg:https://tik-emmerich.de/wp-content/uploads/2025/03/1_Sandra_Koepfe-scaled.jpeg
ORGANIZER;CN="Sandra Heinzel - Schwerpunkt Kunst / Figurenbau und Spiel":MAILTO:info@tik-emmerich.de
END:VEVENT
BEGIN:VEVENT
DTSTART;TZID=Europe/Berlin:20260717T100000
DTEND;TZID=Europe/Berlin:20260717T160000
DTSTAMP:20260422T131535
CREATED:20260112T172239Z
LAST-MODIFIED:20260113T135352Z
UID:10002026-1784282400-1784304000@tik-emmerich.de
SUMMARY:Am Ende ist es Kunst - Kreative Köpfe - Gemeinsam gestalten
DESCRIPTION:Um einen Einstieg ins gemeinsame Tun zu finden\, möchte ich folgendes anbieten; \nTonarbeit „Kopf“\, (selbst mitzubringen Ton-Werkzeug\, alter Lappen\, Behälter für Wasser) \n+ Materialkosten Ton (ohne Brand) 10 €  \nScherenschnitt (freies Motiv) (selbst mitbringen Nagelscheren\, gebogen und gerade\, Cutter) \n+ Materialkosten individuell nach Absprache \nWer aber schon eine eigene Idee oder eigenes Objekt in Arbeit hat\, kann es mitbringen und daran in der Gemeinschaft „Kreativer Köpfe“ weiterarbeiten. \nGemeinsam kreativ sein. Arbeiten an unseren individuellen Objekten. Ob Malen\, Bildhauen\, Basteln… die Richtung ist fast egal\, allerdings ist manche Kunstaktion auch von äußeren Gegebenheiten abhängig. \nWir haben nur sehr begrenzte Lagermöglichkeiten. Noch gibt es keine ausgestattete Werkstatt. \nABER – Wir haben einen wunderbaren Garten. Hier gibt es Plätze\, die sind Wettergeschützt. Es gibt immer lauschige Eckchen\, wo man sich zurückziehen kann\, wenn man dem Input einer KreativGruppe mal ausweichen will. \nIn dieser Gruppe geht es um Austausch\, die Ideenvielfalt\, die Vorgehensweise\, die Möglichkeiten der Kooperation… Darum würde ich mich freuen dich\, oder dich kennenzulernen\, um mit dir gemeinsam zu gestalten\, zu bauen und zu kreieren… \n Für Erwachsenen und Jugendliche  \n Info und Anmeldung: Sandra Heinzel (Vieles – Schwerpunkt Kunst und Figurenbau und spiel) mobil: 0160 94833053 oder info@tik-emmerich.de \nKosten pro Teilnahme 20 €
URL:https://tik-emmerich.de/event/am-ende-ist-es-kunst-kreative-koepfe-gemeinsam-gestalten/2026-07-17/
LOCATION:Ensemble Schlösschen Borghees\, Hüthumer Straße 180\, Emmerich am Rhein\, NRW\, 46446\, Deutschland
CATEGORIES:Workshop
ATTACH;FMTTYPE=image/jpeg:https://tik-emmerich.de/wp-content/uploads/2025/03/1_Sandra_Koepfe-scaled.jpeg
ORGANIZER;CN="Sandra Heinzel - Schwerpunkt Kunst / Figurenbau und Spiel":MAILTO:info@tik-emmerich.de
END:VEVENT
BEGIN:VEVENT
DTSTART;TZID=Europe/Berlin:20260821T100000
DTEND;TZID=Europe/Berlin:20260821T160000
DTSTAMP:20260422T131535
CREATED:20260112T172239Z
LAST-MODIFIED:20260113T135352Z
UID:10002027-1787306400-1787328000@tik-emmerich.de
SUMMARY:Am Ende ist es Kunst - Kreative Köpfe - Gemeinsam gestalten
DESCRIPTION:Um einen Einstieg ins gemeinsame Tun zu finden\, möchte ich folgendes anbieten; \nTonarbeit „Kopf“\, (selbst mitzubringen Ton-Werkzeug\, alter Lappen\, Behälter für Wasser) \n+ Materialkosten Ton (ohne Brand) 10 €  \nScherenschnitt (freies Motiv) (selbst mitbringen Nagelscheren\, gebogen und gerade\, Cutter) \n+ Materialkosten individuell nach Absprache \nWer aber schon eine eigene Idee oder eigenes Objekt in Arbeit hat\, kann es mitbringen und daran in der Gemeinschaft „Kreativer Köpfe“ weiterarbeiten. \nGemeinsam kreativ sein. Arbeiten an unseren individuellen Objekten. Ob Malen\, Bildhauen\, Basteln… die Richtung ist fast egal\, allerdings ist manche Kunstaktion auch von äußeren Gegebenheiten abhängig. \nWir haben nur sehr begrenzte Lagermöglichkeiten. Noch gibt es keine ausgestattete Werkstatt. \nABER – Wir haben einen wunderbaren Garten. Hier gibt es Plätze\, die sind Wettergeschützt. Es gibt immer lauschige Eckchen\, wo man sich zurückziehen kann\, wenn man dem Input einer KreativGruppe mal ausweichen will. \nIn dieser Gruppe geht es um Austausch\, die Ideenvielfalt\, die Vorgehensweise\, die Möglichkeiten der Kooperation… Darum würde ich mich freuen dich\, oder dich kennenzulernen\, um mit dir gemeinsam zu gestalten\, zu bauen und zu kreieren… \n Für Erwachsenen und Jugendliche  \n Info und Anmeldung: Sandra Heinzel (Vieles – Schwerpunkt Kunst und Figurenbau und spiel) mobil: 0160 94833053 oder info@tik-emmerich.de \nKosten pro Teilnahme 20 €
URL:https://tik-emmerich.de/event/am-ende-ist-es-kunst-kreative-koepfe-gemeinsam-gestalten/2026-08-21/
LOCATION:Ensemble Schlösschen Borghees\, Hüthumer Straße 180\, Emmerich am Rhein\, NRW\, 46446\, Deutschland
CATEGORIES:Workshop
ATTACH;FMTTYPE=image/jpeg:https://tik-emmerich.de/wp-content/uploads/2025/03/1_Sandra_Koepfe-scaled.jpeg
ORGANIZER;CN="Sandra Heinzel - Schwerpunkt Kunst / Figurenbau und Spiel":MAILTO:info@tik-emmerich.de
END:VEVENT
BEGIN:VEVENT
DTSTART;TZID=Europe/Berlin:20261009T100000
DTEND;TZID=Europe/Berlin:20261009T160000
DTSTAMP:20260422T131535
CREATED:20260112T172239Z
LAST-MODIFIED:20260113T135352Z
UID:10002028-1791540000-1791561600@tik-emmerich.de
SUMMARY:Am Ende ist es Kunst - Kreative Köpfe - Gemeinsam gestalten
DESCRIPTION:Um einen Einstieg ins gemeinsame Tun zu finden\, möchte ich folgendes anbieten; \nTonarbeit „Kopf“\, (selbst mitzubringen Ton-Werkzeug\, alter Lappen\, Behälter für Wasser) \n+ Materialkosten Ton (ohne Brand) 10 €  \nScherenschnitt (freies Motiv) (selbst mitbringen Nagelscheren\, gebogen und gerade\, Cutter) \n+ Materialkosten individuell nach Absprache \nWer aber schon eine eigene Idee oder eigenes Objekt in Arbeit hat\, kann es mitbringen und daran in der Gemeinschaft „Kreativer Köpfe“ weiterarbeiten. \nGemeinsam kreativ sein. Arbeiten an unseren individuellen Objekten. Ob Malen\, Bildhauen\, Basteln… die Richtung ist fast egal\, allerdings ist manche Kunstaktion auch von äußeren Gegebenheiten abhängig. \nWir haben nur sehr begrenzte Lagermöglichkeiten. Noch gibt es keine ausgestattete Werkstatt. \nABER – Wir haben einen wunderbaren Garten. Hier gibt es Plätze\, die sind Wettergeschützt. Es gibt immer lauschige Eckchen\, wo man sich zurückziehen kann\, wenn man dem Input einer KreativGruppe mal ausweichen will. \nIn dieser Gruppe geht es um Austausch\, die Ideenvielfalt\, die Vorgehensweise\, die Möglichkeiten der Kooperation… Darum würde ich mich freuen dich\, oder dich kennenzulernen\, um mit dir gemeinsam zu gestalten\, zu bauen und zu kreieren… \n Für Erwachsenen und Jugendliche  \n Info und Anmeldung: Sandra Heinzel (Vieles – Schwerpunkt Kunst und Figurenbau und spiel) mobil: 0160 94833053 oder info@tik-emmerich.de \nKosten pro Teilnahme 20 €
URL:https://tik-emmerich.de/event/am-ende-ist-es-kunst-kreative-koepfe-gemeinsam-gestalten/2026-10-09/
LOCATION:Ensemble Schlösschen Borghees\, Hüthumer Straße 180\, Emmerich am Rhein\, NRW\, 46446\, Deutschland
CATEGORIES:Workshop
ATTACH;FMTTYPE=image/jpeg:https://tik-emmerich.de/wp-content/uploads/2025/03/1_Sandra_Koepfe-scaled.jpeg
ORGANIZER;CN="Sandra Heinzel - Schwerpunkt Kunst / Figurenbau und Spiel":MAILTO:info@tik-emmerich.de
END:VEVENT
END:VCALENDAR