BEGIN:VCALENDAR
VERSION:2.0
PRODID:-//Ticketshop TIK Figuren- und Marionettentheater | Ensemble Schlösschen Borghees - ECPv6.15.20//NONSGML v1.0//EN
CALSCALE:GREGORIAN
METHOD:PUBLISH
X-WR-CALNAME:Ticketshop TIK Figuren- und Marionettentheater | Ensemble Schlösschen Borghees
X-ORIGINAL-URL:https://tik-emmerich.de
X-WR-CALDESC:Veranstaltungen für Ticketshop TIK Figuren- und Marionettentheater | Ensemble Schlösschen Borghees
REFRESH-INTERVAL;VALUE=DURATION:PT1H
X-Robots-Tag:noindex
X-PUBLISHED-TTL:PT1H
BEGIN:VTIMEZONE
TZID:Europe/Berlin
BEGIN:DAYLIGHT
TZOFFSETFROM:+0100
TZOFFSETTO:+0200
TZNAME:CEST
DTSTART:20250330T010000
END:DAYLIGHT
BEGIN:STANDARD
TZOFFSETFROM:+0200
TZOFFSETTO:+0100
TZNAME:CET
DTSTART:20251026T010000
END:STANDARD
BEGIN:DAYLIGHT
TZOFFSETFROM:+0100
TZOFFSETTO:+0200
TZNAME:CEST
DTSTART:20260329T010000
END:DAYLIGHT
BEGIN:STANDARD
TZOFFSETFROM:+0200
TZOFFSETTO:+0100
TZNAME:CET
DTSTART:20261025T010000
END:STANDARD
BEGIN:DAYLIGHT
TZOFFSETFROM:+0100
TZOFFSETTO:+0200
TZNAME:CEST
DTSTART:20270328T010000
END:DAYLIGHT
BEGIN:STANDARD
TZOFFSETFROM:+0200
TZOFFSETTO:+0100
TZNAME:CET
DTSTART:20271031T010000
END:STANDARD
END:VTIMEZONE
BEGIN:VEVENT
DTSTART;TZID=Europe/Berlin:20260425T170000
DTEND;TZID=Europe/Berlin:20260425T180000
DTSTAMP:20260422T121910
CREATED:20251229T143607Z
LAST-MODIFIED:20251229T143607Z
UID:10001996-1777136400-1777140000@tik-emmerich.de
SUMMARY:Kunst im Garten - Eröffnung mit Uli Mekiska
DESCRIPTION:Einladung zur feierlichen Skulptureneröffnung im Schlösschengarten \nam Ensemble Schlösschen Borghees\, Hüthumer Str. 180 in Emmerich \nAm 25. April um 17.00 Uhr ist es so weit: Im Schlösschengarten wird die erste Skulptur feierlich eröffnet – ein besonderer Moment und zugleich der letzte Projektpunkt der Förderung „Dritte Orte“. \nMit der aus Eiche geschaffenen Skulptur von Uli Mekiska\, ein junger Bildhauer aus Rheinland-Pfalz\, erhält der Garten einen neuen kulturellen Akzent: Kunst tritt in den Dialog mit Natur\, Geschichte und Begegnung. Der Schlösschengarten wird damit noch stärker zu einem Ort des Verweilens\, Austauschs und gemeinsamen Erlebens – ganz im Sinne der Idee der „Dritten Orte“\, die Raum für Gemeinschaft\, Kreativität und Offenheit schaffen. \nWir laden alle Interessierten herzlich ein\, diesen besonderen Anlass mit uns zu feiern. Freuen Sie sich auf inspirierende Einblicke in das Projekt\, anregende Gespräche und einen gemeinsamen Blick auf das\, was durch die Förderung entstanden ist – und was hier künftig weiter wachsen kann. \nIm Anschluss an die Eröffnung um 18.00 Uhr lädt der Gitarrist Peter Autschbach zum Konzert ein. \nKommen Sie vorbei\, bringen Sie Freunde und Familie mit und feiern Sie mit uns Kunst\, Begegnung und einen lebendigen Ort im Herzen des Schlösschengartens. \nWir freuen uns auf Ihren Besuch! \n 
URL:https://tik-emmerich.de/event/kunst-im-garten-eroeffnung-mit-uli-mekiska/
LOCATION:Ensemble Schlösschen Borghees (Catharinas KulturgARTen)\, Hüthumer Straße 180\, Emmerich am Rhein\, NRW\, 46446\, Deutschland
CATEGORIES:Ausstellung,Veranstaltung (sonstige)
ATTACH;FMTTYPE=image/jpeg:https://tik-emmerich.de/wp-content/uploads/2025/12/Sonnenblume_Kunst-im-Garten-scaled.jpeg
ORGANIZER;CN="TIK am Ensemble Schl%C3%B6sschen Borghees":MAILTO:info@tik-emmerich.de
END:VEVENT
BEGIN:VEVENT
DTSTART;TZID=Europe/Berlin:20260621T180000
DTEND;TZID=Europe/Berlin:20260621T180000
DTSTAMP:20260422T121910
CREATED:20251209T100128Z
LAST-MODIFIED:20251210T171842Z
UID:10000876-1782064800-1782064800@tik-emmerich.de
SUMMARY:Sommersonnenwende in Catharinas KulturgARTen 2024
DESCRIPTION:Das TIK Theater Emmerich lädt gemeinsam mit der Heilpraktikerin Birga Meyer ein zur Mittsommernachtsfeier in Catharinas Kulturgarten am Ensemble Schlösschen Borghees. Der 21. Juni ist ein spezieller Tag im Jahreszeitenkalender. An diesem Tag sind Mittsommernacht-Rituale besonders wirksam. Gefeiert wird in dieser kürzesten Nacht des Jahres das Gegenstück zum Julfest (Wintersonnenwende). \nWenn die Tage lang sind\, nehmen nicht nur Pflanzen\, sondern auch wir Menschen ihre Kraft in uns auf. Wir sind kreativ und schaffensfroh und können spielend Herzensvorhaben verwirklichen. Es ist die  Zeit\, um Wachstum und Reife zu bitten – aber auch um Beistand in Liebes- und Herzensangelegenheiten sowie um Heilung. Seit jeher werden in der Mittsommernacht Rituale begangen. \nWir starten mit einer belebenden Yoga-/Atemübung\, um Körper und Geist zu entspannen und in Einklang zu bringen. Durch sanfte Bewegungen und Atemtechniken steigern wir unsere Energie und finden unsere innere Balance. (Bitte Yogamatte mitbringen!) \nHeilpraktikerin und Kräuterexpertin Birga Meyer erläutert die Kräuter des Mittsommers. Dabei gibt sie spannende Einblicke in die Eigenschaften und die Vielfalt der Sommerkräuter. \nBeim feierlichen Ritual zur Sommersonnenwende an der Feuerschale verbinden wir uns mit der Energie des Feuers\, um loszulassen und neue Vorhaben zu manifestieren. \nAus Naturmaterialien gestalten wir unter fachkundiger Anleitung kleine Kunstwerke oder dekorative Elemente\, die die Magie des Sommers widerspiegeln. So entstehen einzigartige Werke zur Erinnerung an diesen besonderen Abend. \nLeitung: Birga Meyer (Heilpraktikerin)\, Judith Hoymann und Sandra Heinzel (beide TIK Theater Emmerich)\nKostenbeitrag pro Person: 15\,00 € (VVK)/20\,00 € (AK) (inkl. 1 Kaltgetränk) \nHinweis zu unseren Stornierungsbedingungen:\nTickets sind grundsätzlich nicht erstattungsfähig\, können jedoch problemlos an andere Personen weitergegeben werden. Wir verstehen\, dass manchmal unvorhergesehene Umstände eintreten können\, die eine Teilnahme verhindern. In diesem Fall haben Sie die Möglichkeit\, Ihre Tickets an Freunde\, Familie oder Bekannte weiterzugeben\, sodass diese das Event genießen können. Vielen Dank für Ihr Verständnis! \n\nFeuer am Johannistag\nTraditionell wird zum Johannistag (24. Juni) ein Feuer entzündet: ein Freudenfeuer\, das die Lebenskraft symbolisiert. Jetzt steht alles in Blüte. Man tanzt um das Feuer\, wirft Kräuter hinein\, singt und betet und springt als Mutprobe über das Feuer. Der Rauch dieses Feuers soll alles reinigen und uns vor bösen Geistern und schlechter Energie schützen. Ein guter Zeitpunkt\, um Altes zu verbrennen und ganz hinter sich zu lassen. \nDie 12 heiligen Tage rund um Johanni\nNach Wolf-Dieter Storl befinden wir uns rund um Mittsommer in den zwölf heiligen Tagen. Sie sind das Pendant zu den Raunächten im Winter. Sie beginnen sechs Tage vor Johanni (also am 18. Juni) und enden sechs Tage danach (30. Juni). Während die Raunächte die Zeit der Besinnung und der Meditation sind\, stehen die heiligen Tage des Sommers eher unter dem Motto des Feierns. Es wird gesungen und getanzt.
URL:https://tik-emmerich.de/event/mittsommernacht-in-catharinas-kulturgarten-2024/
LOCATION:Ensemble Schlösschen Borghees (Catharinas KulturgARTen)\, Hüthumer Straße 180\, Emmerich am Rhein\, NRW\, 46446\, Deutschland
CATEGORIES:Veranstaltung (sonstige),Workshop
ATTACH;FMTTYPE=image/png:https://tik-emmerich.de/wp-content/uploads/2023/12/0624-sommersonnenwende.png
ORGANIZER;CN="TIK am Ensemble Schl%C3%B6sschen Borghees":MAILTO:info@tik-emmerich.de
END:VEVENT
END:VCALENDAR