BEGIN:VCALENDAR
VERSION:2.0
PRODID:-//Ticketshop TIK Figuren- und Marionettentheater | Ensemble Schlösschen Borghees - ECPv6.15.20//NONSGML v1.0//EN
CALSCALE:GREGORIAN
METHOD:PUBLISH
X-WR-CALNAME:Ticketshop TIK Figuren- und Marionettentheater | Ensemble Schlösschen Borghees
X-ORIGINAL-URL:https://tik-emmerich.de
X-WR-CALDESC:Veranstaltungen für Ticketshop TIK Figuren- und Marionettentheater | Ensemble Schlösschen Borghees
REFRESH-INTERVAL;VALUE=DURATION:PT1H
X-Robots-Tag:noindex
X-PUBLISHED-TTL:PT1H
BEGIN:VTIMEZONE
TZID:Europe/Berlin
BEGIN:DAYLIGHT
TZOFFSETFROM:+0100
TZOFFSETTO:+0200
TZNAME:CEST
DTSTART:20220327T010000
END:DAYLIGHT
BEGIN:STANDARD
TZOFFSETFROM:+0200
TZOFFSETTO:+0100
TZNAME:CET
DTSTART:20221030T010000
END:STANDARD
BEGIN:DAYLIGHT
TZOFFSETFROM:+0100
TZOFFSETTO:+0200
TZNAME:CEST
DTSTART:20230326T010000
END:DAYLIGHT
BEGIN:STANDARD
TZOFFSETFROM:+0200
TZOFFSETTO:+0100
TZNAME:CET
DTSTART:20231029T010000
END:STANDARD
BEGIN:DAYLIGHT
TZOFFSETFROM:+0100
TZOFFSETTO:+0200
TZNAME:CEST
DTSTART:20240331T010000
END:DAYLIGHT
BEGIN:STANDARD
TZOFFSETFROM:+0200
TZOFFSETTO:+0100
TZNAME:CET
DTSTART:20241027T010000
END:STANDARD
BEGIN:DAYLIGHT
TZOFFSETFROM:+0100
TZOFFSETTO:+0200
TZNAME:CEST
DTSTART:20250330T010000
END:DAYLIGHT
BEGIN:STANDARD
TZOFFSETFROM:+0200
TZOFFSETTO:+0100
TZNAME:CET
DTSTART:20251026T010000
END:STANDARD
BEGIN:DAYLIGHT
TZOFFSETFROM:+0100
TZOFFSETTO:+0200
TZNAME:CEST
DTSTART:20260329T010000
END:DAYLIGHT
BEGIN:STANDARD
TZOFFSETFROM:+0200
TZOFFSETTO:+0100
TZNAME:CET
DTSTART:20261025T010000
END:STANDARD
END:VTIMEZONE
BEGIN:VEVENT
DTSTART;TZID=Europe/Berlin:20251214T113000
DTEND;TZID=Europe/Berlin:20251214T123000
DTSTAMP:20260423T121312
CREATED:20250121T112422Z
LAST-MODIFIED:20250121T112422Z
UID:10001272-1765711800-1765715400@tik-emmerich.de
SUMMARY:Sonntagskonzert im Schlösschen Borghees mit Hyelim Kim (Süd-Korea) am Klavier
DESCRIPTION:Jeden 2. Sonntag im Monat bietet die KKK (Kultur Künste Kontakte) Emmerich am Rhein\, ein Konzert an. \nACHTUNG : Die Konzerte finden in der oberen Etage des Schlösschens statt und sind somit nicht Barrierefrei! \nDer Eintritt ist frei – um eine Spende wird gebeten.
URL:https://tik-emmerich.de/event/sonntagskonzert-im-schloesschen-borghees-mit-hyelim-kim-sued-korea-am-klavier/
LOCATION:Schlösschen Borghees
CATEGORIES:Konzert
ATTACH;FMTTYPE=image/jpeg:https://tik-emmerich.de/wp-content/uploads/2021/12/musik-scaled.jpeg
END:VEVENT
BEGIN:VEVENT
DTSTART;TZID=Europe/Berlin:20251109T113000
DTEND;TZID=Europe/Berlin:20251109T123000
DTSTAMP:20260423T121312
CREATED:20250121T112319Z
LAST-MODIFIED:20250121T112319Z
UID:10001271-1762687800-1762691400@tik-emmerich.de
SUMMARY:Sonntagskonzert im Schlösschen Borghees mit Clara Strobel (Klavier) und Elena Meyer (Violine)
DESCRIPTION:Jeden 2. Sonntag im Monat bietet die KKK (Kultur Künste Kontakte) Emmerich am Rhein\, ein Konzert an. \nACHTUNG : Die Konzerte finden in der oberen Etage des Schlösschens statt und sind somit nicht Barrierefrei! \nDer Eintritt ist frei – um eine Spende wird gebeten.
URL:https://tik-emmerich.de/event/sonntagskonzert-im-schloesschen-borghees-mit-clara-strobel-klavier-und-elena-meyer-violine/
LOCATION:Schlösschen Borghees
CATEGORIES:Konzert
ATTACH;FMTTYPE=image/jpeg:https://tik-emmerich.de/wp-content/uploads/2021/12/musik-scaled.jpeg
END:VEVENT
BEGIN:VEVENT
DTSTART;TZID=Europe/Berlin:20251012T113000
DTEND;TZID=Europe/Berlin:20251012T123000
DTSTAMP:20260423T121312
CREATED:20250121T112153Z
LAST-MODIFIED:20250121T112153Z
UID:10001270-1760268600-1760272200@tik-emmerich.de
SUMMARY:Sonntagskonzert im Schlösschen Borghees mit Christian Sanders (Niederlande) am Klavier
DESCRIPTION:Jeden 2. Sonntag im Monat bietet die KKK (Kultur Künste Kontakte) Emmerich am Rhein\, ein Konzert an. \nACHTUNG : Die Konzerte finden in der oberen Etage des Schlösschens statt und sind somit nicht Barrierefrei! \nDer Eintritt ist frei – um eine Spende wird gebeten.
URL:https://tik-emmerich.de/event/sonntagskonzert-im-schloesschen-borghees-mit-christian-sanders-niederlande-am-klavier/
LOCATION:Schlösschen Borghees
CATEGORIES:Konzert
ATTACH;FMTTYPE=image/jpeg:https://tik-emmerich.de/wp-content/uploads/2021/12/musik-scaled.jpeg
END:VEVENT
BEGIN:VEVENT
DTSTART;TZID=Europe/Berlin:20250914T113000
DTEND;TZID=Europe/Berlin:20250914T123000
DTSTAMP:20260423T121312
CREATED:20250121T112059Z
LAST-MODIFIED:20250729T094355Z
UID:10001269-1757849400-1757853000@tik-emmerich.de
SUMMARY:Sonntagskonzert im - Achtung diese mal ausnahmsweise im Stadttheater Emmerich - mit Angel Laguna (Spanien) am Klavier
DESCRIPTION:Jeden 2. Sonntag im Monat bietet die KKK (Kultur Künste Kontakte) Emmerich am Rhein\, ein Konzert an. \nACHTUNG : Dieses Konzerte finden ausnahmsweise nicht im Schlösschen Borghees sondern im Stadttheater statt \nDer Eintritt ist frei – um eine Spende wird gebeten.
URL:https://tik-emmerich.de/event/sonntagskonzert-im-schloesschen-borghees-mit-angel-laguna-spanien-am-klavier/
LOCATION:Schlösschen Borghees
CATEGORIES:Konzert
ATTACH;FMTTYPE=image/jpeg:https://tik-emmerich.de/wp-content/uploads/2021/12/musik-scaled.jpeg
END:VEVENT
BEGIN:VEVENT
DTSTART;TZID=Europe/Berlin:20250810T113000
DTEND;TZID=Europe/Berlin:20250810T123000
DTSTAMP:20260423T121312
CREATED:20250121T111952Z
LAST-MODIFIED:20250121T111952Z
UID:10001268-1754825400-1754829000@tik-emmerich.de
SUMMARY:Sonntagskonzert im Schlösschen Borghees mit Elena Meyer (Violine)
DESCRIPTION:Jeden 2. Sonntag im Monat bietet die KKK (Kultur Künste Kontakte) Emmerich am Rhein\, ein Konzert an. \nACHTUNG : Die Konzerte finden in der oberen Etage des Schlösschens statt und sind somit nicht Barrierefrei! \nDer Eintritt ist frei – um eine Spende wird gebeten.
URL:https://tik-emmerich.de/event/sonntagskonzert-im-schloesschen-borghees-mit-elena-meyer-violine/
LOCATION:Schlösschen Borghees
CATEGORIES:Konzert
ATTACH;FMTTYPE=image/jpeg:https://tik-emmerich.de/wp-content/uploads/2021/12/musik-scaled.jpeg
END:VEVENT
BEGIN:VEVENT
DTSTART;TZID=Europe/Berlin:20250713T113000
DTEND;TZID=Europe/Berlin:20250713T123000
DTSTAMP:20260423T121312
CREATED:20250121T111657Z
LAST-MODIFIED:20250121T111657Z
UID:10001267-1752406200-1752409800@tik-emmerich.de
SUMMARY:Sonntagskonzert im Schlösschen Borghees mit Guiseppe d´Elia (Klavier) - Anna Haas (Violine)
DESCRIPTION:Jeden 2. Sonntag im Monat bietet die KKK (Kultur Künste Kontakte) Emmerich am Rhein\, ein Konzert an. \nACHTUNG : Die Konzerte finden in der oberen Etage des Schlösschens statt und sind somit nicht Barrierefrei! \nDer Eintritt ist frei – um eine Spende wird gebeten.
URL:https://tik-emmerich.de/event/sonntagskonzert-im-schloesschen-borghees-mit-guiseppe-delia-klavier-anna-haas-violine/
LOCATION:Schlösschen Borghees
CATEGORIES:Konzert
ATTACH;FMTTYPE=image/jpeg:https://tik-emmerich.de/wp-content/uploads/2021/12/musik-scaled.jpeg
END:VEVENT
BEGIN:VEVENT
DTSTART;TZID=Europe/Berlin:20250608T113000
DTEND;TZID=Europe/Berlin:20250615T123000
DTSTAMP:20260423T121312
CREATED:20250121T111339Z
LAST-MODIFIED:20250606T133647Z
UID:10001266-1749382200-1749990600@tik-emmerich.de
SUMMARY:Sonntagskonzert im Schlösschen Borghees mit Dasha Serck (Violine) aus den Niederlanden
DESCRIPTION:Jeden 2. Sonntag im Monat bietet die KKK (Kultur Künste Kontakte) Emmerich am Rhein\, ein Konzert an. \nACHTUNG : Die Konzerte finden in der oberen Etage des Schlösschens statt und sind somit nicht Barrierefrei! \nDer Eintritt ist frei – um eine Spende wird gebeten.
URL:https://tik-emmerich.de/event/sonntagskonzert-im-schloesschen-borghees-mit-dasha-serck-violine-aus-den-niederlanden/
LOCATION:Schlösschen Borghees
CATEGORIES:Konzert
ATTACH;FMTTYPE=image/jpeg:https://tik-emmerich.de/wp-content/uploads/2021/12/musik-scaled.jpeg
END:VEVENT
BEGIN:VEVENT
DTSTART;TZID=Europe/Berlin:20250511T113000
DTEND;TZID=Europe/Berlin:20250511T123000
DTSTAMP:20260423T121312
CREATED:20250121T111149Z
LAST-MODIFIED:20250121T111149Z
UID:10001265-1746963000-1746966600@tik-emmerich.de
SUMMARY:Sonntagskonzert im Schlösschen Borghees mit Aleandro Giuseppe Libano (Klavier) und Cosimo Linoci (Italien)
DESCRIPTION:Jeden 2. Sonntag im Monat bietet die KKK (Kultur Künste Kontakte) Emmerich am Rhein\, ein Konzert an. \nACHTUNG : Die Konzerte finden in der oberen Etage des Schlösschens statt und sind somit nicht Barrierefrei! \nDer Eintritt ist frei – um eine Spende wird gebeten.
URL:https://tik-emmerich.de/event/sonntagskonzert-im-schloesschen-borghees-mit-aleandro-giuseppe-libano-klavier-und-cosimo-linoci-italien/
LOCATION:Schlösschen Borghees
CATEGORIES:Konzert
ATTACH;FMTTYPE=image/jpeg:https://tik-emmerich.de/wp-content/uploads/2021/12/musik-scaled.jpeg
END:VEVENT
BEGIN:VEVENT
DTSTART;TZID=Europe/Berlin:20250413T113000
DTEND;TZID=Europe/Berlin:20250413T123000
DTSTAMP:20260423T121312
CREATED:20250121T111000Z
LAST-MODIFIED:20250121T111000Z
UID:10001264-1744543800-1744547400@tik-emmerich.de
SUMMARY:Sonntagskonzert im Schlösschen Borghees mit Edwin Szwaikowski (Litauen) am Klavier
DESCRIPTION:Jeden 2. Sonntag im Monat bietet die KKK (Kultur Künste Kontakte) Emmerich am Rhein\, ein Konzert an. \nACHTUNG : Die Konzerte finden in der oberen Etage des Schlösschens statt und sind somit nicht Barrierefrei! \nDer Eintritt ist frei – um eine Spende wird gebeten.
URL:https://tik-emmerich.de/event/sonntagskonzert-im-schloesschen-borghees-mit-edwin-szwaikowski-litauen-am-klavier/
LOCATION:Schlösschen Borghees
CATEGORIES:Konzert
ATTACH;FMTTYPE=image/jpeg:https://tik-emmerich.de/wp-content/uploads/2021/12/musik-scaled.jpeg
END:VEVENT
BEGIN:VEVENT
DTSTART;TZID=Europe/Berlin:20250309T113000
DTEND;TZID=Europe/Berlin:20250309T123000
DTSTAMP:20260423T121312
CREATED:20250121T110732Z
LAST-MODIFIED:20250121T110732Z
UID:10001263-1741519800-1741523400@tik-emmerich.de
SUMMARY:Sonntagskonzert im Schlösschen Borghees mit Nicole Rudi (Piano) und Dasha Serck (Violine)
DESCRIPTION:Jeden 2. Sonntag im Monat bietet die KKK (Kultur Künste Kontakte) Emmerich am Rhein\, ein Konzert an. \nACHTUNG : Die Konzerte finden in der oberen Etage des Schlösschens statt und sind somit nicht Barrierefrei! \nDer Eintritt ist frei – um eine Spende wird gebeten.
URL:https://tik-emmerich.de/event/sonntagskonzert-im-schloesschen-borghees-mit-nicole-rudi-piano-und-dasha-serck-violine/
LOCATION:Schlösschen Borghees
CATEGORIES:Konzert
ATTACH;FMTTYPE=image/jpeg:https://tik-emmerich.de/wp-content/uploads/2021/12/musik-scaled.jpeg
END:VEVENT
BEGIN:VEVENT
DTSTART;TZID=Europe/Berlin:20250209T113000
DTEND;TZID=Europe/Berlin:20250209T123000
DTSTAMP:20260423T121312
CREATED:20250121T112712Z
LAST-MODIFIED:20250121T112712Z
UID:10001273-1739100600-1739104200@tik-emmerich.de
SUMMARY:Sonntagskonzert im Schlösschen Borghees mit Tsuzumi Namikawa (Japan) am Klavier
DESCRIPTION:Jeden 2. Sonntag im Monat bietet die KKK (Kultur Künste Kontakte) Emmerich am Rhein\, ein Konzert an. \nACHTUNG : Die Konzerte finden in der oberen Etage des Schlösschens statt und sind somit nicht Barrierefrei! \nDer Eintritt ist frei – um eine Spende wird gebeten.
URL:https://tik-emmerich.de/event/sonntagskonzert-im-schloesschen-borghees-mit-tsuzumi-namikawa-japan-am-klavier/
LOCATION:Schlösschen Borghees
CATEGORIES:Konzert
ATTACH;FMTTYPE=image/jpeg:https://tik-emmerich.de/wp-content/uploads/2021/12/musik-scaled.jpeg
END:VEVENT
BEGIN:VEVENT
DTSTART;TZID=Europe/Berlin:20241208T113000
DTEND;TZID=Europe/Berlin:20241208T113000
DTSTAMP:20260423T121312
CREATED:20240820T112856Z
LAST-MODIFIED:20240820T112856Z
UID:10001223-1733657400-1733657400@tik-emmerich.de
SUMMARY:Konzertmatineé mit Tetiana Bielikova und Dmytro Udovychenko
DESCRIPTION:Konzert für Piano und Violine \nEintritt ist FREI \nBitte beachten Sie\, dass der Konzertraum im Schlösschen NICHT BARRIEREFREI zugänglich ist!! \nWeiter Infos zu dieser Veranstaltung erhalten SIe bei Andrea Joosten – Kultur-Künste-Kontakte- 02822-752000
URL:https://tik-emmerich.de/event/konzertmatinee-mit-tetiana-bielikova-und-dmytro-udovychenko/
LOCATION:Schlösschen Borghees
CATEGORIES:Konzert
END:VEVENT
BEGIN:VEVENT
DTSTART;TZID=Europe/Berlin:20241110T113000
DTEND;TZID=Europe/Berlin:20241110T120000
DTSTAMP:20260423T121312
CREATED:20240820T105726Z
LAST-MODIFIED:20240820T105726Z
UID:10001219-1731238200-1731240000@tik-emmerich.de
SUMMARY:Konzertmatineé mit Victoria Nava (Piano)
DESCRIPTION:Als Pianistin von bemerkenswerter Intelligenz und Eleganz ist Victoria Nava eine brillante Geschichtenerzählerin mit charismatischer Bühnenpräsenz. Ihre Interpretationen zeugen von einer reichen Farbpalette und einem sensiblen und tiefen Verständnis für die Musik\, die sie spielt. -La Nueva Crónica\, León\, Spanien Victoria Navas Konzerttätigkeit führte sie an renommierte Veranstaltungsorte in Europa\, darunter in die Robert-Schumann-Halle in Düsseldorf\, das Auditorio de la Ciudad León in Spanien und das Bozar Bruxelles in Belgien. Victoria war außerdem Gast des Schumannfest-Festivals für die Tonhalle Düsseldorf und trat als Solistin bei den internationalen Festivals Nei Suoni dei Luoghi in Italien\, dem Euregio-Rhein-Waal-Musikfestival in Deutschland und Holland sowie beim Ciclo de Maestros Internacionales-Fundación auf Eutherpe in Spanien. Zusammen mit ihrem Duopartner\, dem albanischen Cellisten Klaudio Zoto\, trat Victoria für die WRD3 Radio Campus Concert Series auf und wurde im Dezember 2023 zum Eröffnungskonzert des Schumann-Hauses Düsseldorf ins Palais Wittgenstein und ins Heinrich-Heine-Institut Düsseldorf eingeladen. Ihre künstlerischen Leistungen wurden durch verschiedene Auszeichnungen gewürdigt\, darunter den 3. Preis beim Sieghardt-Rometsch-Wettbewerb 2023 in der Kategorie Kammermusik-Klaviertrio. Gemeinsam mit ihren Kammermusikpartnern Annika Franke (Violine) und Klaudio Zoto (Cello) tritt sie regelmäßig unter dem Ensemblenamen Trio Capriccio auf. Im Februar 2024 wurden sie als eine von drei Gruppen für die Teilnahme an einem Meisterkurs von Maestro Alfred Brendel ausgewählt. Victoria ist Stipendiatin des Deutschlandstipendiums 2023/2024\, des Yehudi Menuhin Live Music Now Rhein-Ruhr Vereins\, des Promos Auslandsstipendiums der Robert Schumann Hochschule Düsseldorf sowie der Privatstipendien Tonali Artepreneurship und Musiker:innen Beflügeln. Sie wurde mit dem Preis der italienischen Stiftung „Associazione Progetto Musica“ geehrt und ist Hauptpreisträgerin des Internationalen Klavierwettbewerbs des Mahler-Instituts (Tschechische Republik) sowie des Internationalen Klavierwettbewerbs Propiano (Spanien). Victoria Nava wurde 1997 in Brüssel geboren und begann ihre musikalische Ausbildung am Königlichen Konservatorium Brüssel. Dort schloss sie 2018 ihr Bachelorstudium ab. (TEXT Webseite der Künstlerin)\nDer Eintritt ist frei – Bitte beachten Sie\, dass das Schlösschen NICHT BARRIEREFREI zugänglich ist! \nWeitere Infos zu dieser Veranstaltungen erteilt Ihnen gerne: Andrea Joosten Tel: 02822-752000
URL:https://tik-emmerich.de/event/konzertmatinee-mit-victoria-nava-piano/
LOCATION:Schlösschen Borghees
CATEGORIES:Konzert
ATTACH;FMTTYPE=image/jpeg:https://tik-emmerich.de/wp-content/uploads/2024/08/24-11-10-Victoria-Nava-bron-Maria-Diez-scaled.jpg
END:VEVENT
BEGIN:VEVENT
DTSTART;TZID=Europe/Berlin:20241020T110000
DTEND;TZID=Europe/Berlin:20241215T170000
DTSTAMP:20260423T121312
CREATED:20240820T103655Z
LAST-MODIFIED:20240820T103655Z
UID:10001217-1729422000-1734282000@tik-emmerich.de
SUMMARY:Austellungseröffnung Gabriele Krafft - Collagen
DESCRIPTION:Ausstellung Gabriele Krafft – Collagen 20.10.-15.12.2024 \nDie von den Kulturbetrieben organisierten Ausstellungen werden im Schlösschen Borghees in allen Räumen gezeigt. \nGeöffnet sind die Räumlichkeiten während der Ausstellung jeden Sonntag von 11-17.00 Uhr.\nDer Eintritt ist kostenlos. \nBitte beachten Sie\, dass das Schlösschen nicht in allen Räumen barrierefrei zugänglich ist! \n 
URL:https://tik-emmerich.de/event/austellungseroeffnung-gabriele-krafft-collagen/
LOCATION:Schlösschen Borghees
CATEGORIES:Ausstellung
END:VEVENT
BEGIN:VEVENT
DTSTART;TZID=Europe/Berlin:20241013T113000
DTEND;TZID=Europe/Berlin:20241013T113000
DTSTAMP:20260423T121312
CREATED:20240820T094526Z
LAST-MODIFIED:20240820T094526Z
UID:10001214-1728819000-1728819000@tik-emmerich.de
SUMMARY:Konzertmatineé mit dem Duo Zagara
DESCRIPTION:Das Duo Zágara ist aus der Zusammenarbeit von Alice Vecchio (Harfe) und Patricija Fajdiga (Flöte) entstanden.\nEine Italienerin und ein Slowenierin\, lernten sie sich in Münster kennen: Dank ihrer Begegnung\nhaben sie ihr Projekt ins Leben gerufen\, das wirklich an die verbindende Kraft der Musik glaubt\, unabhängig von ihrer Herkunft\,\nVielfalt und Kulturen. \nEintritt FREI \nACHTUNG das Konzert findet im Schlösschen statt in der 1. Etage und ist somit NICHT BARRIEREFREI zu erreichen. \nWeitere Infos : Andrea Joosten Tel: 02822-752000
URL:https://tik-emmerich.de/event/konzertmatinee-mit-dem-duo-zagara/
LOCATION:Schlösschen Borghees
CATEGORIES:Konzert
ATTACH;FMTTYPE=image/jpeg:https://tik-emmerich.de/wp-content/uploads/2024/08/24-10-13-Duo-ZagaraPatricija-Fajdiga-AliceVecchio-bron-onbekend-scaled.jpg
END:VEVENT
BEGIN:VEVENT
DTSTART;TZID=Europe/Berlin:20231104T190000
DTEND;TZID=Europe/Berlin:20231104T190000
DTSTAMP:20260423T121312
CREATED:20230927T092113Z
LAST-MODIFIED:20230927T092113Z
UID:10000837-1699124400-1699124400@tik-emmerich.de
SUMMARY:Schläft ein Lied in allen Dingen
DESCRIPTION:Konzert „Schläft ein Lied in allen Dingen“ (Joseph von Eichendorff)\nMirjam Hardenberg: Gesang & Cello\nNorbert van Os: Gitarre\nSchlösschen Borghees am Samstag\, 04. November 2023\, um 19:00 Uhr \nEinzigartig ist\, dass das Konzert aufgrund der variablen Besetzung klanglich und instrumental vielgestaltig ist: so wird die Gitarre den Gesang als auch das Cello begleiten\, aber auch als klassisches Soloinstrument zu hören sein. \nRepertoire: John Dowland\, J.S. Bach\, Arvo Pärt\,\nAstor Piazolla und Frederico Gracia Lorca \n€ 12\,-/ 15\,- Abendkasse / € 5\,- Studierende\nTickets unter: Theaterbüro\, Grollscher Weg 6\,\n46446 Emmerich am Rhein\nTel.: 02822 – 75 2000 oder www.reservix.de
URL:https://tik-emmerich.de/event/schlaeft-ein-lied-in-allen-dingen/
LOCATION:Schlösschen Borghees
CATEGORIES:Konzert
ATTACH;FMTTYPE=image/jpeg:https://tik-emmerich.de/wp-content/uploads/2023/09/Foto-von-beiden-scaled.jpg
END:VEVENT
BEGIN:VEVENT
DTSTART;TZID=Europe/Berlin:20231022T110000
DTEND;TZID=Europe/Berlin:20231022T140000
DTSTAMP:20260423T121312
CREATED:20230927T091859Z
LAST-MODIFIED:20230927T091859Z
UID:10000836-1697972400-1697983200@tik-emmerich.de
SUMMARY:KUNST kommt zu WORT
DESCRIPTION:Kreative Schreibwerkstatt mit Renate Schmitz-Gebel \nim Schlösschen Borghees\, am 22. Oktober 2023 von 11 Uhr bis 14 Uhr\nzur Finissage der Ausstellung „Naturgestalten“ von Christa Schumacher \nEine Kooperationsveranstaltung der Stadtbücherei Emmerich am Rhein und dem Stadttheater Emmerich am Rhein. \nAn diesem Sonntagvormittag werden wir die zarten Gewebe der aktuellen Aus-stellung von Christa Schumacher schreibend zum Sprechen bringen und den Kunstwerken eigene Worte schenken. Dies gelingt mühelos und spielerisch leicht\, wenn Renate Schmitz-Gebel Sie begleitet. Als Dozentin für Kreatives Schreiben hat sie pfiffige Tipps und originelle Impulse im Gepäck\, mit denen jede und jeder mit viel Freude und ohne Anstrengung schreiben kann. Alles\, was Sie dazu brauchen\, ist Neugier\, ihren Lieblingsstift und einige Blätter Papier. \nMitmachbeitrag: 20\,00 € (inkl. Kaffee und Kuchen) \nEine vorherige Anmeldung ist \nerforderlich:\nStadttheater Emmerich am Rhein\nGrollscher Weg 6\nD-46446 Emmerich am Rhein\nTel.: 02822 – 75 2000 \n 
URL:https://tik-emmerich.de/event/kunst-kommt-zu-wort/
LOCATION:Schlösschen Borghees
CATEGORIES:Workshop
ATTACH;FMTTYPE=image/jpeg:https://tik-emmerich.de/wp-content/uploads/2023/09/Pressebild-Renate-Schmitz-Gebel.jpg
END:VEVENT
BEGIN:VEVENT
DTSTART;TZID=Europe/Berlin:20230618T110000
DTEND;TZID=Europe/Berlin:20230618T170000
DTSTAMP:20260423T121312
CREATED:20230503T113339Z
LAST-MODIFIED:20230504T065512Z
UID:10000771-1687086000-1687107600@tik-emmerich.de
SUMMARY:Farbe Form Figur
DESCRIPTION:Irmgard Gille \nAusstellung im Schlösschen Borghees \nDie Ausstellung ist bis zum 18.06.2023 immer sonntags von 11.00 – 17.00 Uhr geöffnet. \nDer Eintritt ist frei.
URL:https://tik-emmerich.de/event/farbe-form-figur/2023-06-18/
LOCATION:Schlösschen Borghees
CATEGORIES:Ausstellung
ATTACH;FMTTYPE=image/jpeg:https://tik-emmerich.de/wp-content/uploads/2023/05/Bild_Imrgard_Gille_April23.jpg
END:VEVENT
BEGIN:VEVENT
DTSTART;TZID=Europe/Berlin:20230611T110000
DTEND;TZID=Europe/Berlin:20230611T170000
DTSTAMP:20260423T121312
CREATED:20230503T113339Z
LAST-MODIFIED:20230504T065512Z
UID:10000770-1686481200-1686502800@tik-emmerich.de
SUMMARY:Farbe Form Figur
DESCRIPTION:Irmgard Gille \nAusstellung im Schlösschen Borghees \nDie Ausstellung ist bis zum 18.06.2023 immer sonntags von 11.00 – 17.00 Uhr geöffnet. \nDer Eintritt ist frei.
URL:https://tik-emmerich.de/event/farbe-form-figur/2023-06-11/
LOCATION:Schlösschen Borghees
CATEGORIES:Ausstellung
ATTACH;FMTTYPE=image/jpeg:https://tik-emmerich.de/wp-content/uploads/2023/05/Bild_Imrgard_Gille_April23.jpg
END:VEVENT
BEGIN:VEVENT
DTSTART;TZID=Europe/Berlin:20230604T110000
DTEND;TZID=Europe/Berlin:20230604T170000
DTSTAMP:20260423T121312
CREATED:20230503T113339Z
LAST-MODIFIED:20230504T065512Z
UID:10000769-1685876400-1685898000@tik-emmerich.de
SUMMARY:Farbe Form Figur
DESCRIPTION:Irmgard Gille \nAusstellung im Schlösschen Borghees \nDie Ausstellung ist bis zum 18.06.2023 immer sonntags von 11.00 – 17.00 Uhr geöffnet. \nDer Eintritt ist frei.
URL:https://tik-emmerich.de/event/farbe-form-figur/2023-06-04/
LOCATION:Schlösschen Borghees
CATEGORIES:Ausstellung
ATTACH;FMTTYPE=image/jpeg:https://tik-emmerich.de/wp-content/uploads/2023/05/Bild_Imrgard_Gille_April23.jpg
END:VEVENT
BEGIN:VEVENT
DTSTART;TZID=Europe/Berlin:20230528T110000
DTEND;TZID=Europe/Berlin:20230528T170000
DTSTAMP:20260423T121312
CREATED:20230503T113339Z
LAST-MODIFIED:20230504T065512Z
UID:10000768-1685271600-1685293200@tik-emmerich.de
SUMMARY:Farbe Form Figur
DESCRIPTION:Irmgard Gille \nAusstellung im Schlösschen Borghees \nDie Ausstellung ist bis zum 18.06.2023 immer sonntags von 11.00 – 17.00 Uhr geöffnet. \nDer Eintritt ist frei.
URL:https://tik-emmerich.de/event/farbe-form-figur/2023-05-28/
LOCATION:Schlösschen Borghees
CATEGORIES:Ausstellung
ATTACH;FMTTYPE=image/jpeg:https://tik-emmerich.de/wp-content/uploads/2023/05/Bild_Imrgard_Gille_April23.jpg
END:VEVENT
BEGIN:VEVENT
DTSTART;TZID=Europe/Berlin:20230521T110000
DTEND;TZID=Europe/Berlin:20230521T170000
DTSTAMP:20260423T121312
CREATED:20230503T113339Z
LAST-MODIFIED:20230504T065512Z
UID:10000767-1684666800-1684688400@tik-emmerich.de
SUMMARY:Farbe Form Figur
DESCRIPTION:Irmgard Gille \nAusstellung im Schlösschen Borghees \nDie Ausstellung ist bis zum 18.06.2023 immer sonntags von 11.00 – 17.00 Uhr geöffnet. \nDer Eintritt ist frei.
URL:https://tik-emmerich.de/event/farbe-form-figur/2023-05-21/
LOCATION:Schlösschen Borghees
CATEGORIES:Ausstellung
ATTACH;FMTTYPE=image/jpeg:https://tik-emmerich.de/wp-content/uploads/2023/05/Bild_Imrgard_Gille_April23.jpg
END:VEVENT
BEGIN:VEVENT
DTSTART;TZID=Europe/Berlin:20230520T200000
DTEND;TZID=Europe/Berlin:20230520T200000
DTSTAMP:20260423T121312
CREATED:20230503T113557Z
LAST-MODIFIED:20230503T113557Z
UID:10000772-1684612800-1684612800@tik-emmerich.de
SUMMARY:Sous le ciel de Paris - Vive la chanson!
DESCRIPTION:Chanson-Konzert mit Jochen Jasner im Schlösschen Borghees \nChansons von Brel\, Brassens\, Gréco\, Montand\, Aznavour\, Piaf\, Ferrat\, Satie\, Fabian u.a. \nEintritt: € 15\,- / € 5\,- Schüler + Studenten \nTickets unter: Theaterbüro\, Grollscher Weg 6\, 46446 Emmerich am Rhein \nTel.: 02822 – 75 2000 oder www.reservix.de \n 
URL:https://tik-emmerich.de/event/sous-le-ciel-de-paris-vive-la-chanson/
LOCATION:Schlösschen Borghees
CATEGORIES:Konzert
ATTACH;FMTTYPE=image/jpeg:https://tik-emmerich.de/wp-content/uploads/2023/05/Jasner-l-Pressebild_04b-300-dpi-RGB-scaled.jpg
END:VEVENT
BEGIN:VEVENT
DTSTART;TZID=Europe/Berlin:20230514T110000
DTEND;TZID=Europe/Berlin:20230514T170000
DTSTAMP:20260423T121312
CREATED:20230503T113339Z
LAST-MODIFIED:20230504T065512Z
UID:10000766-1684062000-1684083600@tik-emmerich.de
SUMMARY:Farbe Form Figur
DESCRIPTION:Irmgard Gille \nAusstellung im Schlösschen Borghees \nDie Ausstellung ist bis zum 18.06.2023 immer sonntags von 11.00 – 17.00 Uhr geöffnet. \nDer Eintritt ist frei.
URL:https://tik-emmerich.de/event/farbe-form-figur/2023-05-14/
LOCATION:Schlösschen Borghees
CATEGORIES:Ausstellung
ATTACH;FMTTYPE=image/jpeg:https://tik-emmerich.de/wp-content/uploads/2023/05/Bild_Imrgard_Gille_April23.jpg
END:VEVENT
BEGIN:VEVENT
DTSTART;TZID=Europe/Berlin:20230507T110000
DTEND;TZID=Europe/Berlin:20230507T170000
DTSTAMP:20260423T121312
CREATED:20230503T113339Z
LAST-MODIFIED:20230504T065512Z
UID:10000765-1683457200-1683478800@tik-emmerich.de
SUMMARY:Farbe Form Figur
DESCRIPTION:Irmgard Gille \nAusstellung im Schlösschen Borghees \nDie Ausstellung ist bis zum 18.06.2023 immer sonntags von 11.00 – 17.00 Uhr geöffnet. \nDer Eintritt ist frei.
URL:https://tik-emmerich.de/event/farbe-form-figur/2023-05-07/
LOCATION:Schlösschen Borghees
CATEGORIES:Ausstellung
ATTACH;FMTTYPE=image/jpeg:https://tik-emmerich.de/wp-content/uploads/2023/05/Bild_Imrgard_Gille_April23.jpg
END:VEVENT
BEGIN:VEVENT
DTSTART;TZID=Europe/Berlin:20230430T110000
DTEND;TZID=Europe/Berlin:20230430T170000
DTSTAMP:20260423T121312
CREATED:20230503T113339Z
LAST-MODIFIED:20230504T065512Z
UID:10000764-1682852400-1682874000@tik-emmerich.de
SUMMARY:Farbe Form Figur
DESCRIPTION:Irmgard Gille \nAusstellung im Schlösschen Borghees \nDie Ausstellung ist bis zum 18.06.2023 immer sonntags von 11.00 – 17.00 Uhr geöffnet. \nDer Eintritt ist frei.
URL:https://tik-emmerich.de/event/farbe-form-figur/2023-04-30/
LOCATION:Schlösschen Borghees
CATEGORIES:Ausstellung
ATTACH;FMTTYPE=image/jpeg:https://tik-emmerich.de/wp-content/uploads/2023/05/Bild_Imrgard_Gille_April23.jpg
END:VEVENT
BEGIN:VEVENT
DTSTART;TZID=Europe/Berlin:20230423T110000
DTEND;TZID=Europe/Berlin:20230423T170000
DTSTAMP:20260423T121312
CREATED:20230503T113339Z
LAST-MODIFIED:20230504T065512Z
UID:10000763-1682247600-1682269200@tik-emmerich.de
SUMMARY:Farbe Form Figur
DESCRIPTION:Irmgard Gille \nAusstellung im Schlösschen Borghees \nDie Ausstellung ist bis zum 18.06.2023 immer sonntags von 11.00 – 17.00 Uhr geöffnet. \nDer Eintritt ist frei.
URL:https://tik-emmerich.de/event/farbe-form-figur/2023-04-23/
LOCATION:Schlösschen Borghees
CATEGORIES:Ausstellung
ATTACH;FMTTYPE=image/jpeg:https://tik-emmerich.de/wp-content/uploads/2023/05/Bild_Imrgard_Gille_April23.jpg
END:VEVENT
END:VCALENDAR