BEGIN:VCALENDAR
VERSION:2.0
PRODID:-//Ticketshop TIK Figuren- und Marionettentheater | Ensemble Schlösschen Borghees - ECPv6.15.20//NONSGML v1.0//EN
CALSCALE:GREGORIAN
METHOD:PUBLISH
X-ORIGINAL-URL:https://tik-emmerich.de
X-WR-CALDESC:Veranstaltungen für Ticketshop TIK Figuren- und Marionettentheater | Ensemble Schlösschen Borghees
REFRESH-INTERVAL;VALUE=DURATION:PT1H
X-Robots-Tag:noindex
X-PUBLISHED-TTL:PT1H
BEGIN:VTIMEZONE
TZID:Europe/Berlin
BEGIN:DAYLIGHT
TZOFFSETFROM:+0100
TZOFFSETTO:+0200
TZNAME:CEST
DTSTART:20210328T010000
END:DAYLIGHT
BEGIN:STANDARD
TZOFFSETFROM:+0200
TZOFFSETTO:+0100
TZNAME:CET
DTSTART:20211031T010000
END:STANDARD
BEGIN:DAYLIGHT
TZOFFSETFROM:+0100
TZOFFSETTO:+0200
TZNAME:CEST
DTSTART:20220327T010000
END:DAYLIGHT
BEGIN:STANDARD
TZOFFSETFROM:+0200
TZOFFSETTO:+0100
TZNAME:CET
DTSTART:20221030T010000
END:STANDARD
BEGIN:DAYLIGHT
TZOFFSETFROM:+0100
TZOFFSETTO:+0200
TZNAME:CEST
DTSTART:20230326T010000
END:DAYLIGHT
BEGIN:STANDARD
TZOFFSETFROM:+0200
TZOFFSETTO:+0100
TZNAME:CET
DTSTART:20231029T010000
END:STANDARD
END:VTIMEZONE
BEGIN:VEVENT
DTSTART;TZID=Europe/Berlin:20220320T160000
DTEND;TZID=Europe/Berlin:20220320T160000
DTSTAMP:20260423T191232
CREATED:20220205T132820Z
LAST-MODIFIED:20220209T162214Z
UID:10000278-1647792000-1647792000@tik-emmerich.de
SUMMARY:Wir sind schon komisch ...
DESCRIPTION:… eine kurze Geschichte der Menschheit \nWas hat die Menschheit angetrieben\, sich immer weiter zu entwickeln? Mächtig zu werden! \nLeider verstehen die\, die eine Epoche selbst erlebt haben\, am allerwenigsten\, warum die Geschichte diese Wandlung nahm.\nDie größte Lücke der Geschichtsschreibung ist die\, dass wir nicht wissen\, welchen Einfluss alles auf das Glück der Menschen hat. Wir haben nach wie vor keine Ahnung\, wohin wir eigentlich wollen und sind so unzufrieden wie eh und je. \nFANTA 10 versucht sich an dem Experiment\, ein bisschen Licht ins Dunkel der Menschengeschichte zu bringen. Wir fliegen mit Hilfe verschiedener „Geschichtsbücher“ durch die Jahrtausende.\nMit dem „Urstein“ fing alles an … aber wo gehen wir hin? \nBegeben Sie sich mit uns auf die kurze Geschichte der Menschheit.\nKeine Angst … es gibt auch etwas zu lachen! \nKartenreservierung (5\,00 € VVK) telefonisch unter 0162-8601612 oder per E-Mail an j.hoymann@web.de \nSpielerinnen und Spieler: \nChristof: Tänzer\, Begleiter durch die Geschichte\, Neandertaler\nCarmen: Tänzerin\, Begleiterin durch die Geschichte\nAndrea: Erzählerin\, Bücherwurm\nRene: Kräuterkundiger (14. Jahrhundert)\, die Menschen glaubten\, er sei ein Hexer\nWalli: Giftschlange (alterslos\, verpeilt und scharf auf den Stein)\nGregor: Drache\, vor 2\,5 Mio Jahren\, Neandertaler\nTamara: Bäuerin\, vor 12.000 Jahren\, Coach Frank im Ring\nThorsten: Bauer\, vor 12.000 Jahren\, Coach von Emma im Ring\nSigrid: Gegenpart zu Rene im 14. Jahrhundert\, Frau eines mächtigen Mannes im Dorf\, die dem „Zauberer“ das Handwerk legen will\, Neandertalerin\nGünter: Anführer Neandertaler\nUlli: Neandertaler\, Mensch in der Zukunft\nGönül: Gegenwart mit Frank\nFrank: Gegenwart\, Gegenspieler zu Gönül\, Schauspieler zu Shakespeares Zeiten\nEmma: Gegnerin von Frank im Boxring\, Frau in der Zukunft\nSandra: Springerin\nEva: Stimme von Gönül
URL:https://tik-emmerich.de/event/wir-sind-schon-komisch-2/
LOCATION:Stadttheater Emmerich\, Grollscher Weg 6\, Emmerich am Rhein\, NRW\, 46446\, Deutschland
CATEGORIES:Theater (Erwachsene)
ATTACH;FMTTYPE=image/jpeg:https://tik-emmerich.de/wp-content/uploads/2022/02/fanta10_menschheit.jpg
ORGANIZER;CN="TIK am Ensemble Schl%C3%B6sschen Borghees":MAILTO:info@tik-emmerich.de
END:VEVENT
BEGIN:VEVENT
DTSTART;TZID=Europe/Berlin:20220319T190000
DTEND;TZID=Europe/Berlin:20220319T190000
DTSTAMP:20260423T191232
CREATED:20220205T132217Z
LAST-MODIFIED:20220209T162345Z
UID:10000277-1647716400-1647716400@tik-emmerich.de
SUMMARY:Wir sind schon komisch ...
DESCRIPTION:… eine kurze Geschichte der Menschheit \nWas hat die Menschheit angetrieben\, sich immer weiter zu entwickeln? Mächtig zu werden! \nLeider verstehen die\, die eine Epoche selbst erlebt haben\, am allerwenigsten\, warum die Geschichte diese Wandlung nahm.\nDie größte Lücke der Geschichtsschreibung ist die\, dass wir nicht wissen\, welchen Einfluss alles auf das Glück der Menschen hat. Wir haben nach wie vor keine Ahnung\, wohin wir eigentlich wollen und sind so unzufrieden wie eh und je. \nFANTA 10 versucht sich an dem Experiment\, ein bisschen Licht ins Dunkel der Menschengeschichte zu bringen. Wir fliegen mit Hilfe verschiedener „Geschichtsbücher“ durch die Jahrtausende.\nMit dem „Urstein“ fing alles an … aber wo gehen wir hin? \nBegeben Sie sich mit uns auf die kurze Geschichte der Menschheit.\nKeine Angst … es gibt auch etwas zu lachen! \nKartenreservierung (5\,00 € VVK) telefonisch unter 0162-8601612 oder per E-Mail an j.hoymann@web.de \nSpielerinnen und Spieler: \nChristof: Tänzer\, Begleiter durch die Geschichte\, Neandertaler\nCarmen: Tänzerin\, Begleiterin durch die Geschichte\nAndrea: Erzählerin\, Bücherwurm\nRene: Kräuterkundiger (14. Jahrhundert)\, die Menschen glaubten\, er sei ein Hexer\nWalli: Giftschlange (alterslos\, verpeilt und scharf auf den Stein)\nGregor: Drache\, vor 2\,5 Mio Jahren\, Neandertaler\nTamara: Bäuerin\, vor 12.000 Jahren\, Coach Frank im Ring\nThorsten: Bauer\, vor 12.000 Jahren\, Coach von Emma im Ring\nSigrid: Gegenpart zu Rene im 14. Jahrhundert\, Frau eines mächtigen Mannes im Dorf\, die dem „Zauberer“ das Handwerk legen will\, Neandertalerin\nGünter: Anführer Neandertaler\nUlli: Neandertaler\, Mensch in der Zukunft\nGönül: Gegenwart mit Frank\nFrank: Gegenwart\, Gegenspieler zu Gönül\, Schauspieler zu Shakespeares Zeiten\nEmma: Gegnerin von Frank im Boxring\, Frau in der Zukunft\nSandra: Springerin\nEva: Stimme von Gönül
URL:https://tik-emmerich.de/event/wir-sind-schon-komisch/
LOCATION:Stadttheater Emmerich\, Grollscher Weg 6\, Emmerich am Rhein\, NRW\, 46446\, Deutschland
CATEGORIES:Theater (Erwachsene)
ATTACH;FMTTYPE=image/jpeg:https://tik-emmerich.de/wp-content/uploads/2022/02/fanta10_menschheit.jpg
ORGANIZER;CN="TIK am Ensemble Schl%C3%B6sschen Borghees":MAILTO:info@tik-emmerich.de
END:VEVENT
END:VCALENDAR